BEGIN:VCALENDAR
VERSION:2.0
PRODID:-//Verband der Restauratoren VDR - ECPv6.15.15//NONSGML v1.0//EN
CALSCALE:GREGORIAN
METHOD:PUBLISH
X-WR-CALNAME:Verband der Restauratoren VDR
X-ORIGINAL-URL:https://www.restauratoren.de
X-WR-CALDESC:Veranstaltungen für Verband der Restauratoren VDR
REFRESH-INTERVAL;VALUE=DURATION:PT1H
X-Robots-Tag:noindex
X-PUBLISHED-TTL:PT1H
BEGIN:VTIMEZONE
TZID:Europe/Paris
BEGIN:DAYLIGHT
TZOFFSETFROM:+0100
TZOFFSETTO:+0200
TZNAME:CEST
DTSTART:20210328T010000
END:DAYLIGHT
BEGIN:STANDARD
TZOFFSETFROM:+0200
TZOFFSETTO:+0100
TZNAME:CET
DTSTART:20211031T010000
END:STANDARD
BEGIN:DAYLIGHT
TZOFFSETFROM:+0100
TZOFFSETTO:+0200
TZNAME:CEST
DTSTART:20220327T010000
END:DAYLIGHT
BEGIN:STANDARD
TZOFFSETFROM:+0200
TZOFFSETTO:+0100
TZNAME:CET
DTSTART:20221030T010000
END:STANDARD
BEGIN:DAYLIGHT
TZOFFSETFROM:+0100
TZOFFSETTO:+0200
TZNAME:CEST
DTSTART:20230326T010000
END:DAYLIGHT
BEGIN:STANDARD
TZOFFSETFROM:+0200
TZOFFSETTO:+0100
TZNAME:CET
DTSTART:20231029T010000
END:STANDARD
END:VTIMEZONE
BEGIN:VTIMEZONE
TZID:UTC
BEGIN:STANDARD
TZOFFSETFROM:+0000
TZOFFSETTO:+0000
TZNAME:UTC
DTSTART:20210101T000000
END:STANDARD
END:VTIMEZONE
BEGIN:VEVENT
DTSTART;VALUE=DATE:20220427
DTEND;VALUE=DATE:20220501
DTSTAMP:20260420T024115
CREATED:20220222T183024Z
LAST-MODIFIED:20220317T114307Z
UID:10001531-1651017600-1651363199@www.restauratoren.de
SUMMARY:Nicht invasiv! Neue Perspektiven in der Erforschung und Restaurierung von Wandmalerei dank digitaler Techniken
DESCRIPTION:Die interdisziplinäre Tagung „Nicht invasiv! Neue Perspektiven in der Erforschung und Restaurierung von Wandmalerei dank digitaler Techniken“ findet statt: vom 27. bis 30. April 2022 in Brandenburg an der Havel. Die HAWK in Hildesheim kooperiert dabei mit dem Brandenburgischen Landesamt für Denkmalpflege und Archäologisches Landesmuseum und mit dem Domstift Brandenburg. Die vortragenden Expert:innen kommen aus den Fachdisziplinen der Konservierung-Restaurierung\, Kunstgeschichte\, Denkmalpflege\, Bauforschung\, Messtechnik/Fotografie und den Naturwissenschaften. \nFragestellung\nNicht invasiv! Diesem Motto folgend\, stellt sich die Frage: Wie können wir zukünftig fragmentarisch erhaltene Wandmalerei und Architekturoberflächen bestmöglich erforschen\, erhalten und präsentieren? Wie können wir dabei materielle Eingriffe in die Originalsubstanz auf ein notwendiges Minimum reduzieren? Welche Möglichkeiten bieten uns hierfür die neuen Techniken\, von den bildgebenden strahlendiagnostischen Untersuchungsmethoden bis zur digitalen Visualisierung und Teilrekonstruktion?\nInhalte\nAm bedeutenden Wandmalereizyklus zu den Wissenschaften und Künsten in der Brandenburger Domklausur gelang es\, das ursprüngliche Aussehen der spätgotischen Malereifragmente digital wieder in großen Teilen sichtbar und verständlich zu machen. Dieses restaurierungswissenschaftliche Projekt wurde von der Deutschen Forschungsgemeinschaft gefördert. Die hierfür entwickelten Methoden und Techniken liefern hilfreiche Instrumente für die zukünftige Praxis der Restaurierung und der Denkmalpflege sowie für die interdisziplinäre Forschung.\nWeitere aktuelle Projekte erweitern die wichtige Diskussion über unser zukünftiges restauratorisches Vorgehen anhand repräsentativer Fallbeispiele\, mit Anwendung verschiedener digitaler Techniken. \nPraxisnah und im interdisziplinären Dialog wollen wir hinterfragen\, inwieweit die neuen digitalen Techniken zu mehr Zurückhaltung bei restauratorischen Maßnahmen am Original führen\, und welche Auswirkungen dies auf die Wertschätzung von Kulturdenkmalen seitens der Eigentümer:innen und Nutzer:innen und der interessierten Öffentlichkeit haben könnte. \nInfos und Anmeldung auf: https://hornemann-institut.hawk.de/de/veranstaltungen/tagungen/nicht-invasiv \nFoto: Wandmalerei in der Domklausur in Brandenburg a. d. H.; Fotos und Visualisierung: HAWK (S. Krause-Riemer)
URL:https://www.restauratoren.de/termin/tagung-nicht-invasiv/
CATEGORIES:Externe Veranstaltung
ATTACH;FMTTYPE=image/jpeg:https://www.restauratoren.de/wp-content/uploads/2022/02/Rankenmalerei_Domklausur_red.jpg
END:VEVENT
BEGIN:VEVENT
DTSTART;VALUE=DATE:20220428
DTEND;VALUE=DATE:20220501
DTSTAMP:20260420T024115
CREATED:20190928T093419Z
LAST-MODIFIED:20220602T195102Z
UID:10001247-1651104000-1651363199@www.restauratoren.de
SUMMARY:Schloss Wörlitz – 20 Jahre Restaurierung des Gründungsbauwerks des deutschen Klassizismus
DESCRIPTION:Der ehemalige Sprecher der VDR Landesgruppe Sachsen-Anhalt\, Robert Hartmann\, plant mit freundlicher Unterstützung der Kulturstiftung Dessau Wörlitz vom 28. bis 30.04.2022 eine Tagung zum Thema „Schloss Wörlitz – 20 Jahre Restaurierung des Gründungsbauwerks des deutschen Klassizismus“.\n\nSchloss Wörlitz ist der Gründungsbau des deutschen Klassizismus. Von den Zeitgenossen wurde es als „Triumph deutscher Baukunst“ bejubelt. Ein Vergleich mit den revolutionären Neuheiten der Bauhausgebäude in Dessau scheint nicht weit hergeholt\, findet sich doch die „Ikone des Klassizismus auf dem Kontinent“ in jedem Standardwerk über deutsche Baugeschichte abgebildet. \nEs mag verwundern\, dass ein solches Bauwerk trotz durchgängiger Wertschätzung auch in der DDR-Zeit schwere Schäden aufwies\, unter anderem Echten Hausschwamm im Dach und den Balkenköpfen der Geschossdecken\, doch waren die Möglichkeiten der Instandhaltung in der zweiten Hälfte des 20. Jahrhunderts sehr beschränkt. \nMit Mitteln der Europäischen Union\, der Bundesrepublik Deutschland und des Landes Sachsen-Anhalt wurde die Inkunabel des deutschen Klassizismus in den letzten 20 Jahren restauriert. Zahlreiche restauratorische Disziplinen leisteten ihren Teil zur Restaurierung der Gebäudehülle und des in außerordentlich großem Maße noch vorhandenen originalen Interieurs: Architekten und Denkmalpfleger\, Handwerksfirmen und Diplomrestauratoren aus den Bereichen Wandmalerei\, Stuck-\, Möbel-\, Polster-\, Textil-\, Gemälde- sowie Papierrestaurierung. \nDie spannenden Ergebnisse der einzelnen Sparten vorzustellen ist Ziel der Tagung. \nLesen Sie auch das Interview im VDR-Restauratorenblog mit Annette Scholtka\, der Leiterin der Abteilung Baudenkmalpflege in der Kulturstiftung Dessau-Wörlitz: „Die Restaurierung einer Stilikone“. \nInfo:\nAus Vorsorge gegen die Ausbreitung des Coronavirus und zum Schutz aller Beteiligten wurde die Tagung verschoben. Der ursprüngliche Termin wäre vom 23.-25.04.2020 gewesen.\n	Tagungsbroschüre \nDas Tagungsbroschüre mit Programm finden Sie als PDF zum Download. \n	Anmeldung und Preise \nAnmeldeschluss: 10. April 2022 \nDie Teilnehmerzahl ist auf max. 114 Personen begrenzt.\n(insgesamt mit Referent:innen und Organisator:innen 150 Personen)\nMit Absenden der Online-Anmeldung ist Ihre Anmeldung verbindlich. Sie erhalten eine automatisierte Anmeldebestätigung an die von Ihnen angegebene E-Mail-Adresse. Die Bestätigung enthält die Zahlungsaufforderung der Veranstaltungsgebühren\, Ihre Anmeldedaten sowie weitere Informationen. Sollten Sie innerhalb von 24 Stunden keine E-Mail erhalten\, kontaktieren Sie uns bitte unter veranstaltungen[at]restauratoren.de \n	Frühbucher bis 13.03.2022 \n145 € VDR-Mitglied*\n145 € Mitglied* (ÖRV\, SKR oder VRKS-ARCA)\n180 € Nicht-Mitglied\n  60 € VDR-Mitglied in Ausbildung**\n  60 € Mitglied in Ausbildung** (ÖRV\, SKR oder VRKS-ARCA)\n  90 € Nicht-Mitglied in Ausbildung**\n	Normaltarif 14.03. bis 10.04.2022 \n175 € VDR-Mitglied*\n175 € Mitglied* (ÖRV\, SKR oder VRKS-ARCA)\n205 € Nicht-Mitglied\n  90 € VDR-Mitglied in Ausbildung**\n  90 € Mitglied in Ausbildung** (ÖRV\, SKR oder VRKS-ARCA)\n120 € Nicht-Mitglied in Ausbildung**\n	Tagesticket bis 10.04.2022\n(Tagesticket wählbar für den\n28. o. 29.04. – begrenzt)\n90 € VDR-Mitglied*\n90 € Mitglied* (ÖRV\, SKR oder VRKS-ARCA)\n110 € Nicht-Mitglied\n  35 € VDR-Mitglied in Ausbildung**\n  35 € Mitglied in Ausbildung** (ÖRV\, SKR oder VRKS-ARCA)\n  55 € Nicht-Mitglied in Ausbildung**\n	* Korrespondierende Mitglieder und Fördermitglieder können durch jeweils 1 Person auf Veranstaltungen vertreten werden. \n** Praktikanten\, Studierende im Bereich der Konservierung-Restaurierung\, Denkmalpflege o. ä. \n\nDie Verpflegung in den Kaffeepausen und in der Mittagspause ist in der Veranstaltungsgebühr enthalten.\nWir führen unsere Veranstaltung nach dem 3G-Modell durch. Das heißt\, ein Zutritt zur Veranstaltung ist nur gestattet\, wenn Sie bei Zutritt zur Veranstaltung einen wirksamen digitalen Nachweis darüber erbringen\, dass Sie genesen sind oder einen vollständigen Impfschutz oder einen tagesaktuellen zertifizierten SARS-CoV-2 Antigentest (kein Selbsttest) besitzen. \nWir informieren Sie noch ein letztes Mal rechtzeitig kurz vor Beginn der Veranstaltung über die aktuelle Regelung. \n	\n				Zur Veranstaltungsanmeldung\n			\n		Nutzen Sie das Angebot und nehmen zum günstigeren Mitgliedertarif teil!\n			\n							Tagung-Special\n					\n	Veranstaltungsort \nGasthof Zum Eichenkranz\nAngergasse 104\n06785 Oranienbaum Wörlitz / OT Wörlitz\n(Gebäude der Gesellschaft der Freunde des Dessau-Wörlitzer Gartenreichs e. V.) \nPlan der Wörlitzer Anlagen\nKarte des Gartenreichs Dessau-Wörlitz\n	Unterkunft \nWir haben Zimmerkontingente in zwei Hotels für den Zeitraum vom 28.-30.04.2022 reserviert. Die Zimmer können unter dem\nStichwort „VDR-Tagung“ abgerufen werden.\n	Hotel „Landhaus Wörlitzer Hof“ \nWörlitzer Markt 96\n06785 Oranienbaum-Wörlitz\nTel. +49 34905 4110\ninfo@woerlitzer-hof.de\nwww.woerlitzer-hof.de\n92 € Doppelzimmer (pro Tag)\n70 € Einzelzimmer\ninkl. Frühstücksbuffet \nDie Zimmer sind bis 28.02.2022 abrufbar. \n	Hotel „Zum Stein“ \nErdmannsdorffstr. 228\n06785 Oranienbaum-Wörlitz\nTel. +49 034905 500\ninfo@hotel-zum-stein.de\nwww.hotel-zum-stein.de\n110 € Doppelzimmer\n77 € Einzelzimmer\ninkl. Frühstücksbuffet\, Benutzung der Römischen Bade- und Saunalandschaft mit Laconium\, Tepidarium\, Caledarium\, Finnische Trockensauna und Erlebnisdusche\, kostenfreie Benutzung des Hotelparkplatzes \nDie Zimmer sind bis 13.03.2022 abrufbar. \n	Gasthaus „Zum Hausenden Schwein“ \nErdmannsdorffstr. 69\n06785 Oranienbaum-Wörlitz\, OT Wörlitz\nTel. +49 34905 30190\nlaassralf@aol.com\nwww.zumhausendenschwein.de\n88 € Doppelzimmer\n78 € Einzelzimmer\ninkl. Frühstücksbuffet \nKontingent gültig bis 11.03.2020 \n	Kontakt \nBei Fragen melden Sie sich bitte beim Veranstaltungsteam der VDR Geschäftsstelle unter veranstaltungen[at]restauratoren.de oder unter der Telefonnummer +49 228 926897-13 (Julia Kun\, Mo-Mi) oder -14 (Henrike Steinweg\, Do-Fr). \n	Gefördert durch \n \n  \n	Partner \n             \n  \n	Bildnachweis \n© Kulturstiftung Dessau Wörlitz\, Heinz Fräßdorf
URL:https://www.restauratoren.de/termin/schloss-woerlitz-20-jahre-restaurierung-des-gruendungsbauwerks-des-deutschen-klassizismus/
LOCATION:Tagung Schloss Wörlitz\, Angergasse 104 (Gasthof zum Eichenkranz)\, Oranienbaum Wörlitz\, 06785\, Deutschland
CATEGORIES:Save the Date,VDR-Veranstaltung
ATTACH;FMTTYPE=image/png:https://www.restauratoren.de/wp-content/uploads/2019/09/Titelbild-Website.png
END:VEVENT
BEGIN:VEVENT
DTSTART;VALUE=DATE:20220429
DTEND;VALUE=DATE:20220501
DTSTAMP:20260420T024115
CREATED:20220408T113713Z
LAST-MODIFIED:20220408T113713Z
UID:10001546-1651190400-1651363199@www.restauratoren.de
SUMMARY:Kolloquium "Special Colours 2"
DESCRIPTION:Am 29 und 30. April 2022 veranstaltet das Wissensforum Farbe-Licht an der HfBK Dreaden sein zweites Kolloquium\, diesmal zu den Themen „farbige Produkte“ und „Potentiale des Lichts“. \nSpecial Colours 2 nimmt zum einen Verfahren und Arbeitsweisen in den Blick\, mit denen farbige Produkte hergestellt oder aber Produkte gefärbt werden können. Zum anderen geht es um die Potentiale des Lichts für die farbige Inszenierung innerhalb des Stadtraums\, im Film und auf der Bühne. \nAm ersten Tag des Kolloquiums (Freitag\, 29. April) werden spezielle Druckverfahren thematisiert: ein nachhaltiges Verfahren zur Metallisierung von Druckerzeugnissen\, z. B. Verpackungen; eine hinsichtlich Nachhaltigkeit optimierte Computer to Plate Technologie; eine hochwertige Buchproduktion über Farbpigmente und Farbstoffe in einem 10-Farben-Druck; das 3D-Druckverfahren für das Entwerfen\, die Modellphase und die Fertigung von vorzugsweise dreidimensionalen Kunstwerken. \nAm zweiten Tag (Samstag\, 30. April) steht das farbige Licht im Zentrum. Vorgestellt wird zum einen\, speziell für die ehemalige DDR\, die Hochzeit der vielfarbigen Gasentladungslampen\, die sog. Neonröhren\, als lichttechnisches Mittel der Werbung für spezielle Orte – Kinos\, Theater – und Produkte. Sodann wird die Frage gestellt\, wie sich derzeit im Zuge der Digitalisierung das Verhältnis und die Präsenz von Oberflächenfarben zu Lichtfarben in der Ästhetik der Filmbilder verändert. Der aktuelle Wandel der Lichttechnologie steht auch im Zentrum des Gesprächs über die Lichtgestaltung für die Bühne. Wie erweitern die digitalen Leuchten die gestalterischen Möglichkeiten für den Lichtgestalter\, lösen sie die analoge Lichttechnik ab oder ist diese trotz allem unverzichtbar? \nWeitere Informationen\, Programm und Anmeldung
URL:https://www.restauratoren.de/termin/kolloquium-special-colours-2/
CATEGORIES:Externe Veranstaltung
END:VEVENT
BEGIN:VEVENT
DTSTART;VALUE=DATE:20220430
DTEND;VALUE=DATE:20220501
DTSTAMP:20260420T024115
CREATED:20220408T103803Z
LAST-MODIFIED:20220408T103803Z
UID:10001540-1651276800-1651363199@www.restauratoren.de
SUMMARY:Call for ideas: Educational projects in restoration
DESCRIPTION:CALL FOR IDEAS 2022 \nIl Prato Formazione is delighted to invite Students\, Undergraduates\, Graduates\, Scholars\, Researchers\, Professionals in the Material and Immaterial\, Cultural and Artistic Heritage to present educational projects in the fields of restoration\, conservation and enhancement of cultural heritage. \nThis CALL FOR IDEAS is born with the desire to find new voices and give space to the new generation of Professionals\, to allow them to express their ideas offering a stage to share possibilities of update\, in depth study\, confrontation and development of a field in which we’ve always been highly engaged in the past. \nWe wish to widen the educational offer of Il Prato Formazione with new conferences\, workshops and courses that would represent the opportunity for ongoing educational training. \nThe Authors could send an IDEA on which to structure a conference\, workshop\, course\, roundtable\, a moment of in-depth study; if selected\, they will become CURATORS of the event and of the potential publishing material. \nTo participate with contribution\, it is essential to send an abstract before the 30th of April 2022 at formazione@ilprato.com \nThe abstract will have to be presented in Italian or English\, following the rules outlined in the file named ABSTRACT TEMPLATE that can be downloaded at the link \nhttps://ilprato.com/call-for-ideas-2022/ \nWe kindly ask to send the abstract in a .doc format\, named as the leading author surname and name. \nThe selected authors will be contacted before the 1st of June 2022 and will be asked to present the full project before the 1st of September 2022 (during this phase\, drafting rules will be provided). \nDEADLINES: \n– Abstract presentation: 30 April 2022 \n– Selection notification: 1 June 2022 \n– Full project presentation: 1 September 2022
URL:https://www.restauratoren.de/termin/call-for-ideas-educational-projects-in-restoration/
CATEGORIES:Call for Papers,Externe Veranstaltung
END:VEVENT
BEGIN:VEVENT
DTSTART;TZID=Europe/Paris:20220430T130000
DTEND;TZID=Europe/Paris:20220430T180000
DTSTAMP:20260420T024115
CREATED:20220324T171137Z
LAST-MODIFIED:20220324T171137Z
UID:10001537-1651323600-1651341600@www.restauratoren.de
SUMMARY:Besichtigung des Herrenhauses der Fürstlichen Domäne zu Wörlitz
DESCRIPTION:Zeit: 30. April 2022 zwischen 13 Uhr und 18 Uhr\nOrt: Herrenhaus der Fürstlichen Domäne zu Wörlitz\, Erdmannsdorffstraße 204c\nKontakt: Sven Kielgas (sven(at)kielgas.com) und Falk Morten v. Oeynhausen\nIn Ergänzung des Programms der diesjährigen VDR-Tagung „Schloss Wörlitz – 20 Jahre Restaurierung des Gründungsbauwerks des deutschen Klassizismus“ gibt es als besonderes „Schmankerl“ die Möglichkeit zur Besichtigung des Herrenhauses der Fürstlichen Domäne. Dieses Kleinod palladianischer Architektur im Dessau-Wörlitzer Gartenreich befindet sich im Privateigentum. Von Erdmannsdorff für Fürst Franz 1783-87 erbaut war es neben dem Englischen Landhaus (vulgo: Schloß) und seinem Frühklassizismus der zweite\, wichtige Grund dafür\, dass schon die Zeitgenossen ins Gartenreich pilgerten. Denn von hier aus konnte Fürst Franz seinen oft hochmögenden Gästen die revolutionär neue Landwirtschaft nach englischem Vorbild präsentieren. \n  \nEingeführt hatte diese Methoden sein „Agrarminister“ Georg Friedrich (von) Raumer\, der im Herrenhaus arbeitete\, das somit zu einem „Innovation Hub“ des 18. Jahrhunderts wurde. Das faszinierendste an diesem Objekt ist\, dass fast alle wandfesten Ausstattungselemente wie Böden\, Geländer\, Türen\, Stuckprofile und -decken sowie Farbfassungen im Original noch vorhanden oder nachweisbar sind. Deshalb ist fester Plan der Eigentümer\, bei diesem Juwel die bauzeitliche Originalfassung wieder herauszuschälen. Vom Belvedere aus erlebt man zudem den atemberaubenden Sichtfächer\, unter anderem zu Vulkan\, Villa Hamilton\, Pantheon und Limesturm. \n  \nDer Bauherr und sein Lebensgefährte restaurieren gerade nach anderthalb Jahren penibler Bauforschung seit 2018 dieses Stück vom UNESCO Welterbe und gehen dabei unkonventionell von innen nach außen vor. Zuerst fertig geworden ist das über fünf Etagen bis in die Laterne ragende\, spektakuläre Treppenhaus\, mit dem Erdmannsdorff alle seine eigenen\, verwandten Treppenbauwerke in Effizienz und Finesse schlug – diejenigen im Englischen Landhaus eingeschlossen. \n  \nTeilnehmer:innen der VDR-Tagung bietet sich nun die einmalige Gelegenheit\, dieses Treppenhaus zu besichtigen\, und zwar am Sonnabend\, den 30. April zwischen 13 Uhr und 18 Uhr. Da der Platz naturgemäß beengt ist\, werden wir alle 15 Minuten in Gruppen à 12 Teilnehmer dieses Erlebnis genießen. Voranmeldungen deshalb bitte unbedingt unter sven(at)kielgas.com. \nZum Weiterlesen: Artikel „Eine andere Welt“ von Sandra Prechtel im COFAD Magazin 2019 (pdf)
URL:https://www.restauratoren.de/termin/besichtigung-des-herrenhauses-der-fuerstlichen-domaene-zu-woerlitz/
CATEGORIES:Externe Veranstaltung
ATTACH;FMTTYPE=:
END:VEVENT
END:VCALENDAR