BEGIN:VCALENDAR
VERSION:2.0
PRODID:-//Verband der Restauratoren VDR - ECPv6.15.15//NONSGML v1.0//EN
CALSCALE:GREGORIAN
METHOD:PUBLISH
X-ORIGINAL-URL:https://www.restauratoren.de
X-WR-CALDESC:Veranstaltungen für Verband der Restauratoren VDR
REFRESH-INTERVAL;VALUE=DURATION:PT1H
X-Robots-Tag:noindex
X-PUBLISHED-TTL:PT1H
BEGIN:VTIMEZONE
TZID:Europe/Paris
BEGIN:DAYLIGHT
TZOFFSETFROM:+0100
TZOFFSETTO:+0200
TZNAME:CEST
DTSTART:20210328T010000
END:DAYLIGHT
BEGIN:STANDARD
TZOFFSETFROM:+0200
TZOFFSETTO:+0100
TZNAME:CET
DTSTART:20211031T010000
END:STANDARD
BEGIN:DAYLIGHT
TZOFFSETFROM:+0100
TZOFFSETTO:+0200
TZNAME:CEST
DTSTART:20220327T010000
END:DAYLIGHT
BEGIN:STANDARD
TZOFFSETFROM:+0200
TZOFFSETTO:+0100
TZNAME:CET
DTSTART:20221030T010000
END:STANDARD
BEGIN:DAYLIGHT
TZOFFSETFROM:+0100
TZOFFSETTO:+0200
TZNAME:CEST
DTSTART:20230326T010000
END:DAYLIGHT
BEGIN:STANDARD
TZOFFSETFROM:+0200
TZOFFSETTO:+0100
TZNAME:CET
DTSTART:20231029T010000
END:STANDARD
END:VTIMEZONE
BEGIN:VTIMEZONE
TZID:Europe/Helsinki
BEGIN:DAYLIGHT
TZOFFSETFROM:+0200
TZOFFSETTO:+0300
TZNAME:EEST
DTSTART:20210328T010000
END:DAYLIGHT
BEGIN:STANDARD
TZOFFSETFROM:+0300
TZOFFSETTO:+0200
TZNAME:EET
DTSTART:20211031T010000
END:STANDARD
BEGIN:DAYLIGHT
TZOFFSETFROM:+0200
TZOFFSETTO:+0300
TZNAME:EEST
DTSTART:20220327T010000
END:DAYLIGHT
BEGIN:STANDARD
TZOFFSETFROM:+0300
TZOFFSETTO:+0200
TZNAME:EET
DTSTART:20221030T010000
END:STANDARD
BEGIN:DAYLIGHT
TZOFFSETFROM:+0200
TZOFFSETTO:+0300
TZNAME:EEST
DTSTART:20230326T010000
END:DAYLIGHT
BEGIN:STANDARD
TZOFFSETFROM:+0300
TZOFFSETTO:+0200
TZNAME:EET
DTSTART:20231029T010000
END:STANDARD
END:VTIMEZONE
BEGIN:VEVENT
DTSTART;TZID=Europe/Paris:20220512T173000
DTEND;TZID=Europe/Paris:20220512T183000
DTSTAMP:20260425T032846
CREATED:20220429T091921Z
LAST-MODIFIED:20220429T091921Z
UID:10001558-1652376600-1652380200@www.restauratoren.de
SUMMARY:Lecture: Caring for Living Heritage\, Oral Tradition and Indigenous Knowledge
DESCRIPTION:Caring for Living Heritage\, Oral Tradition and Indigenous Knowledge. A Conversation with Brandie Macdonald  \nMay 12th\, 17.30 hrs. (online) \nIntroduction and moderation by Hanna B. Hölling and Emilie Magnin\, in collaboration with SNSF Performance team members Jules Pelta Feldman and Valerian Maly. There will be a possibility to engage with the speaker in the Q&A.\nWhat does it take to care for living heritage and indigenous knowledge? What does it mean to conserve oral tradition or spiritual performance? Brandie Macdonald\, the senior Director of Decolonializing Initiatives\, Chickasaw Nation/Choctaw Nation at the San Diego Museum of Us\, will discuss these and related questions with the research team behind the SNSF research project Performance: Conservation\, Materiality\, Knowledge. \nFor further information
URL:https://www.restauratoren.de/termin/lecture-caring-for-living-heritage-oral-tradition-and-indigenous-knowledge/
CATEGORIES:Externe Veranstaltung
END:VEVENT
BEGIN:VEVENT
DTSTART;TZID=Europe/Helsinki:20220512T180000
DTEND;TZID=Europe/Helsinki:20220512T193000
DTSTAMP:20260425T032846
CREATED:20211221T153542Z
LAST-MODIFIED:20220409T135328Z
UID:10001514-1652378400-1652383800@www.restauratoren.de
SUMMARY:Online-Vortrag: Restaurierung der Welte-Kinoorgel
DESCRIPTION:Seit 1988 bietet Technoseum Mannheim im Rahmen des Restaurierungskolloquiums ein Podium für aktuelle Fragen an\, das sich mit dem Themenfeld der Erhaltung und Bewahrung von Kunst- und Kulturgut beschäftigt. \n\n\nAufgrund der aktuellen Lage\, bedingt durch die Corona-Pandemie\, werden die Vorträge digital über die Plattform Cisco webex durchgeführt und sobald es wieder möglich ist\, soll eine Präsenzveranstaltung angeboten werden. \n\n\nEine Einwahl ist über die Webseite des TECHNOSEUM möglich: www.technoseum.de   \n\n\nBeginn: 18:00 Uhr \nAm 12.05.2022 spricht Sina Hildebrandt von der Fachstätte für Historische Musikautomaten in Kraichtal über die „Restaurierung der Welte-Kinoorgel des TECHNOSEUM Mannheim“. \n  \nDie Welte-Kinoorgel wurde 1929 von der Fa. M. Welte & Söhne in Freiburg gebaut. Sie war in einem Filmtheater in St. Gallen im Einsatz zur Begleitung von Stummfilmen. Mittels eines Rollen-Abspiel-Automaten kann man zudem kurze Musikstücke mit gestanzten Notenrollen abspielen. Die Kinoorgel wurde 1982 vom TECHNOSEUM erworben\, restauriert und 1990 während der Bauphase des Museums im Auditorium eingebaut. \nNach rund 30 Jahren wurde die Kinoorgel nun grundlegend von der Fachstätte historischer Musikautomaten aus Kraichtal restauriert\, was durch die großzügige Förderung des Freundeskreises TECHNOSEUM\, der Rudolf-August Oetker-Stiftung und der Wüstenrot Stiftung erst ermöglicht wurde. \nSina Hildebrand berichtet im Rahmen ihres Vortrags in Wort\, Bild und Tönen über die umfangreichen Restaurierungsmaßnahmen.
URL:https://www.restauratoren.de/termin/online-vortrag-restaurierung-der-welte-kinoorgel/
CATEGORIES:Externe Veranstaltung
END:VEVENT
END:VCALENDAR