BEGIN:VCALENDAR
VERSION:2.0
PRODID:-//Verband der Restauratoren VDR - ECPv6.15.15//NONSGML v1.0//EN
CALSCALE:GREGORIAN
METHOD:PUBLISH
X-WR-CALNAME:Verband der Restauratoren VDR
X-ORIGINAL-URL:https://www.restauratoren.de
X-WR-CALDESC:Veranstaltungen für Verband der Restauratoren VDR
REFRESH-INTERVAL;VALUE=DURATION:PT1H
X-Robots-Tag:noindex
X-PUBLISHED-TTL:PT1H
BEGIN:VTIMEZONE
TZID:Europe/Paris
BEGIN:DAYLIGHT
TZOFFSETFROM:+0100
TZOFFSETTO:+0200
TZNAME:CEST
DTSTART:20210328T010000
END:DAYLIGHT
BEGIN:STANDARD
TZOFFSETFROM:+0200
TZOFFSETTO:+0100
TZNAME:CET
DTSTART:20211031T010000
END:STANDARD
BEGIN:DAYLIGHT
TZOFFSETFROM:+0100
TZOFFSETTO:+0200
TZNAME:CEST
DTSTART:20220327T010000
END:DAYLIGHT
BEGIN:STANDARD
TZOFFSETFROM:+0200
TZOFFSETTO:+0100
TZNAME:CET
DTSTART:20221030T010000
END:STANDARD
BEGIN:DAYLIGHT
TZOFFSETFROM:+0100
TZOFFSETTO:+0200
TZNAME:CEST
DTSTART:20230326T010000
END:DAYLIGHT
BEGIN:STANDARD
TZOFFSETFROM:+0200
TZOFFSETTO:+0100
TZNAME:CET
DTSTART:20231029T010000
END:STANDARD
END:VTIMEZONE
BEGIN:VEVENT
DTSTART;TZID=Europe/Paris:20220610T140000
DTEND;TZID=Europe/Paris:20220610T180000
DTSTAMP:20260420T215529
CREATED:20220531T105328Z
LAST-MODIFIED:20220531T105328Z
UID:10001569-1654869600-1654884000@www.restauratoren.de
SUMMARY:Kolloquium zum Lohmener Altar von Heinrich Göding d.Ä.
DESCRIPTION:Zum Abschluss der Kabinettausstellung „Hofkunst für die Sächsische Schweiz. Der Lohmener Altar von Heinrich Göding d. Ä.“ findet am Freitag\, den 10. Juni 2022 ein Kolloquium statt\, zu dem ich Sie im Namen der Rüstkammer der Staatlichen Kunstsammlungen Dresden herzlich ins Residenzschloss einlade. \nAuf eine rege Teilnahme freuen wir uns und danken Ihnen\, wenn Sie in Ihren Kreisen weitere Interessierte auf die Veranstaltung hinweisen.\nDr. Marius Winzeler\nDirektor Grünes Gewölbe und Rüstkammer Dresden \nDer Eintritt ist frei\, Ihre Anmeldung wird erbeten an: christine.nagel(at)skd.museum \n  \nAbschlusskolloquium der Sonderausstellung\n10.06.2022\, 14-18 Uhr / Residenzschloss Dresden – Hans Nadler-Saal \nProgramm\n14:00 Begrüßung und Einführung / Dr. Marius Winzeler\, Rüstkammer und Grünes Gewölbe Lohmen und der Altar von Heinrich Göding d. A. / Pfr. Michael Schleinitz\, Lohmen \n14:30 Heinrich Göding d. A. – Leben und Werk eines vielseitigen Künstlers / Prof. Dr. Angelica Dülberg\, Dresden \n15:30 Vorstellung des Lohmener Altars\, seiner Restaurierung und seines Kontextes – Studiolo und Gewehrgalerie / Dipl.-Rest. Volker Dietzel\, Dresden – Dr. Christine Nagel\, Rüstkammer Dipl.-Rest. Franziska Wosnitza\, Dresden \n16:30 Zur Verwendung von Smalte an Kunstwerken in Sachsen / Dipl.-Rest. Torsten Nimoth Landesamt für Denkmalpflege Sachsen\, Dresden \nAusblick und moderierte Anschlussdiskussion
URL:https://www.restauratoren.de/termin/kolloquium-zum-lohmener-altar-von-heinrich-goeding-d-ae/
CATEGORIES:Externe Veranstaltung
END:VEVENT
END:VCALENDAR