BEGIN:VCALENDAR
VERSION:2.0
PRODID:-//Verband der Restauratoren VDR - ECPv6.15.15//NONSGML v1.0//EN
CALSCALE:GREGORIAN
METHOD:PUBLISH
X-ORIGINAL-URL:https://www.restauratoren.de
X-WR-CALDESC:Veranstaltungen für Verband der Restauratoren VDR
REFRESH-INTERVAL;VALUE=DURATION:PT1H
X-Robots-Tag:noindex
X-PUBLISHED-TTL:PT1H
BEGIN:VTIMEZONE
TZID:Europe/Paris
BEGIN:DAYLIGHT
TZOFFSETFROM:+0100
TZOFFSETTO:+0200
TZNAME:CEST
DTSTART:20210328T010000
END:DAYLIGHT
BEGIN:STANDARD
TZOFFSETFROM:+0200
TZOFFSETTO:+0100
TZNAME:CET
DTSTART:20211031T010000
END:STANDARD
BEGIN:DAYLIGHT
TZOFFSETFROM:+0100
TZOFFSETTO:+0200
TZNAME:CEST
DTSTART:20220327T010000
END:DAYLIGHT
BEGIN:STANDARD
TZOFFSETFROM:+0200
TZOFFSETTO:+0100
TZNAME:CET
DTSTART:20221030T010000
END:STANDARD
BEGIN:DAYLIGHT
TZOFFSETFROM:+0100
TZOFFSETTO:+0200
TZNAME:CEST
DTSTART:20230326T010000
END:DAYLIGHT
BEGIN:STANDARD
TZOFFSETFROM:+0200
TZOFFSETTO:+0100
TZNAME:CET
DTSTART:20231029T010000
END:STANDARD
END:VTIMEZONE
BEGIN:VEVENT
DTSTART;VALUE=DATE:20221001
DTEND;VALUE=DATE:20221002
DTSTAMP:20260425T234936
CREATED:20220711T152812Z
LAST-MODIFIED:20220926T081450Z
UID:10001583-1664582400-1664668799@www.restauratoren.de
SUMMARY:11. VDR Online-Studierendenkolloquium 2022 – StuKo
DESCRIPTION:Die IG RiA (Restauratoren in Ausbildung) vom VDR lädt am 01.10.2022 herzlich zum 11. VDR Studierendenkolloquium ein\, welches erneut online stattfinden wird.\n\nEingeladen sind alle angehenden Restaurator:innen\, ob Studierende oder Vorpraktikant:innen\, wir freuen uns über jedes Kommen. \nWie immer können Studierende ihre Abschluss- oder Semesterprojekte in Form von Vorträgen oder Plakaten vorstellen. \nWie im letzten Jahr möchten wir die Vorträge von Studierenden mit Vorträgen von Spezialist:innen in Bezug auf unterschiedliche berufspolitischen Themen ergänzen. Trotz Online-Format möchten wir den Austausch fördern\, indem wir am Samstag ein Online-Kneipenquiz veranstalten werden. \nAm Sonntag wird außerdem das alljährliche Interessengruppentreffen stattfinden\, bei dem wir von unserer aktuellen Arbeit berichten werden\, bei dem ihr Fragen stellen sowie eure Wünsche und Anmerkungen an uns richten könnt. \nSchon für das nächste Jahr vormerken: Wir hoffen im nächsten Jahr wieder in Präsenz planen zu können. \n	Termine \n01.10.2022\nKolloquium und Interessengruppentreffen\n	Call for Papers \nEinsendeschluss für Abstracts: 11. September 2022\n\nFeedback vom Orga-Team: bis 18. September 2022 \nNutzen Sie bitte für Ihre Beiträge das Abstract-Formular und senden es per E-Mail an VDRstudierendenkolloquium[at]gmx.de. \nHinweis: Bitte das Formular zuerst speichern\, dann kann es direkt am Bildschirm ausgefüllt werden. \n	Programm \nDas Programm finden Sie hier als PDF. \n	Anmeldung \nAnmeldeschluss: 25. September 2022 \nDie Teilnahme ist kostenlos und für alle Praktikant:innen und Studierenden im Bereich der Konservierung/ Restaurierung. \nMit Absenden der Online-Anmeldung ist Ihre Anmeldung verbindlich. Sie erhalten eine automatisierte Anmeldebestätigung an die von Ihnen angegebene E-Mail-Adresse. Die Bestätigung enthält Ihre Anmeldedaten sowie weitere Informationen. Sollten Sie innerhalb von 24 Stunden keine E-Mail erhalten\, kontaktieren Sie uns bitte unter veranstaltungen[at]restauratoren.de \n		Nutzen Sie das Angebot!\n			\n							StuKo-Special\n					\n	\n				Zur Veranstaltungsanmeldung\n			\n	Hinweise \nDas StuKo findet online via Zoom statt. Die Zugangsdaten versenden wir ca. 1 Tag vor Beginn der Veranstaltung per E-Mail. \n	Kontakt \nBei Fragen und Anmerkungen zum StuKo melden Sie sich bitte beim Orga-Team unter VDRstudierendenkolloquium[at]gmx.de. \n	Bildnachweis \nFoto: Maria Grishina
URL:https://www.restauratoren.de/termin/11-vdr-studierendenkolloquium-2022-online-stuko/
LOCATION:online
CATEGORIES:IG RiA,VDR-Veranstaltung
ATTACH;FMTTYPE=image/jpeg:https://www.restauratoren.de/wp-content/uploads/2022/07/Titelbild_11.-StuKo_2022_©Maria-Grishina.jpg
ORGANIZER;CN="Verband der Restaurator%3Ainnen (VDR) e. V.":MAILTO:veranstaltungen@restauratoren.de
END:VEVENT
END:VCALENDAR