BEGIN:VCALENDAR
VERSION:2.0
PRODID:-//Verband der Restauratoren VDR - ECPv6.15.15//NONSGML v1.0//EN
CALSCALE:GREGORIAN
METHOD:PUBLISH
X-ORIGINAL-URL:https://www.restauratoren.de
X-WR-CALDESC:Veranstaltungen für Verband der Restauratoren VDR
REFRESH-INTERVAL;VALUE=DURATION:PT1H
X-Robots-Tag:noindex
X-PUBLISHED-TTL:PT1H
BEGIN:VTIMEZONE
TZID:Europe/Paris
BEGIN:DAYLIGHT
TZOFFSETFROM:+0100
TZOFFSETTO:+0200
TZNAME:CEST
DTSTART:20210328T010000
END:DAYLIGHT
BEGIN:STANDARD
TZOFFSETFROM:+0200
TZOFFSETTO:+0100
TZNAME:CET
DTSTART:20211031T010000
END:STANDARD
BEGIN:DAYLIGHT
TZOFFSETFROM:+0100
TZOFFSETTO:+0200
TZNAME:CEST
DTSTART:20220327T010000
END:DAYLIGHT
BEGIN:STANDARD
TZOFFSETFROM:+0200
TZOFFSETTO:+0100
TZNAME:CET
DTSTART:20221030T010000
END:STANDARD
BEGIN:DAYLIGHT
TZOFFSETFROM:+0100
TZOFFSETTO:+0200
TZNAME:CEST
DTSTART:20230326T010000
END:DAYLIGHT
BEGIN:STANDARD
TZOFFSETFROM:+0200
TZOFFSETTO:+0100
TZNAME:CET
DTSTART:20231029T010000
END:STANDARD
END:VTIMEZONE
BEGIN:VEVENT
DTSTART;VALUE=DATE:20221017
DTEND;VALUE=DATE:20221020
DTSTAMP:20260425T154322
CREATED:20220821T101340Z
LAST-MODIFIED:20220821T101340Z
UID:10001591-1665964800-1666223999@www.restauratoren.de
SUMMARY:Plastics Heritage Congress 2022
DESCRIPTION:Unter der Ägide der „Plastics Heritage European Association“ PHEA (Europäische Vereinigung für Kunststoff-Kulturerbe) veranstaltet die Plart Stiftung\, Neapel\, zusammen mit der Schule für Restaurierung an der Akademie der Schönen Künste Neapel den \nPLASTICS HERITAGE CONGRESS 2022\, PHC 22. \nPHC 22 ist der 6. Kongress in Folge über Themen der Geschichte und der Konservierung/ Restaurierung unseres Kunststoff-Kulturerbes. Innovativ und interdisziplinär\, umfasst dieser Bereich experimentelle und kontextuale Themen\, sowie historische\, künstlerische\, Konservierungs-/Restaurierungs-\, technologische\, sozio-ökonomische und -ökologische Aspekte der Gruppe polymerer Materialien\, die die Geschichte von Wissenschaft und Technik\, die alltäglichen Bedürfnisse bis hin zu High-Tech-Erzeugnissen der menschlichen Gesellschaft tief geprägt haben. Heute sind sie umfassenden Umweltdebatten unterworfen. \nDeren Gegenstand sind zahlreiche historische polymere Materialien\, aber auch die sich daraus entwickelnden moderneren halb- und vollsynthetischen Kunststoffe. \nUnter ihnen finden sich Werke in Kunst\, Design und Architektur\, aber auch Objekte des Alltags und der industriellen Technik (z. B. Verkehr\, Maschinenbau\,) bzw. der Hochtechnologie (z. B. Sport\, Medizin\, Raumfahrt)\, alles in allem eine sehr vielfältige Menge von Produkten unseres kulturellen Erbes und der heutigen Materialkultur. \nDie erfolgreiche Konservierung/Restaurierung von zahllosen Objekten aus polymeren Materialien in vielen internationalen Museen entscheidet\, ob und wie wir dieses Erbe der Nachwelt überliefern\, aber auch wie die Nachwelt diese Hinterlassenschaft aufnimmt und damit umgeht. \nDer Plastics Heritage Congress PHC 22 in Neapel bietet das bekannte\, internationale Vortrags- und Diskussionsforum für die Geschichte\, Erfassung\, Dokumentation\, Bewahrung und Kommunikation des Kulturerbes historischer polymerer Materialien. \nDie Veranstaltungen findet in der Akademie der Schönen Künste\, Neapel\, Schule für die Restaurierung Moderner Materialien\, statt. \nDie Konferenzsprache ist Englisch.  \nRegistrierung: 16. September 2022 \nWeitere Informationen
URL:https://www.restauratoren.de/termin/plastics-heritage-congress-2022/
CATEGORIES:Externe Veranstaltung
END:VEVENT
END:VCALENDAR