BEGIN:VCALENDAR
VERSION:2.0
PRODID:-//Verband der Restauratoren VDR - ECPv6.15.15//NONSGML v1.0//EN
CALSCALE:GREGORIAN
METHOD:PUBLISH
X-WR-CALNAME:Verband der Restauratoren VDR
X-ORIGINAL-URL:https://www.restauratoren.de
X-WR-CALDESC:Veranstaltungen für Verband der Restauratoren VDR
REFRESH-INTERVAL;VALUE=DURATION:PT1H
X-Robots-Tag:noindex
X-PUBLISHED-TTL:PT1H
BEGIN:VTIMEZONE
TZID:Europe/Paris
BEGIN:DAYLIGHT
TZOFFSETFROM:+0100
TZOFFSETTO:+0200
TZNAME:CEST
DTSTART:20220327T010000
END:DAYLIGHT
BEGIN:STANDARD
TZOFFSETFROM:+0200
TZOFFSETTO:+0100
TZNAME:CET
DTSTART:20221030T010000
END:STANDARD
BEGIN:DAYLIGHT
TZOFFSETFROM:+0100
TZOFFSETTO:+0200
TZNAME:CEST
DTSTART:20230326T010000
END:DAYLIGHT
BEGIN:STANDARD
TZOFFSETFROM:+0200
TZOFFSETTO:+0100
TZNAME:CET
DTSTART:20231029T010000
END:STANDARD
BEGIN:DAYLIGHT
TZOFFSETFROM:+0100
TZOFFSETTO:+0200
TZNAME:CEST
DTSTART:20240331T010000
END:DAYLIGHT
BEGIN:STANDARD
TZOFFSETFROM:+0200
TZOFFSETTO:+0100
TZNAME:CET
DTSTART:20241027T010000
END:STANDARD
END:VTIMEZONE
BEGIN:VEVENT
DTSTART;TZID=Europe/Paris:20230214T180000
DTEND;TZID=Europe/Paris:20230214T190000
DTSTAMP:20260424T211821
CREATED:20230203T151837Z
LAST-MODIFIED:20230203T151837Z
UID:10001678-1676397600-1676401200@www.restauratoren.de
SUMMARY:Vortrag: Von sauberen Schlössern und staubfreiem Kunstgut
DESCRIPTION:In der Reihe der Gastvorträge im Studiengang Konservierung und Restaurierung an der FH Potsdam sprechen am 14.02.2023 um 18 Uhr Verena Simons\, Maxi Herborn und Katrin Kaminski zum Thema „Von sauberen Schlössern und staubfreiem Kunstgut. Stete Sorgfalt – steter Staub“. \nRestauratorinnen der Kunstgutreinigung berichten von ihrer Arbeit in den Schlössern der Stiftung Preußische Schlösser und Gärten. \nWeitere Informationen
URL:https://www.restauratoren.de/termin/vortrag-von-sauberen-schloessern-und-staubfreiem-kunstgut/
CATEGORIES:Externe Veranstaltung
END:VEVENT
END:VCALENDAR