BEGIN:VCALENDAR
VERSION:2.0
PRODID:-//Verband der Restauratoren VDR - ECPv6.15.15//NONSGML v1.0//EN
CALSCALE:GREGORIAN
METHOD:PUBLISH
X-ORIGINAL-URL:https://www.restauratoren.de
X-WR-CALDESC:Veranstaltungen für Verband der Restauratoren VDR
REFRESH-INTERVAL;VALUE=DURATION:PT1H
X-Robots-Tag:noindex
X-PUBLISHED-TTL:PT1H
BEGIN:VTIMEZONE
TZID:Europe/Paris
BEGIN:DAYLIGHT
TZOFFSETFROM:+0100
TZOFFSETTO:+0200
TZNAME:CEST
DTSTART:20220327T010000
END:DAYLIGHT
BEGIN:STANDARD
TZOFFSETFROM:+0200
TZOFFSETTO:+0100
TZNAME:CET
DTSTART:20221030T010000
END:STANDARD
BEGIN:DAYLIGHT
TZOFFSETFROM:+0100
TZOFFSETTO:+0200
TZNAME:CEST
DTSTART:20230326T010000
END:DAYLIGHT
BEGIN:STANDARD
TZOFFSETFROM:+0200
TZOFFSETTO:+0100
TZNAME:CET
DTSTART:20231029T010000
END:STANDARD
BEGIN:DAYLIGHT
TZOFFSETFROM:+0100
TZOFFSETTO:+0200
TZNAME:CEST
DTSTART:20240331T010000
END:DAYLIGHT
BEGIN:STANDARD
TZOFFSETFROM:+0200
TZOFFSETTO:+0100
TZNAME:CET
DTSTART:20241027T010000
END:STANDARD
END:VTIMEZONE
BEGIN:VEVENT
DTSTART;TZID=Europe/Paris:20230323T150000
DTEND;TZID=Europe/Paris:20230323T163000
DTSTAMP:20260425T032813
CREATED:20230228T101544Z
LAST-MODIFIED:20230228T101545Z
UID:10001689-1679583600-1679589000@www.restauratoren.de
SUMMARY:Vortrag: Das Salz der Erde - die Restaurierung der Hallenser Wachstafelbücher
DESCRIPTION:Die digitale „Weiterbildungsreihe Bestandserhaltung“ wurde 2020 an der Technischen Universität/Universitäts- und Landesbibliothek Darmstadt ins Leben gerufen\, um Wissen zur Bestandserhaltung von Archiv-\, Bibliotheks- und Museumsgut zu teilen und trotz der damaligen Unmöglichkeit von präsenten Treffen das Netzwerken von Restaurator:innen\, Bibliothekar:innen\, Archivar:innen und anderen interessierten Berufsgruppen zu fördern. \nWir freuen uns sehr\, dass wir nun schon im vierten Jahr die „Weiterbildungsreihe Bestandserhaltung“ durch Paperminz Bestandserhaltung in Kooperation mit dem VDR und insbesondere der Fachgruppe Grafik\, Archiv und Bibliotheksgut fortführen. Sie sind herzlich eingeladen\, an diesen Veranstaltungen kostenfrei teilzunehmen: \n\n23.03.2023 15:00 – 16:30 Uhr \n„Das Salz der Erde – Die Restaurierung der Hallenser Wachstafelbücher – ein Werkstattbericht über eine archivische Seltenheit“ \nZoomMeeting \nReferent: Fabian Feicke\, Buchbinder Paperminz Bestandserhaltung Leipzig \nLink zur Anmeldung
URL:https://www.restauratoren.de/termin/vortrag-das-salz-der-erde-die-restaurierung-der-hallenser-wachstafelbuecher/
CATEGORIES:VDR-Partnerveranstaltung
END:VEVENT
END:VCALENDAR