BEGIN:VCALENDAR
VERSION:2.0
PRODID:-//Verband der Restauratoren VDR - ECPv6.15.15//NONSGML v1.0//EN
CALSCALE:GREGORIAN
METHOD:PUBLISH
X-ORIGINAL-URL:https://www.restauratoren.de
X-WR-CALDESC:Veranstaltungen für Verband der Restauratoren VDR
REFRESH-INTERVAL;VALUE=DURATION:PT1H
X-Robots-Tag:noindex
X-PUBLISHED-TTL:PT1H
BEGIN:VTIMEZONE
TZID:Europe/Paris
BEGIN:DAYLIGHT
TZOFFSETFROM:+0100
TZOFFSETTO:+0200
TZNAME:CEST
DTSTART:20220327T010000
END:DAYLIGHT
BEGIN:STANDARD
TZOFFSETFROM:+0200
TZOFFSETTO:+0100
TZNAME:CET
DTSTART:20221030T010000
END:STANDARD
BEGIN:DAYLIGHT
TZOFFSETFROM:+0100
TZOFFSETTO:+0200
TZNAME:CEST
DTSTART:20230326T010000
END:DAYLIGHT
BEGIN:STANDARD
TZOFFSETFROM:+0200
TZOFFSETTO:+0100
TZNAME:CET
DTSTART:20231029T010000
END:STANDARD
BEGIN:DAYLIGHT
TZOFFSETFROM:+0100
TZOFFSETTO:+0200
TZNAME:CEST
DTSTART:20240331T010000
END:DAYLIGHT
BEGIN:STANDARD
TZOFFSETFROM:+0200
TZOFFSETTO:+0100
TZNAME:CET
DTSTART:20241027T010000
END:STANDARD
END:VTIMEZONE
BEGIN:VEVENT
DTSTART;VALUE=DATE:20230510
DTEND;VALUE=DATE:20230512
DTSTAMP:20260421T231344
CREATED:20230509T101748Z
LAST-MODIFIED:20230509T101748Z
UID:10001736-1683676800-1683849599@www.restauratoren.de
SUMMARY:From Conservation to Conversation – Rethinking Collections Care
DESCRIPTION:Vom 10. bis 11. Mai 2023 sind Kolleg:innen der Partnermuseen\, die im Rahmen der Initiative für ethnologische Sammlungen der Kulturstiftung des Bundes gefördert wurden\, zu Gast im MARKK\, Museum am Rothenbaum Hamburg.\nDarunter die Projekte Re:inventing Grassi Leipzig\, LindenLab Stuttgart und MARKK in Motion Hamburg. Es finden öffentliche Werkstattgespräche sowie die Vorstellung der Publikation „From Conservation to Conversation“ statt. \nDie Buchvorstellung „From Coservation to Conversation – Rethinking Collections Care“ findet im Zwischenraum statt. \nWeitere Informationen und Programm
URL:https://www.restauratoren.de/termin/from-conservation-to-conversation-rethinking-collections-care/
CATEGORIES:Externe Veranstaltung
END:VEVENT
BEGIN:VEVENT
DTSTART;TZID=Europe/Paris:20230511T150000
DTEND;TZID=Europe/Paris:20230511T163000
DTSTAMP:20260421T231344
CREATED:20230228T102315Z
LAST-MODIFIED:20230228T102337Z
UID:10001691-1683817200-1683822600@www.restauratoren.de
SUMMARY:Vortrag: Grüner wird's doch - Kupferfraßbehandlung an einer Handschrift aus dem Stadtarchiv Torgau
DESCRIPTION:Die digitale „Weiterbildungsreihe Bestandserhaltung“ wurde 2020 an der Technischen Universität/Universitäts- und Landesbibliothek Darmstadt ins Leben gerufen\, um Wissen zur Bestandserhaltung von Archiv-\, Bibliotheks- und Museumsgut zu teilen und trotz der damaligen Unmöglichkeit von präsenten Treffen das Netzwerken von Restaurator:innen\, Bibliothekar:innen\, Archivar:innen und anderen interessierten Berufsgruppen zu fördern. \n\nWir freuen uns sehr\, dass wir nun schon im vierten Jahr die „Weiterbildungsreihe Bestandserhaltung“ durch Paperminz Bestandserhaltung in Kooperation mit dem VDR und insbesondere der Fachgruppe Grafik\, Archiv und Bibliotheksgut fortführen. Sie sind herzlich eingeladen\, an diesen Veranstaltungen kostenfrei teilzunehmen. \n11.05.2023 15:00 – 16:30 Uhr \n„Grüner wird’s doch – Kupferfraßbehandlung an einer Handschrift aus dem Stadtarchiv Torgau – ein Werkstattgespräch“ \nZoomMeeting \nReferentinnen: Restauratorin M.A. Ulrike Förster\, Förster Restaurierung Leipzig/ UB Leipzig und Restauratorin M.A. Sophie Philipp\, Kunstmuseum Moritzburg und freiberuflich in Halle \nLink zur Anmeldung
URL:https://www.restauratoren.de/termin/vortrag-gruener-wirds-doch-kupferfrassbehandlung-an-einer-handschrift-aus-dem-stadtarchiv-torgau/
CATEGORIES:VDR-Partnerveranstaltung
END:VEVENT
BEGIN:VEVENT
DTSTART;TZID=Europe/Paris:20230511T180000
DTEND;TZID=Europe/Paris:20230511T193000
DTSTAMP:20260421T231344
CREATED:20230428T095940Z
LAST-MODIFIED:20230428T100246Z
UID:10001732-1683828000-1683833400@www.restauratoren.de
SUMMARY:Vortrag: Eine Brandgeschichte anhand eines Keramikreliefs
DESCRIPTION:Der Arbeitskreis der leitenden Restaurator*innen der Staatlichen Museen zu Berlin hat eine Vortragsreihe ins Leben gerufen\, in der Restaurator*innen unterschiedlicher Fachrichtungen Einblicke in aktuelle Restaurierungs- und Forschungsprojekte gewähren. Die Vorträge und Gespräche wenden sich nicht nur an Fachkolleg*innen\, sondern an alle\, die sich für Restaurierung und Kunsttechnologie interessieren. \nAm 11.05.2023 spricht Kerstin Stoll über „Eine Brandgeschichte anhand eines Keramikreliefs Madonna della Porta aus der Werkstatt Della Robbia\, 1. Hälfte 16. Jahrhundert“. \nDer Vortrag beginnt um 18 Uhr\, ist kostenfrei und findet hybrid sowohl im Bode-Museum in Berlin als auch online statt.\nWeitere Informationen und Zugangsdaten
URL:https://www.restauratoren.de/termin/vortrag-eine-brandgeschichte-anhand-eines-keramikreliefs/
CATEGORIES:Externe Veranstaltung
END:VEVENT
END:VCALENDAR