BEGIN:VCALENDAR
VERSION:2.0
PRODID:-//Verband der Restauratoren VDR - ECPv6.15.15//NONSGML v1.0//EN
CALSCALE:GREGORIAN
METHOD:PUBLISH
X-ORIGINAL-URL:https://www.restauratoren.de
X-WR-CALDESC:Veranstaltungen für Verband der Restauratoren VDR
REFRESH-INTERVAL;VALUE=DURATION:PT1H
X-Robots-Tag:noindex
X-PUBLISHED-TTL:PT1H
BEGIN:VTIMEZONE
TZID:Europe/Paris
BEGIN:DAYLIGHT
TZOFFSETFROM:+0100
TZOFFSETTO:+0200
TZNAME:CEST
DTSTART:20220327T010000
END:DAYLIGHT
BEGIN:STANDARD
TZOFFSETFROM:+0200
TZOFFSETTO:+0100
TZNAME:CET
DTSTART:20221030T010000
END:STANDARD
BEGIN:DAYLIGHT
TZOFFSETFROM:+0100
TZOFFSETTO:+0200
TZNAME:CEST
DTSTART:20230326T010000
END:DAYLIGHT
BEGIN:STANDARD
TZOFFSETFROM:+0200
TZOFFSETTO:+0100
TZNAME:CET
DTSTART:20231029T010000
END:STANDARD
BEGIN:DAYLIGHT
TZOFFSETFROM:+0100
TZOFFSETTO:+0200
TZNAME:CEST
DTSTART:20240331T010000
END:DAYLIGHT
BEGIN:STANDARD
TZOFFSETFROM:+0200
TZOFFSETTO:+0100
TZNAME:CET
DTSTART:20241027T010000
END:STANDARD
END:VTIMEZONE
BEGIN:VEVENT
DTSTART;VALUE=DATE:20230616
DTEND;VALUE=DATE:20230617
DTSTAMP:20260419T141813
CREATED:20230430T110629Z
LAST-MODIFIED:20230430T110629Z
UID:10001733-1686873600-1686959999@www.restauratoren.de
SUMMARY:Galvanoplastische Nachbildungen von Goldschmiedekunst
DESCRIPTION:Elektrisierend! Galvanoplastische Nachbildungen von Goldschmiedekunst\nInterdisziplinäre Fachtagung zur Sonderausstellung des Kunstgewerbemuseums \nDatum: Freitag 16.06.2023 8:30 – 18:00 \nOrt: Kunstgewerbemuseum\, Schloss Köpenick\, Berlin \nTagungsgebühren: werden nicht erhoben \nAnmeldung: kgm(at)smb.spk-berlin.de (bis zum 6.6.2023) \n\nWeitere Informationen unter: \nhttps://www.smb.museum/en/events/detail/elektrisierend-galvanoplastische-nachbildungen-von-goldschmiedekunst-2023-06-16-083000-130452/
URL:https://www.restauratoren.de/termin/galvanoplastische-nachbildungen-von-goldschmiedekunst/
CATEGORIES:Externe Veranstaltung
END:VEVENT
END:VCALENDAR