BEGIN:VCALENDAR
VERSION:2.0
PRODID:-//Verband der Restauratoren VDR - ECPv6.15.15//NONSGML v1.0//EN
CALSCALE:GREGORIAN
METHOD:PUBLISH
X-WR-CALNAME:Verband der Restauratoren VDR
X-ORIGINAL-URL:https://www.restauratoren.de
X-WR-CALDESC:Veranstaltungen für Verband der Restauratoren VDR
REFRESH-INTERVAL;VALUE=DURATION:PT1H
X-Robots-Tag:noindex
X-PUBLISHED-TTL:PT1H
BEGIN:VTIMEZONE
TZID:Europe/Paris
BEGIN:DAYLIGHT
TZOFFSETFROM:+0100
TZOFFSETTO:+0200
TZNAME:CEST
DTSTART:20220327T010000
END:DAYLIGHT
BEGIN:STANDARD
TZOFFSETFROM:+0200
TZOFFSETTO:+0100
TZNAME:CET
DTSTART:20221030T010000
END:STANDARD
BEGIN:DAYLIGHT
TZOFFSETFROM:+0100
TZOFFSETTO:+0200
TZNAME:CEST
DTSTART:20230326T010000
END:DAYLIGHT
BEGIN:STANDARD
TZOFFSETFROM:+0200
TZOFFSETTO:+0100
TZNAME:CET
DTSTART:20231029T010000
END:STANDARD
BEGIN:DAYLIGHT
TZOFFSETFROM:+0100
TZOFFSETTO:+0200
TZNAME:CEST
DTSTART:20240331T010000
END:DAYLIGHT
BEGIN:STANDARD
TZOFFSETFROM:+0200
TZOFFSETTO:+0100
TZNAME:CET
DTSTART:20241027T010000
END:STANDARD
END:VTIMEZONE
BEGIN:VEVENT
DTSTART;TZID=Europe/Paris:20230719T200000
DTEND;TZID=Europe/Paris:20230719T210000
DTSTAMP:20260424T120201
CREATED:20230705T090250Z
LAST-MODIFIED:20230705T090250Z
UID:10001747-1689796800-1689800400@www.restauratoren.de
SUMMARY:Vortrag: Die Rolle der Feuerwehr im Kulturgutschutz
DESCRIPTION:Vortragsreihe: Spotlight KulturGutSchutz\n\nDie Deutsche Gesellschaft für Kulturgutschutz e.V. richtet zusammen mit Blue Shield Deutschland e.V. die monatlich stattfindende Online-Vortragsreihe „Spotlight KulturGutSchutz“ aus. Experten*innen aus dem In- und Ausland werden in ihren Vorträgen unterschiedliche Schwerpunkte des Kulturgutschutzes adressieren. \nAktuelle und vergangene Vorträge finden Sie auf dieser Homepage sowie auf der Seite von Blue Shield Deutschland. Eine Anmeldung ist nicht erforderlich. \n\n\nMittwoch\, der 19. Juli 2023\, 20:00h MEZ \n\n\n\n\nFrank Peters\, Thomas Linzbach\, Berufsfeuerwehr Köln / 371/11 Einsatzplanung; Nadine Thiel\, Historisches Archiv der Stadt Köln / 44/6 Sachgebietsleitung Bestandserhaltung \n\n\n\n\nDie Rolle der Feuerwehr im Kulturgutschutz. Ein Überblick aus Sicht der Feuerwehr \nIm Vortrag werden die Grundlagen der Einsatztätigkeit einer Feuerwehr mit den entsprechenden rechtlichen Grenzen dargestellt. Es wird über die Möglichkeiten der Unterstützung der Feuerwehr im Bereich Kulturgutschutz informiert als auch über bereits erfolgreiche Beispiele der Zusammenarbeit. Weiterhin werden Visionen aufgezeigt\, wie eine zukünftige Verbesserung der Zusammenarbeit mit den Gefahrenabwehrbehörden durch gute Planunterlagen und Notfallpläne erreicht werden kann. Zum Schluss wird kurz der AB Kulturgutschutz des Kölner Notfallverbundes vorgestellt. \nWeitere Informationen und Anmelde-Link
URL:https://www.restauratoren.de/termin/vortrag-die-rolle-der-feuerwehr-im-kulturgutschutz/
CATEGORIES:Externe Veranstaltung
END:VEVENT
END:VCALENDAR