BEGIN:VCALENDAR
VERSION:2.0
PRODID:-//Verband der Restauratoren VDR - ECPv6.15.15//NONSGML v1.0//EN
CALSCALE:GREGORIAN
METHOD:PUBLISH
X-WR-CALNAME:Verband der Restauratoren VDR
X-ORIGINAL-URL:https://www.restauratoren.de
X-WR-CALDESC:Veranstaltungen für Verband der Restauratoren VDR
REFRESH-INTERVAL;VALUE=DURATION:PT1H
X-Robots-Tag:noindex
X-PUBLISHED-TTL:PT1H
BEGIN:VTIMEZONE
TZID:Europe/Paris
BEGIN:DAYLIGHT
TZOFFSETFROM:+0100
TZOFFSETTO:+0200
TZNAME:CEST
DTSTART:20220327T010000
END:DAYLIGHT
BEGIN:STANDARD
TZOFFSETFROM:+0200
TZOFFSETTO:+0100
TZNAME:CET
DTSTART:20221030T010000
END:STANDARD
BEGIN:DAYLIGHT
TZOFFSETFROM:+0100
TZOFFSETTO:+0200
TZNAME:CEST
DTSTART:20230326T010000
END:DAYLIGHT
BEGIN:STANDARD
TZOFFSETFROM:+0200
TZOFFSETTO:+0100
TZNAME:CET
DTSTART:20231029T010000
END:STANDARD
BEGIN:DAYLIGHT
TZOFFSETFROM:+0100
TZOFFSETTO:+0200
TZNAME:CEST
DTSTART:20240331T010000
END:DAYLIGHT
BEGIN:STANDARD
TZOFFSETFROM:+0200
TZOFFSETTO:+0100
TZNAME:CET
DTSTART:20241027T010000
END:STANDARD
END:VTIMEZONE
BEGIN:VEVENT
DTSTART;VALUE=DATE:20230903
DTEND;VALUE=DATE:20230904
DTSTAMP:20260425T142502
CREATED:20230829T085508Z
LAST-MODIFIED:20230829T085508Z
UID:10001773-1693699200-1693785599@www.restauratoren.de
SUMMARY:Konservierungsmaßnahmen am Flügelaltar in Burkersdorf
DESCRIPTION:Liebe Kollegen\, liebe Kolleginnen\, \nseitens der HfBK führen wir aktuell eine Sommerschule mit Studierenden am Flügelaltar der Dorfkirche Burkersdorf bei Frauenstein im Erzgebirge durch. Ziel sind Untersuchung sowie erste konservatorisch dringend notwendige Maßnahmen an diesem (fast) unverändert überkommenen Retabel der 1490er Jahre. \nMit Unterstützung durch LEADER und den Kirchenbezirk Freiberg konnten für etliche Kirchen der Region neue und ansprechende Kirchenführer gestaltet werden. Am 03.09.2023 werden diese offiziell vorgestellt. Wir laden dazu gemeinsam mit der Kirchgemeinde zum Tag der offenen Tür ein nach Burkersdorf ein und werden etwas zur Geschichte des Altares\, den aktuellen Maßnahmen sowie zu ersten Forschungsergebnissen vorstellen. Zugleich bieten wir die Möglichkeit sich mittels Infrarottechnologie den Aufbau der Malerei an den Tafelgemälden näher anzusehen (Gemälde und Kastenflügel sind derzeit demontiert und sind voraussichtlich nicht so schnell wieder von nahem zu sehen. \nFührungen finden dazu jeweils um 10\, 12 und 14 Uhr statt. Die Kirchgemeinde hat eine kleine Ausstellung im Kirchenraum vorbereitet und es besteht auch die Möglichkeit Dach und Glocken zu besichtigen. \nhttps://www.instagram.com/p/CwdYAg8oNr7/?igshid=MWZjMTM2ODFkZg== \nhttps://m.facebook.com/story.php?story_fbid=pfbid02eKCzzd81ecfHLLCDNRacWDsuuU8WDrvgN5RwDv1XyXtJA5XyGUC4W1JyB1L9nokul&id=100069897916993 \nMit herzlichen Grüßen\nTino Simon \nWissenschaftlicher Mitarbeiter Forschungsprojekt spätmittelalterliche Kunst in der Montanregion Erzgebirge\nHochschule für Bildende Künste Dresden
URL:https://www.restauratoren.de/termin/konservierungsmassnahmen-am-fluegelaltar-in-burkersdorf/
CATEGORIES:Externe Veranstaltung
END:VEVENT
END:VCALENDAR