BEGIN:VCALENDAR
VERSION:2.0
PRODID:-//Verband der Restauratoren VDR - ECPv6.15.15//NONSGML v1.0//EN
CALSCALE:GREGORIAN
METHOD:PUBLISH
X-WR-CALNAME:Verband der Restauratoren VDR
X-ORIGINAL-URL:https://www.restauratoren.de
X-WR-CALDESC:Veranstaltungen für Verband der Restauratoren VDR
REFRESH-INTERVAL;VALUE=DURATION:PT1H
X-Robots-Tag:noindex
X-PUBLISHED-TTL:PT1H
BEGIN:VTIMEZONE
TZID:Europe/Paris
BEGIN:DAYLIGHT
TZOFFSETFROM:+0100
TZOFFSETTO:+0200
TZNAME:CEST
DTSTART:20220327T010000
END:DAYLIGHT
BEGIN:STANDARD
TZOFFSETFROM:+0200
TZOFFSETTO:+0100
TZNAME:CET
DTSTART:20221030T010000
END:STANDARD
BEGIN:DAYLIGHT
TZOFFSETFROM:+0100
TZOFFSETTO:+0200
TZNAME:CEST
DTSTART:20230326T010000
END:DAYLIGHT
BEGIN:STANDARD
TZOFFSETFROM:+0200
TZOFFSETTO:+0100
TZNAME:CET
DTSTART:20231029T010000
END:STANDARD
BEGIN:DAYLIGHT
TZOFFSETFROM:+0100
TZOFFSETTO:+0200
TZNAME:CEST
DTSTART:20240331T010000
END:DAYLIGHT
BEGIN:STANDARD
TZOFFSETFROM:+0200
TZOFFSETTO:+0100
TZNAME:CET
DTSTART:20241027T010000
END:STANDARD
END:VTIMEZONE
BEGIN:VEVENT
DTSTART;VALUE=DATE:20230923
DTEND;VALUE=DATE:20230924
DTSTAMP:20260425T142506
CREATED:20230109T161259Z
LAST-MODIFIED:20230201T150908Z
UID:10001653-1695427200-1695513599@www.restauratoren.de
SUMMARY:Restaurierung und Sanierung der Klosterkirche in Zinna
DESCRIPTION:Der diesjährige Tag der Restaurierung und Denkmalpflege\, der gemeinsam von der Brandenburgischen Ingenieurkammer (BBIK)\, der FH Potsdam (FHP) und dem Verband der Restauratoren (VDR) ausgerichtet wird\, befasst sich mit der Restaurierung und Sanierung der Klosterkirche in Zinna. \n\n\n\n\nEs werden Vorträge zu Untersuchungen und Bemusterungen im Vorfeld der Restaurierung\, zur Konzeptfindung sowie zur Umsetzung des Konzeptes gehalten. Dabei werden sowohl restauratorische Themen wie z.B. die Apsismalerei und der Altar\, aber auch ingenieurtechnische Themen wie die Sanierung des Dachstuhls besprochen. Begleitend ist eine Begehung der Klosterkirche vorgesehen. \n\n\n\n\nTermin: 23. September 2023\, 09:30 bis 17:00 Uhr\, Jüterborg OT Kloster Zinna\nKosten: 40 EUR Mitglieder der BBIK (umsatzsteuerfrei)\n60 EUR Nichtmitglieder (umsatzsteuerfrei) \nVeranstaltungsort:\nHotel Alte Försterei Kloster Zinna\nKönig-Friedrich-Platz 7\n14913 Jüterbog OT Kloster Zinna \nAnmeldung und weitere Informationen:\nhttps://kurzelinks.de/Restaurierung2023
URL:https://www.restauratoren.de/termin/tagung-restaurierung-und-sanierung-der-klosterkirche-in-zinna/
CATEGORIES:VDR-Partnerveranstaltung
END:VEVENT
END:VCALENDAR