BEGIN:VCALENDAR
VERSION:2.0
PRODID:-//Verband der Restauratoren VDR - ECPv6.15.15//NONSGML v1.0//EN
CALSCALE:GREGORIAN
METHOD:PUBLISH
X-ORIGINAL-URL:https://www.restauratoren.de
X-WR-CALDESC:Veranstaltungen für Verband der Restauratoren VDR
REFRESH-INTERVAL;VALUE=DURATION:PT1H
X-Robots-Tag:noindex
X-PUBLISHED-TTL:PT1H
BEGIN:VTIMEZONE
TZID:Europe/Paris
BEGIN:DAYLIGHT
TZOFFSETFROM:+0100
TZOFFSETTO:+0200
TZNAME:CEST
DTSTART:20220327T010000
END:DAYLIGHT
BEGIN:STANDARD
TZOFFSETFROM:+0200
TZOFFSETTO:+0100
TZNAME:CET
DTSTART:20221030T010000
END:STANDARD
BEGIN:DAYLIGHT
TZOFFSETFROM:+0100
TZOFFSETTO:+0200
TZNAME:CEST
DTSTART:20230326T010000
END:DAYLIGHT
BEGIN:STANDARD
TZOFFSETFROM:+0200
TZOFFSETTO:+0100
TZNAME:CET
DTSTART:20231029T010000
END:STANDARD
BEGIN:DAYLIGHT
TZOFFSETFROM:+0100
TZOFFSETTO:+0200
TZNAME:CEST
DTSTART:20240331T010000
END:DAYLIGHT
BEGIN:STANDARD
TZOFFSETFROM:+0200
TZOFFSETTO:+0100
TZNAME:CET
DTSTART:20241027T010000
END:STANDARD
END:VTIMEZONE
BEGIN:VEVENT
DTSTART;TZID=Europe/Paris:20231130T160000
DTEND;TZID=Europe/Paris:20231130T170000
DTSTAMP:20260423T123748
CREATED:20231118T082404Z
LAST-MODIFIED:20231118T082404Z
UID:10001802-1701360000-1701363600@www.restauratoren.de
SUMMARY:Diplompräsentation
DESCRIPTION:Einladung zur Diplompräsentation von Frau Cäcilia Seidel. \nZeit: Donnerstag\, 30. November 2023\, 16:00 Uhr\nOrt: Hochschule für Bildende Künste Dresden\, Güntzstr. 34\, 01307 Dresden\, Hörsaal 222 \nzum Thema: \nUntersuchung\, Konservierung und Restaurierung des Stuckreliefs „Madonna Alberti“ (Inv.nr. ZV 1193) aus der Skulpturensammlung der Staatlichen Kunstsammlungen Dresden \nReferent: Prof. Dr. Andreas Schulze\nKorreferentin: Dipl.-Rest. Stephanie Exner
URL:https://www.restauratoren.de/termin/diplompraesentation/
CATEGORIES:Externe Veranstaltung
END:VEVENT
BEGIN:VEVENT
DTSTART;TZID=Europe/Paris:20231130T180000
DTEND;TZID=Europe/Paris:20231130T193000
DTSTAMP:20260423T123748
CREATED:20231113T191348Z
LAST-MODIFIED:20231113T191348Z
UID:10001788-1701367200-1701372600@www.restauratoren.de
SUMMARY:Vortrag über Dan Flavins Lichtinstallationen am Hamburger Bahnhof
DESCRIPTION:Vortrag: On // OFF. Dan Flavins Lichtinstallationen am Hamburger Bahnhof – Nationalgalerie der Gegenwart \n\nTermin:\nDo 30.11.2023 18:00 Uhr – 19:30 Uhr\nOrt:\nHamburger Bahnhof – Nationalgalerie der Gegenwart\nAngebot:\nExpert*innengespräch / Erwachsene\nAnmeldung:\nnicht erforderlich\n\n\nDie ikonische Lichtinstallation von Dan Flavin (1933 – 1996) an der Hauptfassade und im Innenbereich des Hamburger Bahnhofs – Nationalgalerie der Gegenwart ist zu einem Wahrzeichen von Berlin geworden. \nDie ortsspezifische Installation entwarf der amerikanische Künstler kurz vor seinem Tod anlässlich der Eröffnung des Hamburger Bahnhofs 1996. Die grünen und blauen Leuchtstofflampen in verschiedenen Ausprägungen und deren Vorschaltgeräte verfügen nur über eine begrenzte Lebensdauer\, so dass ein Austausch gegen einen funktionstüchtigen Ersatz regelmäßig erforderlich ist. Mit der obsoleten Technik und der Vielzahl an Komponenten ergeben sich für das Team des HBF Herausforderungen in Bezug auf Pflege\, Instandhaltung und Konservierung. \nWie lässt sich die Wartung dieser vielteiligen\, raumgreifenden Installation organisieren und nachvollziehbar dokumentieren?\nWelche (externen) Expert:innen braucht es\, um das Werk dauerhaft werkgerecht instand zu halten?\nWelche Rolle spielt dabei die Intention des Künstlers und des Estate? \n  \nReferentinnen\nDr. Carolin Bohlmann\, Andrea Sartorius \nOnline via Webex \nLink zur Veranstaltung \nBenutzen Sie den Link zum Zeitpunkt der Veranstaltung.\nZugang und Teilnahme kostenfrei. \n\nDer Arbeitskreis der leitenden Restaurator*innen der Staatlichen Museen zu Berlin hat eine Vortragsreihe ins Leben gerufen\, in der Restaurator*innen unterschiedlicher Fachrichtungen Einblicke in aktuelle Restaurierungs- und Forschungsprojekte gewähren. Die Vorträge und Gespräche wenden sich nicht nur an Fachkolleg*innen\, sondern an alle\, die sich für Restaurierung und Kunsttechnologie interessieren. \nDie Vorträge finden als Live-Online-Veranstaltung über die Cisco Webex Meeting Plattform statt\, gelegentlich auch in hybrider Form in einem der Vortragsräume der Staatlichen Museen.
URL:https://www.restauratoren.de/termin/vortrag-ueber-dan-flavins-lichtinstallationen-am-hamburger-bahnhof/
CATEGORIES:Externe Veranstaltung
END:VEVENT
END:VCALENDAR