BEGIN:VCALENDAR
VERSION:2.0
PRODID:-//Verband der Restauratoren VDR - ECPv6.15.15//NONSGML v1.0//EN
CALSCALE:GREGORIAN
METHOD:PUBLISH
X-WR-CALNAME:Verband der Restauratoren VDR
X-ORIGINAL-URL:https://www.restauratoren.de
X-WR-CALDESC:Veranstaltungen für Verband der Restauratoren VDR
REFRESH-INTERVAL;VALUE=DURATION:PT1H
X-Robots-Tag:noindex
X-PUBLISHED-TTL:PT1H
BEGIN:VTIMEZONE
TZID:Europe/Paris
BEGIN:DAYLIGHT
TZOFFSETFROM:+0100
TZOFFSETTO:+0200
TZNAME:CEST
DTSTART:20220327T010000
END:DAYLIGHT
BEGIN:STANDARD
TZOFFSETFROM:+0200
TZOFFSETTO:+0100
TZNAME:CET
DTSTART:20221030T010000
END:STANDARD
BEGIN:DAYLIGHT
TZOFFSETFROM:+0100
TZOFFSETTO:+0200
TZNAME:CEST
DTSTART:20230326T010000
END:DAYLIGHT
BEGIN:STANDARD
TZOFFSETFROM:+0200
TZOFFSETTO:+0100
TZNAME:CET
DTSTART:20231029T010000
END:STANDARD
BEGIN:DAYLIGHT
TZOFFSETFROM:+0100
TZOFFSETTO:+0200
TZNAME:CEST
DTSTART:20240331T010000
END:DAYLIGHT
BEGIN:STANDARD
TZOFFSETFROM:+0200
TZOFFSETTO:+0100
TZNAME:CET
DTSTART:20241027T010000
END:STANDARD
END:VTIMEZONE
BEGIN:VEVENT
DTSTART;VALUE=DATE:20231206
DTEND;VALUE=DATE:20231209
DTSTAMP:20260423T040145
CREATED:20230731T103022Z
LAST-MODIFIED:20230731T103022Z
UID:10001757-1701820800-1702079999@www.restauratoren.de
SUMMARY:Save the date: Forschung und Erhalt von Kulturerbe in Deutschland
DESCRIPTION:Die vom Leibniz Forschungsnetzwerk Konservierung/Restaurierung (https://www.leibniz-gemeinschaft.de/forschung/leibniz-forschungsnetzwerke/konservierung/restaurierung) durchgeführte Workshopreihe „Konservierung im Fokus“ / „Focus on Conservation“ wird dieses Jahr mit einer deutschsprachigen online Veranstaltung fortgesetzt.\nDie zusammen mit Professorin Dr. Andrea Funck (Staatliche Akademie der Bildenden Künste Stuttgart) und Professor Dr. P. Bellendorf (Universität Bamberg und Plattform Konservierungswissenschaften) ausgerichtete Veranstaltung mit dem Titel \nFördern und Fordern: Forschung und Erhalt von Kulturerbe in Deutschland — Konservierung im Fokus 2023 wird vom 6. bis 8. Dezember 2023 durchgeführt. \nDie Online-Veranstaltung dient der Abbildung der Förder- und Ausbildungslandschaft für Restaurierungs- und Konservierungswissenschaften in Deutschland.\nVorträge\, Gespräche\, Podiumsdiskussionen und Break-out-rooms für Diskussionen sind geplant.
URL:https://www.restauratoren.de/termin/save-the-date-forschung-und-erhalt-von-kulturerbe-in-deutschland/
CATEGORIES:Externe Veranstaltung
END:VEVENT
BEGIN:VEVENT
DTSTART;TZID=Europe/Paris:20231206T200000
DTEND;TZID=Europe/Paris:20231206T210000
DTSTAMP:20260423T040145
CREATED:20231205T083907Z
LAST-MODIFIED:20231205T083907Z
UID:10001810-1701892800-1701896400@www.restauratoren.de
SUMMARY:Zivil-militärische Zusammenarbeit bei Kulturgüterschutzübungen
DESCRIPTION:Sehr geehrte Mitglieder von Blue Shield Deutschland\, liebe Gäste\, \nwir möchten auf den nächsten online Vortrag von ** Spotlight Kulturgutschutz* * am Mittwoch\, den 06. Dezember 2023\, 20:00h MEZ einladen. \nGehalten wird er von: \nAsst.Prof. Dr. Anna Kaiser\, Leiterin des Zentrums für Kulturgüterschutz der Universität für Weiterbildung Krems\, Milizoffizier des Österreichischen Bundesheeres \nzum Thema: \nZivil-militärische Zusammenarbeit bei Kulturgüterschutzübungen\nDas österreichische Bundesheer hat eine lange Tradition in der Ausbildung von Kulturgüterschutzfachpersonal. Die Verbindungsoffiziere militärischer Kulturgüterschutz sind Milizoffiziere\, die ihre zivile Expertise zum Thema in das Bundesheer einbringen. Das Zentrum für Kulturgüterschutz der Universität für Weiterbildung Krems hat seit seiner Gründung im Jahr 2015 eine Reihe größerer und kleinerer Übungen und Stabsspiele organisiert\, die sich im Kern der zivil-militärischen Zusammenarbeit zum Schutz von Kulturgütern widmen. Im Rahmen des Vortrages werden ausgewählte Übungen vor dem Hintergrund der Szenarien\, Durchführung und lessons learned vorgestellt. \n\nDirektlink zur Zoomplattform: \nhttps://us06web.zoom.us/j/3349228398 \n\nDas weitere Vortragsprogramm finden Sie auf der Homepage von Blue Shield Deutschland:\nhttps://www.blue-shield.de/spotlight-kulturgutschutz/ \nGespiegelt dazu wird die Vortragsreihe auch auf der Homepage der Deutschen Gesellschaft für Kulturgutschutz beworben: \nhttps://dgks-ev.org/deutsche-gesellschaft-fur-kulturgutschutz-e-v-dgks/spotlight-kulturgutschutz/
URL:https://www.restauratoren.de/termin/zivil-militaerische-zusammenarbeit-bei-kulturgueterschutzuebungen/
CATEGORIES:Externe Veranstaltung
END:VEVENT
END:VCALENDAR