BEGIN:VCALENDAR
VERSION:2.0
PRODID:-//Verband der Restauratoren VDR - ECPv6.15.15//NONSGML v1.0//EN
CALSCALE:GREGORIAN
METHOD:PUBLISH
X-WR-CALNAME:Verband der Restauratoren VDR
X-ORIGINAL-URL:https://www.restauratoren.de
X-WR-CALDESC:Veranstaltungen für Verband der Restauratoren VDR
REFRESH-INTERVAL;VALUE=DURATION:PT1H
X-Robots-Tag:noindex
X-PUBLISHED-TTL:PT1H
BEGIN:VTIMEZONE
TZID:Europe/Paris
BEGIN:DAYLIGHT
TZOFFSETFROM:+0100
TZOFFSETTO:+0200
TZNAME:CEST
DTSTART:20230326T010000
END:DAYLIGHT
BEGIN:STANDARD
TZOFFSETFROM:+0200
TZOFFSETTO:+0100
TZNAME:CET
DTSTART:20231029T010000
END:STANDARD
BEGIN:DAYLIGHT
TZOFFSETFROM:+0100
TZOFFSETTO:+0200
TZNAME:CEST
DTSTART:20240331T010000
END:DAYLIGHT
BEGIN:STANDARD
TZOFFSETFROM:+0200
TZOFFSETTO:+0100
TZNAME:CET
DTSTART:20241027T010000
END:STANDARD
BEGIN:DAYLIGHT
TZOFFSETFROM:+0100
TZOFFSETTO:+0200
TZNAME:CEST
DTSTART:20250330T010000
END:DAYLIGHT
BEGIN:STANDARD
TZOFFSETFROM:+0200
TZOFFSETTO:+0100
TZNAME:CET
DTSTART:20251026T010000
END:STANDARD
END:VTIMEZONE
BEGIN:VEVENT
DTSTART;VALUE=DATE:20240121
DTEND;VALUE=DATE:20240122
DTSTAMP:20260423T212940
CREATED:20231130T131526Z
LAST-MODIFIED:20231130T131526Z
UID:10001806-1705795200-1705881599@www.restauratoren.de
SUMMARY:Call for participation - INCCA Café: Student & Early Career Research
DESCRIPTION:Deadline: 21st January 2024 \nStudents and early career conservators (2 years post-graduation) of all disciplines – paintings\, paper\, textiles\, sculpture\, time-based media etc. – are invited to present their new\, ongoing\, or recently completed research projects on contemporary art conservation alongside their peers in a new INCCA Café. \nThe Café will consist of 5 speakers\, each of which will have 3 minutes maximum to outline their research. All research projects are welcome\, including PhDs\, masters\, or case studies completed during a work placement/internship. Presentations can focus on any research topic within the conservation of contemporary art. For example\, technical analysis\, conservation surveys\, ageing studies\, conservation treatments\, ethical discussions or studies on artists’ and their materials and techniques. Presentations can be in any format. \nAfter each presentation\, all participants are invited to ask any questions they have to encourage open and honest discussion. Professionals and students from all disciplines and career stages are welcome to sign up to listen to the presentations and take part in the discussion. \nWe hope this Café will provide a platform for early career conservators to meet new INCCA members and other professionals in their field\, and get more involved with INCCA in the future. Presenting your project could lead to exciting collaboration opportunities or even to a subsequent individual INCCA talk. Send your participation request to info(at)incca.org by 21st January 24\, including your presentation topic. \nINCCA Café: Student & Early Career Research will be hosted online via Zoom on 14th March 2024\, CET 1pm (Amsterdam 1pm/London 12pm/Gweru 2pm/Seoul 9pm/Mexico City 6am/LA 5am/New York 8am) and will not be recorded. \nwww.incca.org
URL:https://www.restauratoren.de/termin/call-for-participation-incca-cafe-student-early-career-research/
CATEGORIES:Externe Veranstaltung
END:VEVENT
END:VCALENDAR