BEGIN:VCALENDAR
VERSION:2.0
PRODID:-//Verband der Restauratoren VDR - ECPv6.15.15//NONSGML v1.0//EN
CALSCALE:GREGORIAN
METHOD:PUBLISH
X-WR-CALNAME:Verband der Restauratoren VDR
X-ORIGINAL-URL:https://www.restauratoren.de
X-WR-CALDESC:Veranstaltungen für Verband der Restauratoren VDR
REFRESH-INTERVAL;VALUE=DURATION:PT1H
X-Robots-Tag:noindex
X-PUBLISHED-TTL:PT1H
BEGIN:VTIMEZONE
TZID:Europe/Paris
BEGIN:DAYLIGHT
TZOFFSETFROM:+0100
TZOFFSETTO:+0200
TZNAME:CEST
DTSTART:20230326T010000
END:DAYLIGHT
BEGIN:STANDARD
TZOFFSETFROM:+0200
TZOFFSETTO:+0100
TZNAME:CET
DTSTART:20231029T010000
END:STANDARD
BEGIN:DAYLIGHT
TZOFFSETFROM:+0100
TZOFFSETTO:+0200
TZNAME:CEST
DTSTART:20240331T010000
END:DAYLIGHT
BEGIN:STANDARD
TZOFFSETFROM:+0200
TZOFFSETTO:+0100
TZNAME:CET
DTSTART:20241027T010000
END:STANDARD
BEGIN:DAYLIGHT
TZOFFSETFROM:+0100
TZOFFSETTO:+0200
TZNAME:CEST
DTSTART:20250330T010000
END:DAYLIGHT
BEGIN:STANDARD
TZOFFSETFROM:+0200
TZOFFSETTO:+0100
TZNAME:CET
DTSTART:20251026T010000
END:STANDARD
END:VTIMEZONE
BEGIN:VEVENT
DTSTART;VALUE=DATE:20240129
DTEND;VALUE=DATE:20240130
DTSTAMP:20260421T112001
CREATED:20231205T083630Z
LAST-MODIFIED:20231205T083630Z
UID:10001809-1706486400-1706572799@www.restauratoren.de
SUMMARY:Weiterbildung: Methylcellulose Foams
DESCRIPTION:An der Hochschule der Künste Bern gibt es am 29.01.2024 ein Weiterbildungsangebot mit Vorträgen und Workshops zu Methylcellulose Schäumen. \n  \n\n\n\n\nLectures\, workshops and professional exchange on the topic of bonding\, consolidating\, filling and retouching art and cultural artefacts with methylcellulose – with a focus on foam applications. \nWeitere Informationen
URL:https://www.restauratoren.de/termin/weiterbildung-methylcellulose-foams/
CATEGORIES:Externe Veranstaltung
END:VEVENT
END:VCALENDAR