BEGIN:VCALENDAR
VERSION:2.0
PRODID:-//Verband der Restauratoren VDR - ECPv6.15.15//NONSGML v1.0//EN
CALSCALE:GREGORIAN
METHOD:PUBLISH
X-ORIGINAL-URL:https://www.restauratoren.de
X-WR-CALDESC:Veranstaltungen für Verband der Restauratoren VDR
REFRESH-INTERVAL;VALUE=DURATION:PT1H
X-Robots-Tag:noindex
X-PUBLISHED-TTL:PT1H
BEGIN:VTIMEZONE
TZID:Europe/Paris
BEGIN:DAYLIGHT
TZOFFSETFROM:+0100
TZOFFSETTO:+0200
TZNAME:CEST
DTSTART:20230326T010000
END:DAYLIGHT
BEGIN:STANDARD
TZOFFSETFROM:+0200
TZOFFSETTO:+0100
TZNAME:CET
DTSTART:20231029T010000
END:STANDARD
BEGIN:DAYLIGHT
TZOFFSETFROM:+0100
TZOFFSETTO:+0200
TZNAME:CEST
DTSTART:20240331T010000
END:DAYLIGHT
BEGIN:STANDARD
TZOFFSETFROM:+0200
TZOFFSETTO:+0100
TZNAME:CET
DTSTART:20241027T010000
END:STANDARD
BEGIN:DAYLIGHT
TZOFFSETFROM:+0100
TZOFFSETTO:+0200
TZNAME:CEST
DTSTART:20250330T010000
END:DAYLIGHT
BEGIN:STANDARD
TZOFFSETFROM:+0200
TZOFFSETTO:+0100
TZNAME:CET
DTSTART:20251026T010000
END:STANDARD
END:VTIMEZONE
BEGIN:VEVENT
DTSTART;TZID=Europe/Paris:20240130T180000
DTEND;TZID=Europe/Paris:20240130T193000
DTSTAMP:20260421T211440
CREATED:20231113T195152Z
LAST-MODIFIED:20240124T073305Z
UID:10001800-1706637600-1706643000@www.restauratoren.de
SUMMARY:Vortrag zur Geschichte\, Technik und Erhaltung von Sgraffito-Dekorationen in Florenz
DESCRIPTION:Achtung: Vortrag entfällt!\nGastvorträge der Konservierung und Restaurierung im Wintersemester 2023/24 an der FH Potsdam \nMit spannenden und informativen Vorträge aus der Theorie und Praxis der Restaurierung wird die Gastvortragsreihe im Wintersemester 2023/24 fortgesetzt. Sie finden jeweils an ausgewählten Dienstagabenden als Hybrid-Veranstaltungen um 18 Uhr im Haus D statt.\nDie Vorträge mit den anschließenden Diskussionen sind eine einmalige Gelegenheit\, Expert*innen aus der Konservierung und Restaurierung kennenzulernen und aus erster Hand etwas über ihre Themen und Projekte zu erfahren.\n30.01.2024 Prof. Dr. Andreas Huth \nKratzkunst. Zur Geschichte\, Technik und Erhaltung von Sgraffito-Dekorationen in Florenz
URL:https://www.restauratoren.de/termin/vortrag-zur-geschichte-technik-und-erhaltung-von-sgraffito-dekorationen-in-florenz/
CATEGORIES:Externe Veranstaltung
END:VEVENT
END:VCALENDAR