BEGIN:VCALENDAR
VERSION:2.0
PRODID:-//Verband der Restauratoren VDR - ECPv6.15.15//NONSGML v1.0//EN
CALSCALE:GREGORIAN
METHOD:PUBLISH
X-ORIGINAL-URL:https://www.restauratoren.de
X-WR-CALDESC:Veranstaltungen für Verband der Restauratoren VDR
REFRESH-INTERVAL;VALUE=DURATION:PT1H
X-Robots-Tag:noindex
X-PUBLISHED-TTL:PT1H
BEGIN:VTIMEZONE
TZID:Europe/Paris
BEGIN:DAYLIGHT
TZOFFSETFROM:+0100
TZOFFSETTO:+0200
TZNAME:CEST
DTSTART:20230326T010000
END:DAYLIGHT
BEGIN:STANDARD
TZOFFSETFROM:+0200
TZOFFSETTO:+0100
TZNAME:CET
DTSTART:20231029T010000
END:STANDARD
BEGIN:DAYLIGHT
TZOFFSETFROM:+0100
TZOFFSETTO:+0200
TZNAME:CEST
DTSTART:20240331T010000
END:DAYLIGHT
BEGIN:STANDARD
TZOFFSETFROM:+0200
TZOFFSETTO:+0100
TZNAME:CET
DTSTART:20241027T010000
END:STANDARD
BEGIN:DAYLIGHT
TZOFFSETFROM:+0100
TZOFFSETTO:+0200
TZNAME:CEST
DTSTART:20250330T010000
END:DAYLIGHT
BEGIN:STANDARD
TZOFFSETFROM:+0200
TZOFFSETTO:+0100
TZNAME:CET
DTSTART:20251026T010000
END:STANDARD
END:VTIMEZONE
BEGIN:VEVENT
DTSTART;TZID=Europe/Paris:20240215T180000
DTEND;TZID=Europe/Paris:20240215T190000
DTSTAMP:20260424T185936
CREATED:20240123T100706Z
LAST-MODIFIED:20240123T100706Z
UID:10001840-1708020000-1708023600@www.restauratoren.de
SUMMARY:Vortrag: Zoom auf van Eyck
DESCRIPTION:Von Restauratoren erforscht \nÖffentliche Vortragsreihe des Arbeitskreises Leitender Restaurator*innen der Staatlichen Museen zu Berlin \nWir laden ein zu einem online-live-Vortrag am Donnerstag\, 15. Februar 2024\, 18 Uhr \nSandra Stelzig\, Berlin\, SMB\, Zoom auf van Eyck – Untersuchung und Restaurierung zweier Werke Jan van Eycks und die aktuelle Ausstellung in der Gemäldegalerie \nDie zwei kleinformatigen Porträts „Baudouin de Lannoy“ und „Mann mit rotem Chaperon“ gehören neben der „Kirchenmadonna“ zu den unbestritten eigenhändigen Werken Jan van Eycks (um 1390/1400 – 1441) in der Gemäldegalerie. \nBeide Werke sind beeindruckende Beispiele der Brillanz und Präzision der Malerei des Jan van Eyck. Sie konnten in den vergangenen Jahren eingehend untersucht und restauriert werden. Im Ergebnis zeigen die Gemälde wiedergewonnene Details und erlauben erstaunliche Entdeckungen. Anhand von kunsttechnologischen Erkenntnissen\, Befunden zu Restaurierungsgeschichte und Schadensbildern werden die durchgeführten Maßnahmen im Vortrag erläutert. \nDie Restaurierungsmaßnahmen werden in der aktuellen Ausstellung „Zoom auf van Eyck“ in einer von drei Sektionen neben einer digitalen Projektion und den Originalen aus der Sammlung der Gemäldegalerie präsentiert. Die Besucher*innen erhalten dabei erstmals die Gelegenheit\, die Details der Gemälde selbst mit Lupen zu erforschen. \nVortragsankündigung und Zugangslink \n 
URL:https://www.restauratoren.de/termin/vortrag-zoom-auf-van-eyck/
CATEGORIES:Externe Veranstaltung
END:VEVENT
END:VCALENDAR