BEGIN:VCALENDAR
VERSION:2.0
PRODID:-//Verband der Restauratoren VDR - ECPv6.15.15//NONSGML v1.0//EN
CALSCALE:GREGORIAN
METHOD:PUBLISH
X-WR-CALNAME:Verband der Restauratoren VDR
X-ORIGINAL-URL:https://www.restauratoren.de
X-WR-CALDESC:Veranstaltungen für Verband der Restauratoren VDR
REFRESH-INTERVAL;VALUE=DURATION:PT1H
X-Robots-Tag:noindex
X-PUBLISHED-TTL:PT1H
BEGIN:VTIMEZONE
TZID:Europe/Paris
BEGIN:DAYLIGHT
TZOFFSETFROM:+0100
TZOFFSETTO:+0200
TZNAME:CEST
DTSTART:20230326T010000
END:DAYLIGHT
BEGIN:STANDARD
TZOFFSETFROM:+0200
TZOFFSETTO:+0100
TZNAME:CET
DTSTART:20231029T010000
END:STANDARD
BEGIN:DAYLIGHT
TZOFFSETFROM:+0100
TZOFFSETTO:+0200
TZNAME:CEST
DTSTART:20240331T010000
END:DAYLIGHT
BEGIN:STANDARD
TZOFFSETFROM:+0200
TZOFFSETTO:+0100
TZNAME:CET
DTSTART:20241027T010000
END:STANDARD
BEGIN:DAYLIGHT
TZOFFSETFROM:+0100
TZOFFSETTO:+0200
TZNAME:CEST
DTSTART:20250330T010000
END:DAYLIGHT
BEGIN:STANDARD
TZOFFSETFROM:+0200
TZOFFSETTO:+0100
TZNAME:CET
DTSTART:20251026T010000
END:STANDARD
END:VTIMEZONE
BEGIN:VEVENT
DTSTART;VALUE=DATE:20240406
DTEND;VALUE=DATE:20240407
DTSTAMP:20260422T180855
CREATED:20240111T132716Z
LAST-MODIFIED:20240111T132716Z
UID:10001828-1712361600-1712447999@www.restauratoren.de
SUMMARY:Online-Kurs: Schimmel und Schriftgut
DESCRIPTION:Online-Kurs „Schimmel und Schriftgut“ \nhttps://hornemann-institut.hawk.de/de/schimmel-und-schriftgut \nDie Autorin\, Friederike Nithack M.A.\, ist Restauratorin für Schriftgut und seit 2018 stellvertretende Werkstattleiterin des LWL-Archivamtes für Westfalen. \nSie wird den Kurs selbst tutorieren\, d.h. Mails beantworten und bei Bedarf eine Online-Sprechstunde zum direkten Austausch anbieten. \nDer Kurs läuft vom 6. April bis 30. Juni 2024. Anmeldeschluss ist der 15. April 2024 \n\nOnline-Kurse des Hornemann Instituts  \nDas Hornemann Institut der Hochschule für angewandte Wissenschaft und Kunst in Hildesheim entwickelt seit 25 Jahren tutoriell betreute Online-Kurse zur Erhaltung von Kulturgut:hornemann-institut.hawk.de/de/online-kurse. \nDie Kurse sind als Selbstlernkurse konzipiert\, aber es gibt immer eine Tutorin\, die bei techn. und fachlichen Fragen hilft. Nach allen Kapiteln gibt es verschiedenartige Lernkontrollen\, mit denen die Lernfortschritte selbst überprüft werden können. \nNach erfolgreichem Abschluss übersenden wir ein qualifiziertes Zertifikat. \nDer Verband der Restauratoren hat die Kurse in sein Weiterbildungsprogramm integriert. \nWeitere Infos unter: hornemann-institut.hawk.de/de/online-kurse
URL:https://www.restauratoren.de/termin/online-kurs-schimmel-und-schriftgut-2/
CATEGORIES:Externe Veranstaltung
END:VEVENT
END:VCALENDAR