BEGIN:VCALENDAR
VERSION:2.0
PRODID:-//Verband der Restauratoren VDR - ECPv6.15.15//NONSGML v1.0//EN
CALSCALE:GREGORIAN
METHOD:PUBLISH
X-ORIGINAL-URL:https://www.restauratoren.de
X-WR-CALDESC:Veranstaltungen für Verband der Restauratoren VDR
REFRESH-INTERVAL;VALUE=DURATION:PT1H
X-Robots-Tag:noindex
X-PUBLISHED-TTL:PT1H
BEGIN:VTIMEZONE
TZID:Europe/Paris
BEGIN:DAYLIGHT
TZOFFSETFROM:+0100
TZOFFSETTO:+0200
TZNAME:CEST
DTSTART:20230326T010000
END:DAYLIGHT
BEGIN:STANDARD
TZOFFSETFROM:+0200
TZOFFSETTO:+0100
TZNAME:CET
DTSTART:20231029T010000
END:STANDARD
BEGIN:DAYLIGHT
TZOFFSETFROM:+0100
TZOFFSETTO:+0200
TZNAME:CEST
DTSTART:20240331T010000
END:DAYLIGHT
BEGIN:STANDARD
TZOFFSETFROM:+0200
TZOFFSETTO:+0100
TZNAME:CET
DTSTART:20241027T010000
END:STANDARD
BEGIN:DAYLIGHT
TZOFFSETFROM:+0100
TZOFFSETTO:+0200
TZNAME:CEST
DTSTART:20250330T010000
END:DAYLIGHT
BEGIN:STANDARD
TZOFFSETFROM:+0200
TZOFFSETTO:+0100
TZNAME:CET
DTSTART:20251026T010000
END:STANDARD
END:VTIMEZONE
BEGIN:VEVENT
DTSTART;VALUE=DATE:20240417
DTEND;VALUE=DATE:20240420
DTSTAMP:20260425T054121
CREATED:20240325T145756Z
LAST-MODIFIED:20240325T145756Z
UID:10001878-1713312000-1713571199@www.restauratoren.de
SUMMARY:Online-Symposium: Archaeology of Colour
DESCRIPTION:The NOVA School of Science and Technology\, Universidade NOVA de Lisboa\, and the Museu Nacional de Arte Antiga are organizing the International Symposium Archaeology of Colour – The production of polychromy in sculpture up to the 16thcentury. \nConference dates: 17th-19th April 2024 (Online) \nThe symposium aims to engage scholars from different fields to enrich our understanding of the production of polychromy in sculpture up to the 16th century. \nSee for further Information
URL:https://www.restauratoren.de/termin/online-symposium-archaeology-of-colour/
CATEGORIES:Externe Veranstaltung
END:VEVENT
BEGIN:VEVENT
DTSTART;VALUE=DATE:20240419
DTEND;VALUE=DATE:20240420
DTSTAMP:20260425T054121
CREATED:20240305T090517Z
LAST-MODIFIED:20240305T090517Z
UID:10001868-1713484800-1713571199@www.restauratoren.de
SUMMARY:ÖRV-Symposium: Tabuthema Stundensätze in der Restaurierung
DESCRIPTION:Der Berufsverband Österreichischer Restauratorinnen und Restauratoren lädt ein zum Symposium „Verschätzt\, verplant\, verrechnet: Tabuthema Stundensätze in der Restaurierung“ am 19.04.2024 im Rathaus der Stadt Wien. \nKalkulationen sind in Sparten der freien Berufe\, in denen es keine geregelten Honorarordnungen gibt\, meist ein absolutes Tabuthema. Im Bereich der Konservierung – Restaurierung sind Kalkulationen zudem besonders schwierig: Tätigkeitsfelder sind weit gefächert\, Schadensgrade der Objekte und somit der Aufwand schwer abschätzbar\, Zielsetzungen nicht klar definiert\, Auftraggeber verlangen pauschalisierte Angebote\, für Mitarbeiter gibt es keine gültigen Tarifverträge und über allem schwebt ein Wettbewerb.\nEins verbindet jedoch alle Kalkulationen: die Arbeiten sind „honorarlastig“. Das heißt\, der größte kalkulations-beeinflussende Faktor ist neben der Abschätzung des Zeitaufwandes der zugrundeliegende Stundensatz. Aber welcher ist gerechtfertigt? Und wie kalkuliert man einen adäquaten Stundensatz? Und was zeigt die aktuelle Praxis? \nDiesem komplexen Themenkreis möchte sich das Symposium widmen\, die unterschiedlichen Aspekte beleuchten und eine Plattform für einen offenen Diskurs zu dem Tabuthema bieten.\nDie Veranstaltung wird mit einem Abendempfang ausklingen. \nAnmeldung bis 01.04.2024 \nProgramm und Anmeldung \n 
URL:https://www.restauratoren.de/termin/oerv-symposium-tabuthema-stundensaetze-in-der-restaurierung/
CATEGORIES:Externe Veranstaltung
END:VEVENT
END:VCALENDAR