BEGIN:VCALENDAR
VERSION:2.0
PRODID:-//Verband der Restauratoren VDR - ECPv6.15.15//NONSGML v1.0//EN
CALSCALE:GREGORIAN
METHOD:PUBLISH
X-WR-CALNAME:Verband der Restauratoren VDR
X-ORIGINAL-URL:https://www.restauratoren.de
X-WR-CALDESC:Veranstaltungen für Verband der Restauratoren VDR
REFRESH-INTERVAL;VALUE=DURATION:PT1H
X-Robots-Tag:noindex
X-PUBLISHED-TTL:PT1H
BEGIN:VTIMEZONE
TZID:Europe/Paris
BEGIN:DAYLIGHT
TZOFFSETFROM:+0100
TZOFFSETTO:+0200
TZNAME:CEST
DTSTART:20230326T010000
END:DAYLIGHT
BEGIN:STANDARD
TZOFFSETFROM:+0200
TZOFFSETTO:+0100
TZNAME:CET
DTSTART:20231029T010000
END:STANDARD
BEGIN:DAYLIGHT
TZOFFSETFROM:+0100
TZOFFSETTO:+0200
TZNAME:CEST
DTSTART:20240331T010000
END:DAYLIGHT
BEGIN:STANDARD
TZOFFSETFROM:+0200
TZOFFSETTO:+0100
TZNAME:CET
DTSTART:20241027T010000
END:STANDARD
BEGIN:DAYLIGHT
TZOFFSETFROM:+0100
TZOFFSETTO:+0200
TZNAME:CEST
DTSTART:20250330T010000
END:DAYLIGHT
BEGIN:STANDARD
TZOFFSETFROM:+0200
TZOFFSETTO:+0100
TZNAME:CET
DTSTART:20251026T010000
END:STANDARD
END:VTIMEZONE
BEGIN:VEVENT
DTSTART;VALUE=DATE:20240505
DTEND;VALUE=DATE:20240509
DTSTAMP:20260425T054003
CREATED:20240221T151918Z
LAST-MODIFIED:20240221T152138Z
UID:10001854-1714867200-1715212799@www.restauratoren.de
SUMMARY:Tagung: Museen durch Krisen navigieren
DESCRIPTION:Im Rahmen der Jahrestagung 2024 „Museen durch Krisen navigieren“ vom 5. bis 8. Mai 2024 in Aschaffenburg beleuchtet der DMB den Begriff der Krise und bietet Impulse zur strategischen Krisenprävention sowie zur praktischen Krisenbewältigung im Museum. \nDie Krisen der Gegenwart beeinflussen die Arbeit der Museen und erfordern von Museumsmacher:innen ein Umdenken sowie neue Lösungsansätze und Arbeitsweisen. Insbesondere Führungskräfte sind in der Verantwortung\, ihre Häuser gut durch akute Krisen zu manövrieren und vor kommenden Krisen zu schützen. Gleichzeitig stehen Museen als öffentliche Institutionen im Dienst der Gesellschaft und haben eine Verantwortung die Gesellschaft in Krisen zu unterstützen. \nMit welchen Krisen müssen Museen heute und morgen umgehen? Wie bleiben Museen in Krisen handlungsfähig? Und wie können Museen als Krisenbegleiter in die Gesellschaft wirken?\nMit der Jahrestagung möchten wir ein Bewusstsein für die Notwendigkeit von Krisenprävention erzeugen\, neue Denkräume eröffnen und die Museen zum Handeln ermutigen. Die Tagung findet als Hybridveranstaltung statt. Melden Sie sich jetzt an und diskutieren Sie mit! \nDie Jahrestagung des Deutschen Museumsbundes ist die größte Museumskonferenz Deutschlands. Sie bietet Fachvorträge und Erfahrungsaustausch zu aktuellen Museumsthemen sowie die Möglichkeit zur Vernetzung mit Museumsfachleuten aus dem In- und Ausland. \nzur Anmeldung
URL:https://www.restauratoren.de/termin/tagung-museen-durch-krisen-navigieren/
CATEGORIES:Externe Veranstaltung
END:VEVENT
BEGIN:VEVENT
DTSTART;VALUE=DATE:20240506
DTEND;VALUE=DATE:20240509
DTSTAMP:20260425T054003
CREATED:20240220T144627Z
LAST-MODIFIED:20240221T073004Z
UID:10001851-1714953600-1715212799@www.restauratoren.de
SUMMARY:70. vfdb Jahresfachtagung: SCHUTZ RETTUNG  SICHERHEIT
DESCRIPTION:Die Vereinigung zur Förderung des Deutschen Brandschutzes (vfdb) richtet vom 6.-8. Mai ihre Jahrestagung in Magdeburg aus. \nDer technisch-wissenschaftliche Beirat (TWB) der vfdb hat wieder ein interessantes und hochaktuelles Programm für Sie zusammengestellt. Das Motto lautet: „Was tun wir für die Sicherheit im Einsatz? \nDie Tagung findet statt am \nMontag\, den 06. Mai 2024 von 10:00 Uhr bis 16.45 Uhr\nDienstag\, den 07. Mai 2024 von 9:00 Uhr bis 17.35 Uhr\nMittwoch\, den 08. Mai 2024 von 9:00 Uhr bis 14.45 Uhr\nim Tagungs- und Kongresszentrum Magdeburg. \nDie folgende Übersicht mit Zusammenfassungen der Vorträge vermittelt Ihnen einen Eindruck über unser vielseitiges Programm.\nReferenten aus Brand- und Katastrophenschutz\, Rettungsdienst sowie von Universitäten\, Behörden und Institutionen beschäftigen sich in mehr als 50 Vorträgen mit aktuellen Entwicklungen und Herausforderungen.\nEin Thema wird angesichts teils spektakulärer Ereignisse immer häufiger intern und in den Medien diskutiert: Wie steht es um die Sicherheit der Einsatzkräfte? Auf diese\, aber auch auf zahlreiche andere Fragestellungen\, gehen die Referent*innen in ihren Vorträgen ein. Sie bieten Grundlagen für Diskussionsstoff und liefern mit ihren Erfahrungen aus Forschung\, Entwicklern Herstellern und der Einsatzpraxis wertvolle Erkenntnisse und Impulse für die Weiterentwicklung einer modernen Gefahrenabwehr. \nAlle Informationen unter: https://www.vfdb.de/events/jahresfachtagung/jahresfachtagung2024
URL:https://www.restauratoren.de/termin/70-vfdb-jahresfachtagung-schutz-rettung-sicherheit/
LOCATION:Magdeburg
CATEGORIES:Externe Veranstaltung
END:VEVENT
END:VCALENDAR