BEGIN:VCALENDAR
VERSION:2.0
PRODID:-//Verband der Restauratoren VDR - ECPv6.15.15//NONSGML v1.0//EN
CALSCALE:GREGORIAN
METHOD:PUBLISH
X-ORIGINAL-URL:https://www.restauratoren.de
X-WR-CALDESC:Veranstaltungen für Verband der Restauratoren VDR
REFRESH-INTERVAL;VALUE=DURATION:PT1H
X-Robots-Tag:noindex
X-PUBLISHED-TTL:PT1H
BEGIN:VTIMEZONE
TZID:Europe/Paris
BEGIN:DAYLIGHT
TZOFFSETFROM:+0100
TZOFFSETTO:+0200
TZNAME:CEST
DTSTART:20230326T010000
END:DAYLIGHT
BEGIN:STANDARD
TZOFFSETFROM:+0200
TZOFFSETTO:+0100
TZNAME:CET
DTSTART:20231029T010000
END:STANDARD
BEGIN:DAYLIGHT
TZOFFSETFROM:+0100
TZOFFSETTO:+0200
TZNAME:CEST
DTSTART:20240331T010000
END:DAYLIGHT
BEGIN:STANDARD
TZOFFSETFROM:+0200
TZOFFSETTO:+0100
TZNAME:CET
DTSTART:20241027T010000
END:STANDARD
BEGIN:DAYLIGHT
TZOFFSETFROM:+0100
TZOFFSETTO:+0200
TZNAME:CEST
DTSTART:20250330T010000
END:DAYLIGHT
BEGIN:STANDARD
TZOFFSETFROM:+0200
TZOFFSETTO:+0100
TZNAME:CET
DTSTART:20251026T010000
END:STANDARD
END:VTIMEZONE
BEGIN:VEVENT
DTSTART;VALUE=DATE:20240529
DTEND;VALUE=DATE:20240601
DTSTAMP:20260423T090819
CREATED:20240213T102659Z
LAST-MODIFIED:20240213T102759Z
UID:10001849-1716940800-1717199999@www.restauratoren.de
SUMMARY:Symposium: Geschichte(n) der Restaurierung archäologischer Schätze
DESCRIPTION:Mit der Wiederentdeckung der antiken Kulturen setzte auch die annähernd 500-jährige Restaurierungsgeschichte geborgener Artefakte ein. Als zentrale Anliegen kristallisierten sich bald das Zusammenfügen der Fragmente\, die stilistische Rekonstruktion fehlender Partien\, die sich ableitenden Ergänzungen sowie die Gestaltung der Oberflächen als ein zentrales Anliegen heraus. Heute oftmals als unzeitgemäße Restaurierungsergebnisse angesehen\, erweisen sie sich als multiple Wissensspeicher\, die über Rekonstruktionen zwischen Wunsch und Wirklichkeit\, restaurierungstechnische Möglichkeiten\, Kompetenzen und Fähigkeiten der Restaurierenden\, Material und Materialität bis hin zum späteren Umgang mit dem restauratorischen Erbe informieren. \nZu diesen Schwerpunkten wird das internationale Symposium: \nkulturGUTerhalten \nRekonstruktion – Ergänzung – Retusche \nGeschichte(n) der Restaurierung archäologischer Schätze \nvom 29. bis 31. Mai 2024 \nan der Skulpturensammlung und Museum für Byzantinische Kunst (Bode-Museum) die aktuelle Forschung im interdisziplinären Austausch zusammenführen. \nInformationen zu den Anmeldeformalitäten \nBitte beachten Sie\, dass es entgegen der ursprünglichen Planung keine Hybrid-Veranstaltung\, sondern eine Tagung in Präsenz sein wird.
URL:https://www.restauratoren.de/termin/geschichten-der-restaurierung-archaeologischer-schaetze/
CATEGORIES:Externe Veranstaltung
END:VEVENT
END:VCALENDAR