BEGIN:VCALENDAR
VERSION:2.0
PRODID:-//Verband der Restauratoren VDR - ECPv6.15.15//NONSGML v1.0//EN
CALSCALE:GREGORIAN
METHOD:PUBLISH
X-WR-CALNAME:Verband der Restauratoren VDR
X-ORIGINAL-URL:https://www.restauratoren.de
X-WR-CALDESC:Veranstaltungen für Verband der Restauratoren VDR
REFRESH-INTERVAL;VALUE=DURATION:PT1H
X-Robots-Tag:noindex
X-PUBLISHED-TTL:PT1H
BEGIN:VTIMEZONE
TZID:Europe/Paris
BEGIN:DAYLIGHT
TZOFFSETFROM:+0100
TZOFFSETTO:+0200
TZNAME:CEST
DTSTART:20230326T010000
END:DAYLIGHT
BEGIN:STANDARD
TZOFFSETFROM:+0200
TZOFFSETTO:+0100
TZNAME:CET
DTSTART:20231029T010000
END:STANDARD
BEGIN:DAYLIGHT
TZOFFSETFROM:+0100
TZOFFSETTO:+0200
TZNAME:CEST
DTSTART:20240331T010000
END:DAYLIGHT
BEGIN:STANDARD
TZOFFSETFROM:+0200
TZOFFSETTO:+0100
TZNAME:CET
DTSTART:20241027T010000
END:STANDARD
BEGIN:DAYLIGHT
TZOFFSETFROM:+0100
TZOFFSETTO:+0200
TZNAME:CEST
DTSTART:20250330T010000
END:DAYLIGHT
BEGIN:STANDARD
TZOFFSETFROM:+0200
TZOFFSETTO:+0100
TZNAME:CET
DTSTART:20251026T010000
END:STANDARD
END:VTIMEZONE
BEGIN:VEVENT
DTSTART;VALUE=DATE:20240918
DTEND;VALUE=DATE:20240919
DTSTAMP:20260425T183137
CREATED:20240714T160846Z
LAST-MODIFIED:20240823T065441Z
UID:10001929-1726617600-1726703999@www.restauratoren.de
SUMMARY:Das grüne Museum – Die ökologische Transformation
DESCRIPTION:Das grüne Museum\nNachhaltigkeit und Risiko – Die ökologische Transformation in Museen & Depots\nDie Veranstaltungsreihe Das grüne Museum bietet die Möglichkeit\, sich über Klimaschutzziele und Gefährdungsbeurteilungen sowie neue Nachhaltigkeitskonzepte für den Museums- & Depotalltag zu informieren. In diversen Praxisberichten werden Best-Practice-Beispiele vorgestellt\, wie Kultureinrichtungen mit den Herausforderungen der Krise umgehen und Museen nachhaltig gestalten können. Handlungsfelder gemeinsam betrachten und konkrete Ziele ableiten. \nMitglieder des VDR profitieren mit dem Rabatt-Code „DGM-VDR“ von einer Preisreduktion von 20 Prozent. \n  \nWeitere Informationen\, Programm und Anmeldung \nTERMINE: \n\n18.09.2024 in Berlin\n17.10.2024 in Wien\n05.11.2024 in Düsseldorf
URL:https://www.restauratoren.de/termin/das-gruene-museum-die-oekologische-transformation/
CATEGORIES:Externe Veranstaltung
ATTACH;FMTTYPE=image/png:https://www.restauratoren.de/wp-content/uploads/2024/07/DGM_Logo_1000px_gruen.png
END:VEVENT
END:VCALENDAR