BEGIN:VCALENDAR
VERSION:2.0
PRODID:-//Verband der Restauratoren VDR - ECPv6.15.15//NONSGML v1.0//EN
CALSCALE:GREGORIAN
METHOD:PUBLISH
X-WR-CALNAME:Verband der Restauratoren VDR
X-ORIGINAL-URL:https://www.restauratoren.de
X-WR-CALDESC:Veranstaltungen für Verband der Restauratoren VDR
REFRESH-INTERVAL;VALUE=DURATION:PT1H
X-Robots-Tag:noindex
X-PUBLISHED-TTL:PT1H
BEGIN:VTIMEZONE
TZID:Europe/Paris
BEGIN:DAYLIGHT
TZOFFSETFROM:+0100
TZOFFSETTO:+0200
TZNAME:CEST
DTSTART:20230326T010000
END:DAYLIGHT
BEGIN:STANDARD
TZOFFSETFROM:+0200
TZOFFSETTO:+0100
TZNAME:CET
DTSTART:20231029T010000
END:STANDARD
BEGIN:DAYLIGHT
TZOFFSETFROM:+0100
TZOFFSETTO:+0200
TZNAME:CEST
DTSTART:20240331T010000
END:DAYLIGHT
BEGIN:STANDARD
TZOFFSETFROM:+0200
TZOFFSETTO:+0100
TZNAME:CET
DTSTART:20241027T010000
END:STANDARD
BEGIN:DAYLIGHT
TZOFFSETFROM:+0100
TZOFFSETTO:+0200
TZNAME:CEST
DTSTART:20250330T010000
END:DAYLIGHT
BEGIN:STANDARD
TZOFFSETFROM:+0200
TZOFFSETTO:+0100
TZNAME:CET
DTSTART:20251026T010000
END:STANDARD
END:VTIMEZONE
BEGIN:VEVENT
DTSTART;VALUE=DATE:20240919
DTEND;VALUE=DATE:20240921
DTSTAMP:20260426T013141
CREATED:20240512T164638Z
LAST-MODIFIED:20240512T164638Z
UID:10001901-1726704000-1726876799@www.restauratoren.de
SUMMARY:Praxisseminar Lehmbau in Freystadt\, Oberpfalz
DESCRIPTION:Dank der vielen positiven Eigenschaften auf das Raumklima und der allgemeinen Hinwendung zu schadstoffarmen Baustoffen erlebt der Lehmbau in westlichen Ländern eine regelrechte Renaissance. Das Praxisseminar vermittelt grundlegende Kenntnisse zur traditionellen Herstellung\, zur Zusammensetzung\, zur Verarbeitung und zu den Modifikationsmöglichkeiten von Lehmputzen. Neben Strohlehmmischungen werden auch Lehmwickel erstellt und verbaut. Die Kursteilnehmer haben Gelegenheit\, mit dem Material und den Arbeitstechniken vertraut zu werden bzw. vorhandene Kenntnisse zu vertiefen. Vorkenntnisse sind nicht erforderlich. Das Programm des Praxisseminars können Sie hier herunterladen. \nDatum: 19. und 20. September 2024\nSeminarleitung: Stephan Rudolph\, Restaurator\nVeranstaltungsort: Restaurierungsbetrieb Rudolph\, Sondersfeld 13\, 92342 Freystadt\nAnmeldung/Kontakt: Um Anmeldung mit dem hinterlegten Formular wird gebeten bis zum 8. September 2024 per E-Mail: bauarchiv@blfd.bayern.de.\nSeminargebühr: 280 Euro (ermäßigt 140 Euro)
URL:https://www.restauratoren.de/termin/praxisseminar-lehmbau-in-freystadt-oberpfalz/
CATEGORIES:Externe Veranstaltung
END:VEVENT
BEGIN:VEVENT
DTSTART;TZID=Europe/Paris:20240919T180000
DTEND;TZID=Europe/Paris:20240919T190000
DTSTAMP:20260426T013141
CREATED:20240809T080756Z
LAST-MODIFIED:20240809T080756Z
UID:10001955-1726768800-1726772400@www.restauratoren.de
SUMMARY:Online-Vortrag: Bill Violas Frühwerk nach Jahrzehnten im Verborgenen
DESCRIPTION:Der Arbeitskreis der leitenden Restaurator*innen der Staatlichen Museen zu Berlin hat eine Vortragsreihe ins Leben gerufen\, in der Restaurator*innen unterschiedlicher Fachrichtungen Einblicke in aktuelle Restaurierungs- und Forschungsprojekte gewähren. Die Vorträge und Gespräche wenden sich nicht nur an Fachkolleg*innen\, sondern an alle\, die sich für Restaurierung und Kunsttechnologie interessieren. \nDie Vorträge finden als Live-Online-Veranstaltung über die Cisco Webex Meeting Plattform statt\, gelegentlich auch in hybrider Form in einem der Vortragsräume der Staatlichen Museen. Die Teilnahme ist kostenfrei. \nAm 19.09.2024\, 18 Uhr\, sprechen Lan Linh Merli-Nguyen Hoai & Elisa Carl\, SMB  über die „Wiederentdeckung einer Medieninstallation: Bill Violas Frühwerk nach Jahrzehnten im Verborgenen“. \n Die Arbeit von Bill Viola (1951-2024) „He weeps for you“\, bei der es sich um ein Frühwerk des Videokunstpioniers handelt\, ist eine der programmatischen Medienkunstarbeiten\, die 1996 im Zuge der Eröffnung des Hamburger Bahnhofs – Nationalgalerie der Gegenwart erworben wurden. Nachdem die Installation über Jahrzehnte hinter einer Wandverkleidung verborgen lagerte\, sind die einzelnen Werkkomponenten in einem Konservierungsprojekt wieder zum Vorschein gebracht worden. Die Medienrestauratorin Lan Linh Merli-Nguyen Hoai erstellte in Zusammenarbeitet mit der Restauratorin des Hauses\, Elisa Carl\, und weiteren externen Expert*innen eine detaillierte Zustandserfassung und recherchierte die Historie des Werkes. Basierend auf diesen Ergebnissen und im Dialog mit dem Künstlerstudio soll eruiert werden\, wie das Werk wieder aktiviert und langfristig erhalten werden kann. Die Überlegungen werden in Hinblick auf die Erstellung eines Präsentations- und Erhaltungskonzeptes für die geplante Installation im Neubau der Nationalgalerie von Bedeutung sein.  \n 
URL:https://www.restauratoren.de/termin/online-vortrag-bill-violas-fruehwerk-nach-jahrzehnten-im-verborgenen/
CATEGORIES:Externe Veranstaltung
END:VEVENT
BEGIN:VEVENT
DTSTART;TZID=Europe/Paris:20240919T190000
DTEND;TZID=Europe/Paris:20240919T203000
DTSTAMP:20260426T013141
CREATED:20240912T101437Z
LAST-MODIFIED:20240912T101437Z
UID:10001966-1726772400-1726777800@www.restauratoren.de
SUMMARY:Die Rolle der Zivilgesellschaft beim Schutz von Kulturerbe in Konflikt- und Krisensituationen
DESCRIPTION:Die Deutsche Gesellschaft für Kulturgutschutz e.V. lädt zum nächsten online Vortrag von ** Spotlight Kulturgutschutz **  am Donnerstag\, dem 19. September 2024\, 19:00h MEZ ein. \nGehalten wird der Vortrag von: \nAnna Puhr\,  Stellv. Generalsekretärin Blue Shield Austria\, Vorstandsmitglied Blue Shield International & Fachbereich Kulturgüterschutz an der Landesverteidigungsakademie Wien \n  \nzum Thema: \nDie Rolle der Zivilgesellschaft beim Schutz von Kulturerbe in Konflikt- und Krisensituationen\nDer Erfolg beim Schutz von Kulturellem Erbe misst sich am Zusammenspiel seiner unterschiedlichen Akteure: Neben staatlichen Institutionen und internationalen Organisationen wie der UNESCO spielt dabei die Zivilgesellschaft eine bedeutsame Rolle. So sind es gerade Nichtregierungsorganisationen (NGOs)\, die schnell und flexibel in Konflikt- und Krisensituationen reagieren können. Am Beispiel von Blue Shield International und den Aktivitäten seiner Nationalkomitees wird aufgezeigt\, was zivilgesellschaftliches Engagement im (internationalen) Kulturgüterschutz bewirken kann und warum stetiger Austausch für den nachhaltigen Schutz unseres kulturellen Erbes unerlässlich ist. \n  \n**NEU!!** VORTRAG NUR MIT ANMELDUNG MÖGLICH \nAufgrund zunehmender Cyber-Gefahr u.a. das Einklinken ungewollter Bots in den digitalen Vortragsraum ist der Zugang zum Online-Vortrag nur noch nach Anmeldung möglich. Bitte klicken Sie auf den unten stehenden Link und melden sich an. Daraufhin wird Ihnen ein aktueller Zugang zur Vortragsplattform gesendet: \nhttps://us06web.zoom.us/meeting/register/tZcldO6urjsvGNIa7TGMNLXyexTNwm1Mquw5 \n  \n  \nDas weitere Vortragsprogramm finden Sie auf der Homepage der DGKS:\nhttps://dgks-ev.org/deutsche-gesellschaft-fur-kulturgutschutz-e-v-dgks/spotlight-kulturgutschutz/
URL:https://www.restauratoren.de/termin/die-rolle-der-zivilgesellschaft-beim-schutz-von-kulturerbe-in-konflikt-und-krisensituationen/
CATEGORIES:Externe Veranstaltung
END:VEVENT
END:VCALENDAR