BEGIN:VCALENDAR
VERSION:2.0
PRODID:-//Verband der Restauratoren VDR - ECPv6.15.15//NONSGML v1.0//EN
CALSCALE:GREGORIAN
METHOD:PUBLISH
X-WR-CALNAME:Verband der Restauratoren VDR
X-ORIGINAL-URL:https://www.restauratoren.de
X-WR-CALDESC:Veranstaltungen für Verband der Restauratoren VDR
REFRESH-INTERVAL;VALUE=DURATION:PT1H
X-Robots-Tag:noindex
X-PUBLISHED-TTL:PT1H
BEGIN:VTIMEZONE
TZID:Europe/Paris
BEGIN:DAYLIGHT
TZOFFSETFROM:+0100
TZOFFSETTO:+0200
TZNAME:CEST
DTSTART:20230326T010000
END:DAYLIGHT
BEGIN:STANDARD
TZOFFSETFROM:+0200
TZOFFSETTO:+0100
TZNAME:CET
DTSTART:20231029T010000
END:STANDARD
BEGIN:DAYLIGHT
TZOFFSETFROM:+0100
TZOFFSETTO:+0200
TZNAME:CEST
DTSTART:20240331T010000
END:DAYLIGHT
BEGIN:STANDARD
TZOFFSETFROM:+0200
TZOFFSETTO:+0100
TZNAME:CET
DTSTART:20241027T010000
END:STANDARD
BEGIN:DAYLIGHT
TZOFFSETFROM:+0100
TZOFFSETTO:+0200
TZNAME:CEST
DTSTART:20250330T010000
END:DAYLIGHT
BEGIN:STANDARD
TZOFFSETFROM:+0200
TZOFFSETTO:+0100
TZNAME:CET
DTSTART:20251026T010000
END:STANDARD
END:VTIMEZONE
BEGIN:VEVENT
DTSTART;VALUE=DATE:20240926
DTEND;VALUE=DATE:20240928
DTSTAMP:20260425T142508
CREATED:20240722T175503Z
LAST-MODIFIED:20240722T175503Z
UID:10001940-1727308800-1727481599@www.restauratoren.de
SUMMARY:Workshop und Tagung "Mauerwerkssalze verstehen"
DESCRIPTION:„Mauerwerkssalze verstehen“\n Workshop und Tagung\nTH Köln\, 26. und 27. September 2024 \nAm 26. und 27. September 2024 richten der Verein Salze im Kulturgut SiK e.V.\, das Institut für Restaurierungs- und Konservierungswissenschaft der TH Köln und das Amt für Denkmalpflege des Landschaftsverbandes Rheinland gemeinsam eine Veranstaltung zum Einfluss von Salzen auf Bauwerke aus. \nDie praxisorientierte Veranstaltung richtet sich an Konservierungswissenschaftler:innen; Restaurator:innen; Naturwissenschaftler:innen; Ingenieur:innen sowie Architekt:innen\, die mit der Problematik von Salzschäden an Gebäuden und Kulturgütern konfrontiert und / oder mit der Analytik von Salzproben beschäftigt sind. \nDie Veranstaltung gliedert sich in einen Workshop-Teil am 26.09.2024 mit vielen Informationen durch die Veranstalter sowie einen Tagungsteil mit Exkursion am 27.09.2024. \nHier finden Sie die Einladung zur Veranstaltung mit dem finalen Programm für beide Tage. \nHier finden Sie – noch einmal separat – den Vordruck für die Anmeldung zur Veranstaltung.
URL:https://www.restauratoren.de/termin/workshop-und-tagung-mauerwerkssalze-verstehen/
CATEGORIES:Externe Veranstaltung
END:VEVENT
BEGIN:VEVENT
DTSTART;TZID=Europe/Paris:20240926T180000
DTEND;TZID=Europe/Paris:20240927T170000
DTSTAMP:20260425T142508
CREATED:20240626T061838Z
LAST-MODIFIED:20240626T061838Z
UID:10001920-1727373600-1727456400@www.restauratoren.de
SUMMARY:Symposium: Anna Dorothea Therbusch im Kontext Künstlerinnen und Künstler des 18. Jhs in Berlin und Europa
DESCRIPTION:Buchpräsentation und Symposium am 26. und 27. September 2024\nGemäldegalerie – Staatliche Museen zu Berlin \nDer Berliner Malerin Anna Dorothea Therbusch (1721–1782) gelang im 18. Jahrhundert eine bemerkenswerte internationale Karriere mit Stationen in Stuttgart\, Mannheim und Paris. Dort wurde sie in die Académie royale aufgenommen und stellte im Salon aus. Seit 1769 zurück in ihrer Heimatstadt\, wurde Therbusch zu einer gefragten Porträtistin der Berliner Gesellschaft und arbeitete für den russischen Zarenhof sowie das preußische Königshaus. \nDas Fachsymposium bildet den Abschluss eines zweijährigen kunsthistorischen und kunsttechnologischen Forschungs- und Publikationsprojekts der Berliner Gemäldegalerie zu Therbuschs Werken in den öffentlichen Sammlungen Berlins und Brandenburgs. Es dient dazu\, die Forschenden zusammenzuführen\, die gewonnen Ergebnisse zu teilen und weitere Forschungsperspektiven aufzuzeigen. \nTagungsprogramm und Anmeldung auf der Website der Staatlichen Museen zu Berlin: \nhttps://www.smb.museum/museen-einrichtungen/kulturforum/veranstaltungen/detail/anna-dorothea-therbusch-im-kontext-2024-09-26-180000-144483/
URL:https://www.restauratoren.de/termin/symposium-anna-dorothea-therbusch-im-kontext-kuenstlerinnen-und-kuenstler-des-18-jhs-in-berlin-und-europa/
LOCATION:Kulturforum Berlin\, Matthäikirchplatz\, Berlin\, 10785\, Deutschland
CATEGORIES:Externe Veranstaltung
ATTACH;FMTTYPE=image/jpeg:https://www.restauratoren.de/wp-content/uploads/2024/06/Therbusch_Symposium_.jpg
END:VEVENT
BEGIN:VEVENT
DTSTART;TZID=Europe/Paris:20240927T130000
DTEND;TZID=Europe/Paris:20240927T150000
DTSTAMP:20260425T142508
CREATED:20240810T090534Z
LAST-MODIFIED:20240810T090534Z
UID:10001956-1727442000-1727449200@www.restauratoren.de
SUMMARY:Online-Treffen der Interessengruppe Öffentlicher Dienst
DESCRIPTION:LIebe Kolleginnen\, liebe Kollegen\, \nbereits seit etwas mehr als zwei Jahren sind wir als Sprecherinnenteam IGöD für Euch tätig. Entsprechend der Satzung ist ein Sprecher:innenteam nach zwei Jahren neu zu wählen. \nTanja Kreß und Jenny Wölk werden aus persönlichen Gründen beide leider das Team verlassen. \nWie bereits in unserem letzten Aufruf im Juni mitgeteilt\, wäre Susanne Danter bereit auf die alte Position als Sprecherin zu kandidieren. Des Weiteren haben sich Imogen Grönninger und Svenja Kampe bereit erklärt\, auf die freiwerdenden Positionen zu kandidieren. \nFür weitere Kolleg:innen\, die sich ebenfalls zur Wahl stellen (oder auch ohne offizielle Funktion engagieren) möchten\, besteht bis zum 25. September 2024 die Möglichkeit\, sich direkt bei uns zu melden (E-Mail direkt an oeffentlicher-dienst(at)vdr.restauratoren.de). \nDas digitale Treffen der IGöD am 27.09.2024 (13-15 Uhr) verbinden wir mit der digitalen Neuwahl des Sprecher:innenteams. \n>> Jetzt HIER zum digitalen Treffen anmelden << \n Die Login-Daten gehen angemeldeten Teilnehmer:innen rechtzeitig vor dem Treffen per E-Mail zu. \nINHALTE DES DIGITALEN TREFFENS \nDer erste Teil der Veranstaltung beschäftigt sich mit den Themen Erneuerung der Entgeltordnung Länder und der Mitgliedschaft in ver.di. In den letzten Tarifverhandlungen der Länder wurde vereinbart\, dass Gespräche zur Überarbeitung der Entgeltordnungen folgen sollen. Doch wie kann dies aussehen? Wie ist der aktuelle Stand? Was sind die Widrigkeiten\, mit denen wir zu rechnen haben? Diesen und anderen Fragen zum Thema möchten wir mit Vertreter:innen von ver.di nachgehen. Weiter möchten wir erläutern\, welche Vorteile eine Mitgliedschaft in ver.di grundsätzlich und für uns angestellte Restaurator:innen hat. \nIn einem zweiten Teil stellen sich die Kandidat:innen für das neu zu wählende Sprecher:innenteam vor. \nDie Veranstaltung schließt ab mit einem offenen Austausch über zukünftige Themen und Ausrichtungen der IGöD. \nWir freuen uns über Ihr/Euer digitales Kommen und danken für das bis hierher entgegengebrachte Vertrauen. Und freuen uns auf alles Weitere! \nMit kollegialen Grüßen\, \nSusanne Danter\, Jenny Wölk und Tanja Kreß \nSprecherinnen der Interessengruppe öffentlicher Dienst (IGöD)
URL:https://www.restauratoren.de/termin/online-treffen-der-interessengruppe-oeffentlicher-dienst/
CATEGORIES:IG Öffentlicher Dienst,VDR-Veranstaltung
ATTACH;FMTTYPE=image/jpeg:https://www.restauratoren.de/wp-content/uploads/2017/02/Cover_Faltblatt_IGÖD.jpg
END:VEVENT
BEGIN:VEVENT
DTSTART;TZID=Europe/Paris:20240927T140000
DTEND;TZID=Europe/Paris:20240927T150000
DTSTAMP:20260425T142508
CREATED:20240729T101500Z
LAST-MODIFIED:20240729T101500Z
UID:10001942-1727445600-1727449200@www.restauratoren.de
SUMMARY:Online-Vortrag: Fotovoltaik am Denkmal
DESCRIPTION:In der Online Vortragsreihe Denk-mal-Nach-mittag des Bauarchivs Thierhaupten spricht Sabrina Sommer vom Bayerischen Landesamt für Denkmalpflege am 27.09.2024 von 14 -15 Uhr über „Fotovoltaik am Baudenkmal“. \nkostenfrei\, eine Anmeldung ist nicht erforderlich\, den Zugangslink finden Sie jeweils unter Veranstaltungen \n 
URL:https://www.restauratoren.de/termin/online-vortrag-fotovoltaik-am-denkmal/
CATEGORIES:Externe Veranstaltung
END:VEVENT
BEGIN:VEVENT
DTSTART;TZID=Europe/Paris:20240927T140000
DTEND;TZID=Europe/Paris:20240927T170000
DTSTAMP:20260425T142508
CREATED:20240909T094558Z
LAST-MODIFIED:20240909T104941Z
UID:10001964-1727445600-1727456400@www.restauratoren.de
SUMMARY:Führung durch die Gartenanlage Hohenhof in Hagen
DESCRIPTION:Am 27. September 2024\, bietet die LWL-Denkmalpflege\, Landschafts- und Baukultur in Westfalen von 14-17 Uhr eine Denkmalführung an: \nEINBLICK: Gartenanlage Hohenhof in Hagen \nDenkmalführung und Gespräch vor Ort \nWeitere Informationen und Anmeldung: \nLWL | 2024 EINBLICK: Gartenanlage Hohenhof in Hagen – LWL-Denkmalpflege\, Landschafts- und Baukultur in Westfalen (lwl-dlbw.de) \nIn die historische Gartenanlage der Villa Hohenhof in Hagen laden wir am 27. September im Rahmen unserer Veranstaltungsreihe EINBLICK ein. Gemeinsam mit der Stadt Hagen und dem Osthaus Museum Hagen stellen wir das Gartenkunstwerk und die 2023 abgeschlossene Revitalisierungsmaßnahme vor. \nEntstanden sind die Jugendstilvilla Hohenhof und ihr parkartiger Garten ab 1906 im Auftrag von Karl Ernst Osthaus\, einem der wichtigsten Kunstmäzenen und –sammler des 20. Jahrhunderts. Die Pläne entwarf der belgische Architekt Henri van de Velde\, der Gebäude\, Inneneinrichtung und Außenanlagen als Gesamtkunstwerk konzipierte. Wenig später wurde der architektonische Garten durch Leberecht Migge erweitert und mit einer üppigeren Bepflanzung ergänzt. \nMit der Veräußerung des Ensembles an die Stadt Hagen im Jahr 1927 und damit einhergehenden diversen Nutzungen in der Folgezeit veränderte sich der baukünstlerisch hochkarätige Charakter zum Teil erheblich. Für den Garten stellte die Errichtung von mehreren Pavillons für die bis 1976 im Hohenhof befindliche pädagogische Hochschule Hagen den größten Einschnitt in die Substanz dar. \nMithilfe eines Planungsbüros und umfangreichen EU-Förderungen konnte der Garten in den Jahren 2019 bis 2023 denkmalgerecht und unter Berücksichtigung ökologischer Aspekte nach historischen Plänen revitalisiert werden. Der aufwendig instandgesetzte Hohenhof ist mit dem Museum des Hagener Impulses\, einer Außenstelle des Osthaus Museums\, und der Gartenanlage einer der Austragungsorte der IGA 2027. \nInhalte und Programm \nKurzvorträge \nDr. Elisabeth May\, Leiterin Bildung & Vermittlung des Osthaus Museums Hagen stellt das Gesamtkunstwerk Hohenhof aus kunsthistorischer Sicht vor und berichtet über die heutige museale Nutzung des Ensembles. \nDr. Dorothee Boesler\, Leiterin des Referats für Städtebau und Landschaftskultur der LWL-Denkmalpflege\, Landschafts- und Baukultur in Westfalen stellt die Gartendenkmalpflege des LWL-Fachamts\, deren Ziele und Methoden vor. \nGartenführung \nLandschaftsarchitektin Stephanie Roth\, Abteilungsleiterin für Freiraum- und Grünordnungsplanung der Stadt Hagen und LWL-Gartendenkmalpfleger Marcus Weiß führen gemeinsam durch das Gartendenkmal. Vor Ort zeigen die beiden\, was die Anlage so besonders macht und erläutern Hintergründe und Herangehensweise des jüngst abgeschlossenen Revitalisierungsprojekts. Dabei gehen sie auch auf neue wissenschaftliche Erkenntnisse\, etwa durch archäologische Untersuchungen\, und praktische Fragestellungen der Gartendenkmalpflege ein. \nGet-Together \nIm Anschluss an die Veranstaltung laden wir zu einem gemeinsamen Ausklang mit Kaltgetränken und Gebäck ein. Hier besteht Gelegenheit zum Austausch und für weitere Fragen an die Expertinnen und Experten.
URL:https://www.restauratoren.de/termin/fuehrung-durch-die-gartenanlage-hohenhof-in-hagen/
CATEGORIES:Externe Veranstaltung
END:VEVENT
END:VCALENDAR