BEGIN:VCALENDAR
VERSION:2.0
PRODID:-//Verband der Restauratoren VDR - ECPv6.15.15//NONSGML v1.0//EN
CALSCALE:GREGORIAN
METHOD:PUBLISH
X-ORIGINAL-URL:https://www.restauratoren.de
X-WR-CALDESC:Veranstaltungen für Verband der Restauratoren VDR
REFRESH-INTERVAL;VALUE=DURATION:PT1H
X-Robots-Tag:noindex
X-PUBLISHED-TTL:PT1H
BEGIN:VTIMEZONE
TZID:Europe/Paris
BEGIN:DAYLIGHT
TZOFFSETFROM:+0100
TZOFFSETTO:+0200
TZNAME:CEST
DTSTART:20230326T010000
END:DAYLIGHT
BEGIN:STANDARD
TZOFFSETFROM:+0200
TZOFFSETTO:+0100
TZNAME:CET
DTSTART:20231029T010000
END:STANDARD
BEGIN:DAYLIGHT
TZOFFSETFROM:+0100
TZOFFSETTO:+0200
TZNAME:CEST
DTSTART:20240331T010000
END:DAYLIGHT
BEGIN:STANDARD
TZOFFSETFROM:+0200
TZOFFSETTO:+0100
TZNAME:CET
DTSTART:20241027T010000
END:STANDARD
BEGIN:DAYLIGHT
TZOFFSETFROM:+0100
TZOFFSETTO:+0200
TZNAME:CEST
DTSTART:20250330T010000
END:DAYLIGHT
BEGIN:STANDARD
TZOFFSETFROM:+0200
TZOFFSETTO:+0100
TZNAME:CET
DTSTART:20251026T010000
END:STANDARD
END:VTIMEZONE
BEGIN:VEVENT
DTSTART;VALUE=DATE:20241202
DTEND;VALUE=DATE:20241206
DTSTAMP:20260424T152125
CREATED:20241030T093911Z
LAST-MODIFIED:20241121T100025Z
UID:10001992-1733097600-1733443199@www.restauratoren.de
SUMMARY:Online-Conference: Disaster Risk Management for Cultural Heritage
DESCRIPTION:FOCUS ON CONSERVATION 2024 – Disaster Risk Management  for Cultural Heritage \nDECEMBER 2–5\, 2024\, ONLINE CONFERENCE \nFREE PARTICIPATION\, REGISTRATION REQUIRED \n\n\n\nWhat are the risks for objects in our collections?\nWhat can we do to protect them before\, during and after disaster strikes?\nThis international conference will look into preparation\, response\, training\, research and networks to address and mitigate the effect of disasters on cultural heritage. \nFor further information \n  \n 
URL:https://www.restauratoren.de/termin/online-conference-disaster-risk-management-for-cultural-heritage/
CATEGORIES:Externe Veranstaltung
END:VEVENT
BEGIN:VEVENT
DTSTART;TZID=Europe/Paris:20241203T171500
DTEND;TZID=Europe/Paris:20241203T183000
DTSTAMP:20260424T152125
CREATED:20241030T095747Z
LAST-MODIFIED:20241030T095747Z
UID:10001996-1733246100-1733250600@www.restauratoren.de
SUMMARY:Online-Vortrag: It is all about air
DESCRIPTION:Online-Vortrag: 03.12.2024\, 17:15 Uhr\nAlexandra Schieweck\, Fraunhofer-Institut für Holzforschung\nIt is all about air – Von der Restaurierung in die angewandte Forschung \n  \nAnlässlich des 50jährigen Bestehens widmet sich der DenkRaum Restaurierung den Alumni des Dresdner Studienganges. Die Möglichkeiten und Wege nach Abschluss des Studiums sind bunt und vielfältig. Einige entscheiden sich\, direkt in die (selbständige) Arbeitswelt einzutauchen und ihre erworbenen Kenntnisse in die Praxis umzusetzen\, während andere noch eine zusätzliche Ausbildung absolvieren oder in Forschungsprojekten mitwirken. Jeder dieser Wege ist einzigartig und es spiegeln sich die unterschiedlichsten Interessen\, Talente oder Ambitionen darin wieder. In der diesjährigen Vortragsreihe geben Alumni Einblicke in ihren Lebensweg\, ihren beruflichen Alltag und in spannende Forschungsprojekte. \nProgramm und ZOOM-Link
URL:https://www.restauratoren.de/termin/online-vortrag-it-is-all-about-air/
CATEGORIES:Externe Veranstaltung
END:VEVENT
BEGIN:VEVENT
DTSTART;TZID=Europe/Paris:20241203T180000
DTEND;TZID=Europe/Paris:20241203T190000
DTSTAMP:20260424T152125
CREATED:20241030T103928Z
LAST-MODIFIED:20241030T103928Z
UID:10002004-1733248800-1733252400@www.restauratoren.de
SUMMARY:Vortrag: Gedenkstätte für die Opfer des KZ Langenstein-Zwieberge
DESCRIPTION:03.12.2024\, 18:00 Uhr\nDipl.-Rest. Dirk Knüpfer: Gedenkstätte für die Opfer des KZ Langenstein-Zwieberge. Konservierung / Restaurierung baulicher Überreste ehemaliger Lagergebäude \n\nOrt: Haus D\nRaum: 011\n\n  \n\nGastvorträge der Konservierung und Restaurierung der FH Potsdam im Wintersemester 2024/25 \n\n\nFachbereich STADT | BAU | KULTUR\nPräsentation/Vortrag\n\n\nIm laufenden Wintersemester finden regelmäßig Gastvorträge statt\, organisiert vom Studiengang Konservierung und Restaurierung \n\n\nMit spannenden und informativen Vorträgen aus der Theorie und Praxis der Restaurierung läuten wir wieder die Gastvortragsreihe fürs Wintersemester 2024/25 ein. Sie finden jeweils an ausgewählten Dienstagabenden als Hybrid-Veranstaltungen um 18 Uhr im Haus D statt. \nDie Vorträge mit den anschließenden Diskussionen sind eine einmalige Gelegenheit\, Expert*innen aus der Konservierung und Restaurierung kennenzulernen und aus erster Hand etwas über ihre Themen und Projekte zu erfahren. \nSie können an den Vorträgen auch online via Zoom teilnehmen. \nEinwahldaten für die Teilnahme via Zoom: \n\n\nZoom-Link \n\n\nMeeting ID: 683 2193 5738 Passcode: 85724159
URL:https://www.restauratoren.de/termin/vortrag-gedenkstaette-fuer-die-opfer-des-kz-langenstein-zwieberge/
CATEGORIES:Externe Veranstaltung
END:VEVENT
BEGIN:VEVENT
DTSTART;TZID=Europe/Paris:20241203T193000
DTEND;TZID=Europe/Paris:20241203T210000
DTSTAMP:20260424T152125
CREATED:20241104T102638Z
LAST-MODIFIED:20241104T102638Z
UID:10002010-1733254200-1733259600@www.restauratoren.de
SUMMARY:Online-Treffen der Fachgruppe Moderne und Zeitgenössische Kunst
DESCRIPTION:Liebe Mitglieder der Fachgruppe Moderne und Zeitgenössische Kunst\, \nwir möchten euch herzlich zu einem Online-Fachgruppentreffen mit Wahl des dreiköpfigen Sprecher:innen-Teams am 03.12.2024 um 19:30 Uhr einladen. Die Anmeldung zu dieser Veranstaltung und damit zur Online-Abstimmung ist bis einschließlich 01.12.2024 per E-Mail möglich. Alle Fachgruppenmitglieder\, die sich bis dahin angemeldet haben\, erhalten per E-Mail den Link zum Online-Treffen und zur Wahl. \nArtemis Rüstau verabschiedet sich nach vielen Jahren als Sprecherin. Wir danken ihr bereits jetzt für ihr großes Engagement. Mine Erhan wird erneut als Fachgruppenvorsitzende und Isa von Lenthe als Stellvertreterin zur Wahl stehen. Julia Hartmann würde sich freuen\, als weitere Stellvertreterin gewählt zu werden und wird sich beim Fachgruppentreffen kurz vorstellen; sie hat in den letzten Jahren bereits aktiv bei NEULAND mitgewirkt. Wir laden alle Interessierten ein\, sich vorab bei uns zu melden\, wenn sie auch kandidieren möchten. Darüber hinaus gibt es zahlreiche Möglichkeiten zur aktiven Mitarbeit in verschiedenen Themen- und Aufgabenbereichen für alle\, die Interesse an einer Mitarbeit haben. \nWir möchten bei dem Treffen auch über das Jahr 2024 und Projekte für das Jahr 2025 mit Euch sprechen. Ihr könnt uns gerne auch vorab Themenwünsche per Mail schicken. \nWir würden uns sehr über eine rege Teilnahme freuen! \nViele Grüße\nMine Erhan und Isa von Lenthe
URL:https://www.restauratoren.de/termin/online-treffen-der-fachgruppe-moderne-und-zeitgenoessische-kunst-2/
CATEGORIES:Fachgruppe Moderne und Zeitgenössische Kunst,VDR-Veranstaltung
ATTACH;FMTTYPE=image/jpeg:https://www.restauratoren.de/wp-content/uploads/2017/02/Moderne_Kunst.jpg
END:VEVENT
END:VCALENDAR