BEGIN:VCALENDAR
VERSION:2.0
PRODID:-//Verband der Restauratoren VDR - ECPv6.15.15//NONSGML v1.0//EN
CALSCALE:GREGORIAN
METHOD:PUBLISH
X-ORIGINAL-URL:https://www.restauratoren.de
X-WR-CALDESC:Veranstaltungen für Verband der Restauratoren VDR
REFRESH-INTERVAL;VALUE=DURATION:PT1H
X-Robots-Tag:noindex
X-PUBLISHED-TTL:PT1H
BEGIN:VTIMEZONE
TZID:Europe/Paris
BEGIN:DAYLIGHT
TZOFFSETFROM:+0100
TZOFFSETTO:+0200
TZNAME:CEST
DTSTART:20240331T010000
END:DAYLIGHT
BEGIN:STANDARD
TZOFFSETFROM:+0200
TZOFFSETTO:+0100
TZNAME:CET
DTSTART:20241027T010000
END:STANDARD
BEGIN:DAYLIGHT
TZOFFSETFROM:+0100
TZOFFSETTO:+0200
TZNAME:CEST
DTSTART:20250330T010000
END:DAYLIGHT
BEGIN:STANDARD
TZOFFSETFROM:+0200
TZOFFSETTO:+0100
TZNAME:CET
DTSTART:20251026T010000
END:STANDARD
BEGIN:DAYLIGHT
TZOFFSETFROM:+0100
TZOFFSETTO:+0200
TZNAME:CEST
DTSTART:20260329T010000
END:DAYLIGHT
BEGIN:STANDARD
TZOFFSETFROM:+0200
TZOFFSETTO:+0100
TZNAME:CET
DTSTART:20261025T010000
END:STANDARD
END:VTIMEZONE
BEGIN:VEVENT
DTSTART;TZID=Europe/Paris:20250116T170000
DTEND;TZID=Europe/Paris:20250116T183000
DTSTAMP:20260421T211509
CREATED:20241217T113121Z
LAST-MODIFIED:20241217T113121Z
UID:10002027-1737046800-1737052200@www.restauratoren.de
SUMMARY:Online-Vortrag: Umgang mit arsenhaltigen Objekten ausgehend von Büchern
DESCRIPTION:Online-Vortrag am 16.01.2025: Dr. Andrea Pataki-Hundt\, Professorin für Schriftgut\, Grafik\, Fotografie und Buchmalerei\, CICS Köln\nUmgang mit arsenhaltigen Objekten ausgehend von Büchern nach dem (S)TOP-Prinzip \nAm Beispiel der Universitätsbibliothek Bonn wird die Vorgehensweise beim Umgang mit arsenhaltigen Beständen basierend auf einem zurückliegenden Forschungsprojekt des Cologne Institute of Conservation Sciences (CICS) dargelegt. Das (S)TOP-Prinzip\, die aktuelle Literaturlage\, die neueste Handreichung und die wichtigsten Entscheidungen werden für den Umgang mit Arsen\, aber auch weiteren Gefahrstoffen\, diskutiert. \nDas Restaurierungskolloquium am Technoseum Mannheim bietet seit 1988 eine Plattform für aktuelle Fragen\, die sich mit der Erhaltung und Bewahrung von Kunst- und Kulturgut beschäftigen. \n\n\nDie Vorträge werden online über Teams übertragen. \n\n\nEinwählen kann man sich über die Internetseite des TECHNOSEUM: www.technoseum.de \n\n\nBeginn: 17:00 Uhr \n\n\nEs ist keine Anmeldung notwendig!
URL:https://www.restauratoren.de/termin/online-vortrag-umgang-mit-arsenhaltigen-objekten-ausgehend-von-buechern/
CATEGORIES:Externe Veranstaltung
END:VEVENT
END:VCALENDAR