BEGIN:VCALENDAR
VERSION:2.0
PRODID:-//Verband der Restauratoren VDR - ECPv6.15.15//NONSGML v1.0//EN
CALSCALE:GREGORIAN
METHOD:PUBLISH
X-WR-CALNAME:Verband der Restauratoren VDR
X-ORIGINAL-URL:https://www.restauratoren.de
X-WR-CALDESC:Veranstaltungen für Verband der Restauratoren VDR
REFRESH-INTERVAL;VALUE=DURATION:PT1H
X-Robots-Tag:noindex
X-PUBLISHED-TTL:PT1H
BEGIN:VTIMEZONE
TZID:Europe/Paris
BEGIN:DAYLIGHT
TZOFFSETFROM:+0100
TZOFFSETTO:+0200
TZNAME:CEST
DTSTART:20240331T010000
END:DAYLIGHT
BEGIN:STANDARD
TZOFFSETFROM:+0200
TZOFFSETTO:+0100
TZNAME:CET
DTSTART:20241027T010000
END:STANDARD
BEGIN:DAYLIGHT
TZOFFSETFROM:+0100
TZOFFSETTO:+0200
TZNAME:CEST
DTSTART:20250330T010000
END:DAYLIGHT
BEGIN:STANDARD
TZOFFSETFROM:+0200
TZOFFSETTO:+0100
TZNAME:CET
DTSTART:20251026T010000
END:STANDARD
BEGIN:DAYLIGHT
TZOFFSETFROM:+0100
TZOFFSETTO:+0200
TZNAME:CEST
DTSTART:20260329T010000
END:DAYLIGHT
BEGIN:STANDARD
TZOFFSETFROM:+0200
TZOFFSETTO:+0100
TZNAME:CET
DTSTART:20261025T010000
END:STANDARD
END:VTIMEZONE
BEGIN:VEVENT
DTSTART;VALUE=DATE:20250207
DTEND;VALUE=DATE:20250208
DTSTAMP:20260423T071449
CREATED:20241217T105008Z
LAST-MODIFIED:20241217T105008Z
UID:10002026-1738886400-1738972799@www.restauratoren.de
SUMMARY:Workshop "Hausmadonnen"
DESCRIPTION:Das Germanische Nationalmuseum lädt zur Tagung “Hausmadonnen” am 07.02.2025 ein. Skulpturale Hausmadonnen prägen bis heute das Stadtbild\, besonders in Süddeutschland. Viele Fragen zu dieser Objektgruppe sind bisher kaum erforscht: Wo liegen die Ursprünge? Wen schützten die Madonnen? Wer beauftragte und schuf diese Skulpturen? \nDer interdisziplinäre Workshop bringt Expert*innen aus verschiedenen Fachbereichen zusammen\, um neue Perspektiven auf Hausmadonnen zu eröffnen. Der Workshop ist eine Kooperation zwischen dem Germanischen Nationalmuseum und der Universität Bamberg\, gefördert vom Zentrum für Mittelalterstudien (ZeMas). \nProgramm und Anmeldemodalitäten: https://www.gnm.de/fileadmin/redakteure/Forschung/pdf/Tagungen/GNM_Workshop_Hausmadonen.pdf
URL:https://www.restauratoren.de/termin/workshop-hausmadonnen/
CATEGORIES:Externe Veranstaltung
END:VEVENT
BEGIN:VEVENT
DTSTART;VALUE=DATE:20250207
DTEND;VALUE=DATE:20250208
DTSTAMP:20260423T071449
CREATED:20250113T093954Z
LAST-MODIFIED:20250113T093954Z
UID:10002036-1738886400-1738972799@www.restauratoren.de
SUMMARY:Graduiertentag im Studiengang Konservierung und Restaurierung der FH Potsdam
DESCRIPTION:Die Bachelor- und Masterabsolvent*innen des Studiengangs Konservierung und Restaurierung präsentieren am 7. Februar 2025 ihre Forschungsarbeiten. Die Veranstaltung wird in hybrider Form durchgeführt – in Präsenz an der FH Potsdam sowie als Live-Übertragung via Zoom. \n\n\nAm Graduiertentag des Studiengangs Konservierung und Restaurierung präsentieren die Absolvent*innen des letzten Jahres ihre Abschlussarbeiten aus den Fachrichtungen Wandmalerei\, Holz und Stein. Die Vorträge bieten einen spannenden Einblick in aktuelle Themen der Restaurierungspraxis und -forschung. \nDer Graduiertentag beginnt mit der Begrüßung um 09:20 Uhr und endet mit der feierlichen Verabschiedung der Absolvent*innen ab 16:50 Uhr. \nAlle Interessierten sind eingeladen\, die Vorträge vor Ort oder live über Zoom zu verfolgen. Nutzen Sie die Gelegenheit zum fachlichen Austausch mit Lehrenden\, Studierenden und Absolvent*innen. \nWeitere Informationen und Programm
URL:https://www.restauratoren.de/termin/graduiertentag-im-studiengang-konservierung-und-restaurierung-der-fh-potsdam/
CATEGORIES:Externe Veranstaltung
END:VEVENT
END:VCALENDAR