BEGIN:VCALENDAR
VERSION:2.0
PRODID:-//Verband der Restauratoren VDR - ECPv6.15.15//NONSGML v1.0//EN
CALSCALE:GREGORIAN
METHOD:PUBLISH
X-ORIGINAL-URL:https://www.restauratoren.de
X-WR-CALDESC:Veranstaltungen für Verband der Restauratoren VDR
REFRESH-INTERVAL;VALUE=DURATION:PT1H
X-Robots-Tag:noindex
X-PUBLISHED-TTL:PT1H
BEGIN:VTIMEZONE
TZID:Europe/Paris
BEGIN:DAYLIGHT
TZOFFSETFROM:+0100
TZOFFSETTO:+0200
TZNAME:CEST
DTSTART:20240331T010000
END:DAYLIGHT
BEGIN:STANDARD
TZOFFSETFROM:+0200
TZOFFSETTO:+0100
TZNAME:CET
DTSTART:20241027T010000
END:STANDARD
BEGIN:DAYLIGHT
TZOFFSETFROM:+0100
TZOFFSETTO:+0200
TZNAME:CEST
DTSTART:20250330T010000
END:DAYLIGHT
BEGIN:STANDARD
TZOFFSETFROM:+0200
TZOFFSETTO:+0100
TZNAME:CET
DTSTART:20251026T010000
END:STANDARD
BEGIN:DAYLIGHT
TZOFFSETFROM:+0100
TZOFFSETTO:+0200
TZNAME:CEST
DTSTART:20260329T010000
END:DAYLIGHT
BEGIN:STANDARD
TZOFFSETFROM:+0200
TZOFFSETTO:+0100
TZNAME:CET
DTSTART:20261025T010000
END:STANDARD
END:VTIMEZONE
BEGIN:VEVENT
DTSTART;TZID=Europe/Paris:20250312T150000
DTEND;TZID=Europe/Paris:20250312T163000
DTSTAMP:20260425T154307
CREATED:20250212T193308Z
LAST-MODIFIED:20250212T193308Z
UID:10002056-1741791600-1741797000@www.restauratoren.de
SUMMARY:Es krabbelt im Karton. Papierfischchen 4.0
DESCRIPTION:+++ VDR Kooperation Weiterbildungsreihe Bestandserhaltung +++ \nEs krabbelt im Karton. Papierfischchen 4.0 \n12.03.2025 – 15:00 bis 16:30 Uhr – kostenfreies Zoom-Meeting \nReferent: Stephan Biebl\, Dipl.-Ing. (FH) Holztechnik\, Sachverständiger für Museumsschädlinge\, museumsschaedlinge.de \nWeitere Informationen
URL:https://www.restauratoren.de/termin/es-krabbelt-im-karton-papierfischchen-4-0/
CATEGORIES:Externe Veranstaltung
END:VEVENT
END:VCALENDAR