BEGIN:VCALENDAR
VERSION:2.0
PRODID:-//Verband der Restauratoren VDR - ECPv6.15.15//NONSGML v1.0//EN
CALSCALE:GREGORIAN
METHOD:PUBLISH
X-WR-CALNAME:Verband der Restauratoren VDR
X-ORIGINAL-URL:https://www.restauratoren.de
X-WR-CALDESC:Veranstaltungen für Verband der Restauratoren VDR
REFRESH-INTERVAL;VALUE=DURATION:PT1H
X-Robots-Tag:noindex
X-PUBLISHED-TTL:PT1H
BEGIN:VTIMEZONE
TZID:Europe/Paris
BEGIN:DAYLIGHT
TZOFFSETFROM:+0100
TZOFFSETTO:+0200
TZNAME:CEST
DTSTART:20240331T010000
END:DAYLIGHT
BEGIN:STANDARD
TZOFFSETFROM:+0200
TZOFFSETTO:+0100
TZNAME:CET
DTSTART:20241027T010000
END:STANDARD
BEGIN:DAYLIGHT
TZOFFSETFROM:+0100
TZOFFSETTO:+0200
TZNAME:CEST
DTSTART:20250330T010000
END:DAYLIGHT
BEGIN:STANDARD
TZOFFSETFROM:+0200
TZOFFSETTO:+0100
TZNAME:CET
DTSTART:20251026T010000
END:STANDARD
BEGIN:DAYLIGHT
TZOFFSETFROM:+0100
TZOFFSETTO:+0200
TZNAME:CEST
DTSTART:20260329T010000
END:DAYLIGHT
BEGIN:STANDARD
TZOFFSETFROM:+0200
TZOFFSETTO:+0100
TZNAME:CET
DTSTART:20261025T010000
END:STANDARD
END:VTIMEZONE
BEGIN:VEVENT
DTSTART;VALUE=DATE:20250316
DTEND;VALUE=DATE:20250317
DTSTAMP:20260421T072556
CREATED:20250224T103045Z
LAST-MODIFIED:20250224T103045Z
UID:10002076-1742083200-1742169599@www.restauratoren.de
SUMMARY:Call for Papers: Weniger ist mehr – Entschichten und Anstrichreduzierung
DESCRIPTION:Call for Papers: Weniger ist mehr – Entschichten und Anstrichreduzierung\nTagung des Bauarchivs Thierhaupten am 30./31.10.2025 \nHistorische Fassungen und Oberflächen sind wesentliche Elemente von Denkmälern und Ausstattungen. Zu den alltäglichen Erfahrungen in der praktischen Denkmalpflege gehören aber auch verwitterte Baustoffe\, nicht tragfähige Altanstriche oder dicke Anstrichpakete\, die die historischen Profile und Details unkenntlich machen. Zudem haben sich moderne Anstrichmaterialien häufig nicht bewährt oder sind für denkmalgerechte Neuanstriche ungeeignet. In diesen Fällen muss auch aus denkmalfachlicher Sicht die Reduzierung von Altanstrichen oder die komplette Entschichtung diskutiert werden. Kenntnisse unterschiedlicher Methoden und die Auswahl des besten Verfahrens für den jeweiligen Einsatzzweck sind Grundvoraussetzungen für ein gutes Ergebnis. \nThemen der Tagung: Die Tagung bietet eine Plattform für den fachlichen Austausch zwischen Planern\, Behörden\, Restauratoren und Handwerkern. Gemeinsame Beiträge von Handwerkern und Planern sind besonders erwünscht. Gesucht werden Beiträge zu unterschiedlichen Verfahren und gelungenen Umsetzungen auf den Untergründen Holz\, Stein\, Putz und Baumetall. Schwerpunkt ist die Anwendung im Bereich der Baudenkmalpflege\, also im großen Maßstab. \nMögliche Fragestellungen:\n Geschichte der Entschichtung und historische Verfahren\n Mechanische\, chemische und thermische Verfahren aus der (angewandten) Forschung\n Überblicksbeiträge aus langjähriger Praxisbeobachtung\n Best-Practice-Beispiele\, aber auch Fehlversuche einzelner Verfahren\n Maßnahmen mit Methodenkombinationen\n Selektive Verfahren zur Erhaltung historischer Fassungen und Bearbeitungsspuren\n Organisatorische Fragen zu Planung\, Ausschreibung\, Arbeitsschutz und Entsorgung \nFormate der Wissensvermittlung:\n Saalvorträge (15–25 Minuten\, mit Online-Übertragung)\n Praktische Vorführungen\, bei denen bis zu 30 Teilnehmer zusehen und ggf. Verfahren ausprobieren können\n Stände von Geräteherstellern/Anwendern mit Postern\, Videos oder Materialmustern \nZu allen Formaten sind begleitende digitale Unterlagen für die Teilnehmer erwünscht. Eine Publikation ist nicht geplant. Für Vorträge und Vorführungen wird eine Aufwandsentschädigung gezahlt.\nEinreichung Ihres Beitrags: Wir freuen uns auf Ihre Vorschläge (max. 250 Wörter) bis zum 16.03.2025 an: bauarchiv(at)blfd.bayern.de.\nBitte geben Sie neben Ihren persönlichen Daten folgende Informationen an: \n\nBehandelte Untergründe\nVerwendete Verfahren (mechanisch\, chemisch oder thermisch)\nGewünschtes Format (Vortrag\, Praxisvorführung\, Stand)\nWir freuen uns auf Ihre Beiträge!\n\nBAYERISCHES LANDESAMT FÜR DENKMALPFLEGE\nAugsburger Straße 22 · 86672 Thierhaupten · www.blfd.bayern.de\nFortbildungs- und Beratungszentrum – Bauarchiv\n08271 8157-10 · bauarchiv@blfd.bayern.de
URL:https://www.restauratoren.de/termin/call-for-papers-weniger-ist-mehr-entschichten-und-anstrichreduzierung/
CATEGORIES:Call for Papers
END:VEVENT
END:VCALENDAR