BEGIN:VCALENDAR
VERSION:2.0
PRODID:-//Verband der Restauratoren VDR - ECPv6.15.15//NONSGML v1.0//EN
CALSCALE:GREGORIAN
METHOD:PUBLISH
X-ORIGINAL-URL:https://www.restauratoren.de
X-WR-CALDESC:Veranstaltungen für Verband der Restauratoren VDR
REFRESH-INTERVAL;VALUE=DURATION:PT1H
X-Robots-Tag:noindex
X-PUBLISHED-TTL:PT1H
BEGIN:VTIMEZONE
TZID:Europe/Paris
BEGIN:DAYLIGHT
TZOFFSETFROM:+0100
TZOFFSETTO:+0200
TZNAME:CEST
DTSTART:20240331T010000
END:DAYLIGHT
BEGIN:STANDARD
TZOFFSETFROM:+0200
TZOFFSETTO:+0100
TZNAME:CET
DTSTART:20241027T010000
END:STANDARD
BEGIN:DAYLIGHT
TZOFFSETFROM:+0100
TZOFFSETTO:+0200
TZNAME:CEST
DTSTART:20250330T010000
END:DAYLIGHT
BEGIN:STANDARD
TZOFFSETFROM:+0200
TZOFFSETTO:+0100
TZNAME:CET
DTSTART:20251026T010000
END:STANDARD
BEGIN:DAYLIGHT
TZOFFSETFROM:+0100
TZOFFSETTO:+0200
TZNAME:CEST
DTSTART:20260329T010000
END:DAYLIGHT
BEGIN:STANDARD
TZOFFSETFROM:+0200
TZOFFSETTO:+0100
TZNAME:CET
DTSTART:20261025T010000
END:STANDARD
END:VTIMEZONE
BEGIN:VEVENT
DTSTART;VALUE=DATE:20250324
DTEND;VALUE=DATE:20250325
DTSTAMP:20260425T032841
CREATED:20241111T170524Z
LAST-MODIFIED:20250305T114602Z
UID:10002016-1742774400-1742860799@www.restauratoren.de
SUMMARY:Treffen der ARGE Korrosion/Restaurierung von GfKORR - VDR
DESCRIPTION:Liebe Mitglieder ARGE Korrosion/Restaurierung\, der Fachgruppen Technisches Kulturgut und Metall\, \ndas gefühlt 60. Treffen der ARGE Korrosion/Restaurierung von GfKORR – VDR ist (vor)geplant\, wozu ich Sie/Euch im Namen von Herrn Prof. Dr. Michael Prange und Herrn Prof. Dr. Brüggerhoff auf das herzlichste einlade. Hier nun die finale Planung dazu. \nDatum: vom 24.03.2025\nBeginn: 10:30 Uhr (Treffpunkt 10:15 Uhr an der Nebeneingangstür\, sie befindet sich an der linken Seite vom großen Eingangsgebäude)\nOrt: Deutsches Bergbaumuseum Bochum \nTagesordnung: \nDie Tagesordnungsplanung sieht grundsätzlich folgende Punkte vor: \n\nBegrüßung durch Herrn Prof. Dr. Prange\,\nHerr Prof. Dr. Brüggerhoff berichten traditionell über aktuelle internationale aber auch nationale Aktivitäten\,\nImpulsvortrag von Wolfgang Conrad aus Eisleben/München zur LACUFA®\nJeder Teilnehmer berichtet in max. 5 Minuten über Erfahrungen\, Wünsche und Vorstellungen in der Causa Metallkonservierung\nWas geschah seit unserem letzten Treffen und wie wollen wir weiter verfahren (neue Format\, d.h. 1x jährlich\, Sonntag Anreise mit gemeinsamen Abendessen und dann am Montag ganztägig z.B.)\,\nFortsetzung des Rundgangs durch das neue DBM\,\nSonstiges.\n\nMit herzlichen Grüßen\nin großer Vorfreude auf ein Wiedersehen im neuen DBM \nIhr/Euer\nBernhard Mai \n\n\n\n 
URL:https://www.restauratoren.de/termin/treffen-der-arge-korrosion-restaurierung-von-gfkorr-vdr-2/
CATEGORIES:FG Metall,FG Tech. Kulturgut,VDR-Partnerveranstaltung
END:VEVENT
END:VCALENDAR