BEGIN:VCALENDAR
VERSION:2.0
PRODID:-//Verband der Restauratoren VDR - ECPv6.15.15//NONSGML v1.0//EN
CALSCALE:GREGORIAN
METHOD:PUBLISH
X-WR-CALNAME:Verband der Restauratoren VDR
X-ORIGINAL-URL:https://www.restauratoren.de
X-WR-CALDESC:Veranstaltungen für Verband der Restauratoren VDR
REFRESH-INTERVAL;VALUE=DURATION:PT1H
X-Robots-Tag:noindex
X-PUBLISHED-TTL:PT1H
BEGIN:VTIMEZONE
TZID:Europe/Paris
BEGIN:DAYLIGHT
TZOFFSETFROM:+0100
TZOFFSETTO:+0200
TZNAME:CEST
DTSTART:20240331T010000
END:DAYLIGHT
BEGIN:STANDARD
TZOFFSETFROM:+0200
TZOFFSETTO:+0100
TZNAME:CET
DTSTART:20241027T010000
END:STANDARD
BEGIN:DAYLIGHT
TZOFFSETFROM:+0100
TZOFFSETTO:+0200
TZNAME:CEST
DTSTART:20250330T010000
END:DAYLIGHT
BEGIN:STANDARD
TZOFFSETFROM:+0200
TZOFFSETTO:+0100
TZNAME:CET
DTSTART:20251026T010000
END:STANDARD
BEGIN:DAYLIGHT
TZOFFSETFROM:+0100
TZOFFSETTO:+0200
TZNAME:CEST
DTSTART:20260329T010000
END:DAYLIGHT
BEGIN:STANDARD
TZOFFSETFROM:+0200
TZOFFSETTO:+0100
TZNAME:CET
DTSTART:20261025T010000
END:STANDARD
END:VTIMEZONE
BEGIN:VEVENT
DTSTART;VALUE=DATE:20250331
DTEND;VALUE=DATE:20250401
DTSTAMP:20260421T004647
CREATED:20240416T094349Z
LAST-MODIFIED:20250212T110305Z
UID:10001889-1743379200-1743465599@www.restauratoren.de
SUMMARY:Tag der Restaurierung im Joanneum
DESCRIPTION:Tag der Restaurierung am 31.03.2025 im Universalmuseum Joanneum\nJoanneumsviertel\, Auditorium\, 8010 Graz \nEin etabliertes Forum für Fachleute und Interessierte\, aber auch eine spannende Veranstaltung für alle an Konservierung\, Restaurierung und Kulturguterhaltung interessierten Gäste ist der „Tag der Restaurierung“ im Universalmuseum Joanneum. \nFundierte Vorträge rund um aktuelle Themen\, neue Erkenntnisse und außergewöhnliche Fallbeispiele spiegeln die Vielfalt an Aufgaben und Herausforderungen der konservatorisch-restauratorischen Praxis in Museen und für Privatsammlungen wider. \nWeitere Informationen und Programm
URL:https://www.restauratoren.de/termin/tag-der-restaurierung-im-joanneum-3/
CATEGORIES:Externe Veranstaltung
END:VEVENT
END:VCALENDAR