BEGIN:VCALENDAR
VERSION:2.0
PRODID:-//Verband der Restauratoren VDR - ECPv6.15.15//NONSGML v1.0//EN
CALSCALE:GREGORIAN
METHOD:PUBLISH
X-WR-CALNAME:Verband der Restauratoren VDR
X-ORIGINAL-URL:https://www.restauratoren.de
X-WR-CALDESC:Veranstaltungen für Verband der Restauratoren VDR
REFRESH-INTERVAL;VALUE=DURATION:PT1H
X-Robots-Tag:noindex
X-PUBLISHED-TTL:PT1H
BEGIN:VTIMEZONE
TZID:Europe/Paris
BEGIN:DAYLIGHT
TZOFFSETFROM:+0100
TZOFFSETTO:+0200
TZNAME:CEST
DTSTART:20240331T010000
END:DAYLIGHT
BEGIN:STANDARD
TZOFFSETFROM:+0200
TZOFFSETTO:+0100
TZNAME:CET
DTSTART:20241027T010000
END:STANDARD
BEGIN:DAYLIGHT
TZOFFSETFROM:+0100
TZOFFSETTO:+0200
TZNAME:CEST
DTSTART:20250330T010000
END:DAYLIGHT
BEGIN:STANDARD
TZOFFSETFROM:+0200
TZOFFSETTO:+0100
TZNAME:CET
DTSTART:20251026T010000
END:STANDARD
BEGIN:DAYLIGHT
TZOFFSETFROM:+0100
TZOFFSETTO:+0200
TZNAME:CEST
DTSTART:20260329T010000
END:DAYLIGHT
BEGIN:STANDARD
TZOFFSETFROM:+0200
TZOFFSETTO:+0100
TZNAME:CET
DTSTART:20261025T010000
END:STANDARD
END:VTIMEZONE
BEGIN:VEVENT
DTSTART;VALUE=DATE:20250403
DTEND;VALUE=DATE:20250405
DTSTAMP:20260422T011424
CREATED:20250224T101436Z
LAST-MODIFIED:20250224T101436Z
UID:10002074-1743638400-1743811199@www.restauratoren.de
SUMMARY:Holzzerstörende Insekten im historischen Gebäude
DESCRIPTION:Seminar: Holzzerstörende Insekten im historischen Gebäude\n 03.04.2025\, 10:00 Uhr  \nIm Mittelpunkt des Seminars des Bayerischen Landesamtes für Denkmalpflege stehen Insekten\, die Holz in den Konstruktionen\, Ausstattung und Mobiliar schädigen und zerstören. Die wichtigsten Arten und ihre Schadmerkmale werden mit ihrer Biologie und ihren Lebensbedingungen detailliert dargestellt. Auf Grundlage vielfältiger Fallbeispiele wird das integrierte Schädlingsmanagement mit Verfahren des Monitorings\, der Prävention sowie der Bekämpfung verdeutlicht. Anhand von Musterstücken und Archivobjekten aus der Sammlung des Bauarchivs üben wir gemeinsam Erkennen und Monitoring von Insektenbefall. Das Programm finden Sie hier. \nDatum: 03. – 04. April 2025\nSeminarleitung: Stephan Biebl\, Dipl.-Ing. (FH) Holztechnik und Schädlingsbekämpfer\, Gerd Wapler\, Holzbauingenieur (B.Eng.) und gepr. Restaurator\nVeranstaltungsort: Bayerisches Landesamt für Denkmalpflege Bauarchiv\, Augsburger Str. 22\, 86672 Thierhaupten\nAnmeldung/Kontakt: Um Anmeldung mit diesem Anmeldeformular wird gebeten bis zum 22. März 2025 an: bauarchiv@blfd.bayern.de.\nSeminargebühr: 230 Euro (ermäßigt 115 Euro)
URL:https://www.restauratoren.de/termin/holzzerstoerende-insekten-im-historischen-gebaeude/
CATEGORIES:Externe Veranstaltung
END:VEVENT
END:VCALENDAR