BEGIN:VCALENDAR
VERSION:2.0
PRODID:-//Verband der Restauratoren VDR - ECPv6.15.15//NONSGML v1.0//EN
CALSCALE:GREGORIAN
METHOD:PUBLISH
X-WR-CALNAME:Verband der Restauratoren VDR
X-ORIGINAL-URL:https://www.restauratoren.de
X-WR-CALDESC:Veranstaltungen für Verband der Restauratoren VDR
REFRESH-INTERVAL;VALUE=DURATION:PT1H
X-Robots-Tag:noindex
X-PUBLISHED-TTL:PT1H
BEGIN:VTIMEZONE
TZID:Europe/Paris
BEGIN:DAYLIGHT
TZOFFSETFROM:+0100
TZOFFSETTO:+0200
TZNAME:CEST
DTSTART:20240331T010000
END:DAYLIGHT
BEGIN:STANDARD
TZOFFSETFROM:+0200
TZOFFSETTO:+0100
TZNAME:CET
DTSTART:20241027T010000
END:STANDARD
BEGIN:DAYLIGHT
TZOFFSETFROM:+0100
TZOFFSETTO:+0200
TZNAME:CEST
DTSTART:20250330T010000
END:DAYLIGHT
BEGIN:STANDARD
TZOFFSETFROM:+0200
TZOFFSETTO:+0100
TZNAME:CET
DTSTART:20251026T010000
END:STANDARD
BEGIN:DAYLIGHT
TZOFFSETFROM:+0100
TZOFFSETTO:+0200
TZNAME:CEST
DTSTART:20260329T010000
END:DAYLIGHT
BEGIN:STANDARD
TZOFFSETFROM:+0200
TZOFFSETTO:+0100
TZNAME:CET
DTSTART:20261025T010000
END:STANDARD
END:VTIMEZONE
BEGIN:VEVENT
DTSTART;VALUE=DATE:20250409
DTEND;VALUE=DATE:20250412
DTSTAMP:20260424T120204
CREATED:20241125T114123Z
LAST-MODIFIED:20241125T114123Z
UID:10002023-1744156800-1744415999@www.restauratoren.de
SUMMARY:International Museum Conference on Climate Change
DESCRIPTION:Wissenschaftliche Tagung zu Klimawandel im Museum – April 2025 \n  \nIm Rahmen des Projektes „Modeling museum pests\, fungi and indoor climate”\, gefördert von der Akademie der Wissenschaften aus Österreich und der Projektabwickelung über das Naturhistorische Museum Wien\, ist eine internationale Tagung zu dem Thema Klimawandel und dessen Einfluss auf Museen geplant. Die Vorträge werden die unterschiedlichen Einflüsse und Auswirkungen von Klimawandel auf das Innenklima in Museen\, schädliche Insekten\, Schimmel und Energiekosten behandeln. Auf der Tagung sollen RestauratorInnen\, ExpertInnen für Klimawandel\, nachhaltige Museumsbauten\, Gebäudemanager\, Mikrobiologen\, Entomologen und Materialwissenschaftler über die Auswirkungen der klimatischen Veränderungen\, aber auch über zukünftige nachhaltige Lösungen und gute Beispiele aus der Praxis berichten. Der Klimawandel stellte eine der größten Herausforderung unserer Zeit dar und unsere Sammlungen und historischen Gebäude sind oft durch die steigenden Temperaturen und extremen Wetterereignisse gefährdet. Wir benötigen Auswertungen der Klimadaten\, Risikobeurteilungen und kostengünstige und nachhaltige Lösungen\, um unsere Gebäude für die Veränderungen vorzubereiten. Kommen Sie nach Wien\, um spannende Vorträge zu dem Thema zu hören und an Lösungen für die Zukunft zu diskutieren. \n  \nTermin: 09. bis 11.04.2025 \nInfos und Anmeldung unter: https://www.museumclimate.org/ \n  \nProgramm und Ablauf: \n8. April 2025: Icebreacker im NHM \nTag 1: Wissenschaftliche Vorträge (englisch) \n            Abendveranstaltung \nTag 2: Wissenschaftliche Vorträge (englisch) \n            Conference Dinner \nTag 3: Wissenschaftliche Vorträge (englisch) \nExkursionen
URL:https://www.restauratoren.de/termin/international-museum-conference-on-climate-change/
CATEGORIES:Externe Veranstaltung
END:VEVENT
BEGIN:VEVENT
DTSTART;VALUE=DATE:20250409
DTEND;VALUE=DATE:20250412
DTSTAMP:20260424T120204
CREATED:20250224T101654Z
LAST-MODIFIED:20250224T101654Z
UID:10002075-1744156800-1744415999@www.restauratoren.de
SUMMARY:Mineralische Anstrichsysteme in der Denkmalpflege
DESCRIPTION:Seminar: Mineralische Anstrichsysteme in der Denkmalpflege\n 09.04.2025\, 09:15 Uhr  \nDas Seminar bietet Einblicke in die Eigenschaften und Anwendungen von Kalk- und Silikatfarben sowie deren Bedeutung in der denkmalpflegerischen Praxis. Behandelt werden die Bewertung und Vorbereitung von Untergründen\, die Zusammensetzung und bauphysikalischen Eigenschaften der Materialien sowie der Einfluss organischer Additive. Ergänzt werden diese Themen durch eine detaillierte Betrachtung reiner Sumpfkalkfarben im Vergleich zu Fertigprodukten sowie der Unterschiede zwischen ein- und zweikomponentigen Silikatfarben. Das komplette Programm finden Sie hier. \nDatum: 09. – 11. April 2025\nOrt: Bayerisches Landesamt für Denkmalpflege\, Bauarchiv Thierhaupten: Seminarraum\nAugsburger Str. 22\, 86672 Thierhaupten\nSeminarleitung: Mag.a Astrid Huber-Reichl\, Abteilungsleiterin Informations- und Weiterbildungszentrum Baudenkmalpflege Kartause Mauerbach\, Bundesdenkmalamt Österreich / Hannes Weissenbach\, Handwerker / Restaurator PD Dr. Thomas Wenderoth\, Referatsleiter Bauarchiv\nAnmeldung: Bitte melden Sie sich mit dem dazugehörigen Anmeldeformular bis zum 25.03.2025 per E-Mail an: bauarchiv@blfd.bayern.de\nSeminargebühr inkl. Kaffeepausen: 200 € (ermäßigt 100 €\, Studenten/Azubis\, StBA\, Untere Denkmalschutzbehörden\, Mitglieder der Fachakademie Handwerk in der Denkmalpflege e. V.)
URL:https://www.restauratoren.de/termin/mineralische-anstrichsysteme-in-der-denkmalpflege/
CATEGORIES:Externe Veranstaltung
END:VEVENT
END:VCALENDAR