BEGIN:VCALENDAR
VERSION:2.0
PRODID:-//Verband der Restauratoren VDR - ECPv6.15.15//NONSGML v1.0//EN
CALSCALE:GREGORIAN
METHOD:PUBLISH
X-ORIGINAL-URL:https://www.restauratoren.de
X-WR-CALDESC:Veranstaltungen für Verband der Restauratoren VDR
REFRESH-INTERVAL;VALUE=DURATION:PT1H
X-Robots-Tag:noindex
X-PUBLISHED-TTL:PT1H
BEGIN:VTIMEZONE
TZID:Europe/Paris
BEGIN:DAYLIGHT
TZOFFSETFROM:+0100
TZOFFSETTO:+0200
TZNAME:CEST
DTSTART:20240331T010000
END:DAYLIGHT
BEGIN:STANDARD
TZOFFSETFROM:+0200
TZOFFSETTO:+0100
TZNAME:CET
DTSTART:20241027T010000
END:STANDARD
BEGIN:DAYLIGHT
TZOFFSETFROM:+0100
TZOFFSETTO:+0200
TZNAME:CEST
DTSTART:20250330T010000
END:DAYLIGHT
BEGIN:STANDARD
TZOFFSETFROM:+0200
TZOFFSETTO:+0100
TZNAME:CET
DTSTART:20251026T010000
END:STANDARD
BEGIN:DAYLIGHT
TZOFFSETFROM:+0100
TZOFFSETTO:+0200
TZNAME:CEST
DTSTART:20260329T010000
END:DAYLIGHT
BEGIN:STANDARD
TZOFFSETFROM:+0200
TZOFFSETTO:+0100
TZNAME:CET
DTSTART:20261025T010000
END:STANDARD
END:VTIMEZONE
BEGIN:VEVENT
DTSTART;TZID=Europe/Paris:20250422T170000
DTEND;TZID=Europe/Paris:20250422T183000
DTSTAMP:20260421T111047
CREATED:20250331T091344Z
LAST-MODIFIED:20250331T091344Z
UID:10002092-1745341200-1745346600@www.restauratoren.de
SUMMARY:Inherent Vice\, or: How I learned to stop worrying and love shattered silk
DESCRIPTION:CICS-Ringvorlesung (online): Inherent Vice\, or: How I learned to stop worrying and love shattered silk\n22.04.2025 17:00 Uhr \n  \nFashion and textile collections are deeply affected by inherent vice\, consisting of fragile objects never meant to last indefinitely. Likewise\, museum storage often suffers from inherent faults rooted in biased ideologies. With these overlapping complexities in mind\, conservation and curatorial staff from the Rhode Island School of Design Museum organized an interdisciplinary\, year-long project entitled Inherent Vice\, encompassing gallery exhibitions\, coursework\, and artistic collaborations designed to engage students and the public with the nuances of textile deterioration. The resulting project is a case study of how conservators leveraged preservation work\, often isolated behind closed doors\, to encourage collaborative engagement. The success of this project relied on multiple factors: willingness to collaborate without a predefined end goal\, a focus on non-linear and abstract outcomes\, and comfort with a fluid concept of what a conservator’s role is and should be. Our collaborative work highlighted how teaching about conservation in non-traditional arenas can build relationships and enrich creative practice beyond the walls of a museum. It allowed us to explore how innovative approaches to deterioration – and accepting that things fall apart in the first place – can be a generative\, ethical part of textile conservation practice. \n  \nDatum: 22. April 2025\, 17.00 – 18.30 Uhr\nReferentInnen: Anna Rose Keefe und Jessica Urick \nInfos im Detail \nAnmeldung: nicht erforderlich\nVortragslink: im Programmflyer zum Download unter https://www.th-koeln.de/kulturwissenschaften/cics-ringvorlesung_75851.php
URL:https://www.restauratoren.de/termin/inherent-vice-or-how-i-learned-to-stop-worrying-and-love-shattered-silk/
CATEGORIES:Externe Veranstaltung
END:VEVENT
END:VCALENDAR