BEGIN:VCALENDAR
VERSION:2.0
PRODID:-//Verband der Restauratoren VDR - ECPv6.15.15//NONSGML v1.0//EN
CALSCALE:GREGORIAN
METHOD:PUBLISH
X-ORIGINAL-URL:https://www.restauratoren.de
X-WR-CALDESC:Veranstaltungen für Verband der Restauratoren VDR
REFRESH-INTERVAL;VALUE=DURATION:PT1H
X-Robots-Tag:noindex
X-PUBLISHED-TTL:PT1H
BEGIN:VTIMEZONE
TZID:Europe/Paris
BEGIN:DAYLIGHT
TZOFFSETFROM:+0100
TZOFFSETTO:+0200
TZNAME:CEST
DTSTART:20240331T010000
END:DAYLIGHT
BEGIN:STANDARD
TZOFFSETFROM:+0200
TZOFFSETTO:+0100
TZNAME:CET
DTSTART:20241027T010000
END:STANDARD
BEGIN:DAYLIGHT
TZOFFSETFROM:+0100
TZOFFSETTO:+0200
TZNAME:CEST
DTSTART:20250330T010000
END:DAYLIGHT
BEGIN:STANDARD
TZOFFSETFROM:+0200
TZOFFSETTO:+0100
TZNAME:CET
DTSTART:20251026T010000
END:STANDARD
BEGIN:DAYLIGHT
TZOFFSETFROM:+0100
TZOFFSETTO:+0200
TZNAME:CEST
DTSTART:20260329T010000
END:DAYLIGHT
BEGIN:STANDARD
TZOFFSETFROM:+0200
TZOFFSETTO:+0100
TZNAME:CET
DTSTART:20261025T010000
END:STANDARD
END:VTIMEZONE
BEGIN:VEVENT
DTSTART;VALUE=DATE:20250623
DTEND;VALUE=DATE:20250625
DTSTAMP:20260425T234940
CREATED:20250403T075031Z
LAST-MODIFIED:20250403T075031Z
UID:10002102-1750636800-1750809599@www.restauratoren.de
SUMMARY:Kurs: Erkennen von Drucktechniken
DESCRIPTION:Erkennen von Drucktechniken \nBerlin\, 23.-24. Juni 2025 \nIn dem zweitägigen Kurs liegt der Fokus auf den manuellen künstlerischen Drucktechniken. Dabei werden die einzelnen Drucktechniken mit ihren zahlreichen Untergruppen im Detail mit Bildvorträgen vorgestellt. Als Erweiterung werden auch diejenigen fotomechanischen Reproduktionsverfahren hinzugezogen\, mit denen eine Verwechslung erfolgen kann. \nIm praktischen Teil werden originale Beispiele der zahlreichen Techniken unter Vergößerung betrachtet. Dazu stehen mehrere Stereomikroskope zur Verfügung. \n  \nInformation und Anmeldung: www.hildegard-homburger.de
URL:https://www.restauratoren.de/termin/kurs-erkennen-von-drucktechniken-4/
CATEGORIES:Externe Veranstaltung
END:VEVENT
BEGIN:VEVENT
DTSTART;VALUE=DATE:20250624
DTEND;VALUE=DATE:20250627
DTSTAMP:20260425T234940
CREATED:20250212T201025Z
LAST-MODIFIED:20250212T201025Z
UID:10002064-1750723200-1750982399@www.restauratoren.de
SUMMARY:Lichtbleiche neu gedacht: Von historischen Methoden zu innovativer LED-Technologie
DESCRIPTION:In Kooperation mit IADA \nLichtbleiche neu gedacht: Von historischen Methoden zu innovativer LED-Technologie \n24. – 25.06.2025 – 2-tägiger Präsenz-Workshop in Leipzig \nLichtbleiche ist ein altes Verfahren zur Aufhellung von Geweben und wird seit den 1980er Jahren wieder verstärkt in der Papierrestaurierung ein-gesetzt. 2017 wurde erstmals ein LED-Lichtbleich-gerät entwickelt\, das seither weiter verbessert wurde. In diesem Workshop lernen Sie die neueste Generation der LED-Lichtbleichgeräte kennen. \nWeitere Informationen
URL:https://www.restauratoren.de/termin/lichtbleiche-neu-gedacht-von-historischen-methoden-zu-innovativer-led-technologie/
CATEGORIES:Externe Veranstaltung
END:VEVENT
END:VCALENDAR