BEGIN:VCALENDAR
VERSION:2.0
PRODID:-//Verband der Restauratoren VDR - ECPv6.15.15//NONSGML v1.0//EN
CALSCALE:GREGORIAN
METHOD:PUBLISH
X-ORIGINAL-URL:https://www.restauratoren.de
X-WR-CALDESC:Veranstaltungen für Verband der Restauratoren VDR
REFRESH-INTERVAL;VALUE=DURATION:PT1H
X-Robots-Tag:noindex
X-PUBLISHED-TTL:PT1H
BEGIN:VTIMEZONE
TZID:Europe/Paris
BEGIN:DAYLIGHT
TZOFFSETFROM:+0100
TZOFFSETTO:+0200
TZNAME:CEST
DTSTART:20240331T010000
END:DAYLIGHT
BEGIN:STANDARD
TZOFFSETFROM:+0200
TZOFFSETTO:+0100
TZNAME:CET
DTSTART:20241027T010000
END:STANDARD
BEGIN:DAYLIGHT
TZOFFSETFROM:+0100
TZOFFSETTO:+0200
TZNAME:CEST
DTSTART:20250330T010000
END:DAYLIGHT
BEGIN:STANDARD
TZOFFSETFROM:+0200
TZOFFSETTO:+0100
TZNAME:CET
DTSTART:20251026T010000
END:STANDARD
BEGIN:DAYLIGHT
TZOFFSETFROM:+0100
TZOFFSETTO:+0200
TZNAME:CEST
DTSTART:20260329T010000
END:DAYLIGHT
BEGIN:STANDARD
TZOFFSETFROM:+0200
TZOFFSETTO:+0100
TZNAME:CET
DTSTART:20261025T010000
END:STANDARD
END:VTIMEZONE
BEGIN:VEVENT
DTSTART;TZID=Europe/Paris:20250911T180000
DTEND;TZID=Europe/Paris:20250911T200000
DTSTAMP:20260424T225229
CREATED:20250903T071236Z
LAST-MODIFIED:20250903T071236Z
UID:10002162-1757613600-1757620800@www.restauratoren.de
SUMMARY:Parlamentarischer Abend der Freien Berufe
DESCRIPTION:Liebe Mitglieder\, \nder Landesverband der Freien Berufe Rheinland-Pfalz und der VDR laden herzlich ein zum \n  \nParlamentarischen Abend der Freien Berufe \nam Donnerstag\, 11. September 2025\, um 18 Uhr \nim Eltzer Hof in Mainz (Mittlere Bleiche 40\, 55116 Mainz). \n  \nWir freuen uns besonders\, dass Bundesminister a. D. Peter Altmaier als Hauptredner mit einer Keynote zum Thema „Gelingt ein neuer Aufbruch? Gedanken zu einer erfolgreichen Wirtschaftspolitik für Deutschland“ dabei sein wird. \n  \nIm Anschluss an das Programm laden wir Sie zu einem Empfang mit musikalischer Begleitung ein. \n  \nBitte melden Sie sich direkt an\, da die Zahl der Plätze stark begrenzt ist. \nAnmeldung direkt über folgenden Link erfolgen: www.lfb-rlp.de/anmeldung \nWir freuen uns auf Ihr Kommen und den persönlichen Austausch.
URL:https://www.restauratoren.de/termin/parlamentarischer-abend-der-freien-berufe/
CATEGORIES:Externe Veranstaltung
END:VEVENT
END:VCALENDAR