BEGIN:VCALENDAR
VERSION:2.0
PRODID:-//Verband der Restauratoren VDR - ECPv6.15.15//NONSGML v1.0//EN
CALSCALE:GREGORIAN
METHOD:PUBLISH
X-ORIGINAL-URL:https://www.restauratoren.de
X-WR-CALDESC:Veranstaltungen für Verband der Restauratoren VDR
REFRESH-INTERVAL;VALUE=DURATION:PT1H
X-Robots-Tag:noindex
X-PUBLISHED-TTL:PT1H
BEGIN:VTIMEZONE
TZID:Europe/Paris
BEGIN:DAYLIGHT
TZOFFSETFROM:+0100
TZOFFSETTO:+0200
TZNAME:CEST
DTSTART:20240331T010000
END:DAYLIGHT
BEGIN:STANDARD
TZOFFSETFROM:+0200
TZOFFSETTO:+0100
TZNAME:CET
DTSTART:20241027T010000
END:STANDARD
BEGIN:DAYLIGHT
TZOFFSETFROM:+0100
TZOFFSETTO:+0200
TZNAME:CEST
DTSTART:20250330T010000
END:DAYLIGHT
BEGIN:STANDARD
TZOFFSETFROM:+0200
TZOFFSETTO:+0100
TZNAME:CET
DTSTART:20251026T010000
END:STANDARD
BEGIN:DAYLIGHT
TZOFFSETFROM:+0100
TZOFFSETTO:+0200
TZNAME:CEST
DTSTART:20260329T010000
END:DAYLIGHT
BEGIN:STANDARD
TZOFFSETFROM:+0200
TZOFFSETTO:+0100
TZNAME:CET
DTSTART:20261025T010000
END:STANDARD
END:VTIMEZONE
BEGIN:VEVENT
DTSTART;VALUE=DATE:20250930
DTEND;VALUE=DATE:20251001
DTSTAMP:20260425T131518
CREATED:20250603T074016Z
LAST-MODIFIED:20250603T074117Z
UID:10002122-1759190400-1759276799@www.restauratoren.de
SUMMARY:Call for Papers: Fachgespräch für Papierrestaurator:innen
DESCRIPTION:Liebe Kolleginnen und Kollegen\,\nwir freuen uns das 26. Fachgespräch für Papierrestauratorinnen und -restauratoren an Archiven\, Bibliotheken und Museen am 27.-28. April 2026 in Siegburg ankündigen zu dürfen. \nDatum: 27.-28. April 2026\nOrt: Siegburg\, Katholisch-Soziales Institut\nDeadline für die Einreichung von Abstracts: 30. September 2025\nE-Mail: info(at)papierrestauratoren.de \n\nThemen\nWie gewohnt\, möchten wir bei unserer Veranstaltung einen möglichst praxis- und lösungsorientierten Blick auf alle Bereiche unseres Arbeitsalltags werfen. Neben spezifischen Aspekten von Einzel- und Mengenrestaurierung sollen daher auch die Belange und klassischen Aufgaben des Bestandserhaltungsmanagements in den Blick genommen werden. Ebenso sind Themen der präventiven Konservierung gefragt\, von Transport und Verpackung über IPM bis hin zu klimatischen Aspekten. \nWir laden Autoren und Autorinnen sowie Firmen ein\, Beiträge und Themen für die folgenden Formate einzureichen: \n\n20-minütiger Vortrag\nFachforen (30 – 40 Minuten)\n– Forum Practicum: Praktische Demonstration von Techniken\, Materialmustern oder Geräten\n– Forum Disputandum: Erfahrungsaustausch/Diskussionsrunde zu einem spezifischen oder allgemeinen Thema\nPoster\n\nWir freuen uns auf Ihre Vorschläge mit Angabe des gewünschten Formats\, Titel und Abstract (max. 1.000 Zeichen) bis zum 30. September 2025. Sie erhalten bis Ende Oktober eine Rückmeldung von uns.\nBitte senden Sie Ihren Vorschlag für einen Vortrag an die Geschäftsstelle: info(at)papierrestauratoren.de Eine Veröffentlichung der Vorträge ist in der 19. Ausgabe unserer Arbeitsblätter geplant.\nMit Vorschlägen für praktische Demonstrationen\, Diskussionsrunden und Poster wenden Sie sich bitte an Bert Jaçek bert.jacek(at)th-koeln.de
URL:https://www.restauratoren.de/termin/call-for-papers-fachgespraech-fuer-papierrestauratorinnen/
CATEGORIES:Call for Papers,Externe Veranstaltung
END:VEVENT
END:VCALENDAR