BEGIN:VCALENDAR
VERSION:2.0
PRODID:-//Verband der Restauratoren VDR - ECPv6.15.15//NONSGML v1.0//EN
CALSCALE:GREGORIAN
METHOD:PUBLISH
X-ORIGINAL-URL:https://www.restauratoren.de
X-WR-CALDESC:Veranstaltungen für Verband der Restauratoren VDR
REFRESH-INTERVAL;VALUE=DURATION:PT1H
X-Robots-Tag:noindex
X-PUBLISHED-TTL:PT1H
BEGIN:VTIMEZONE
TZID:Europe/Paris
BEGIN:DAYLIGHT
TZOFFSETFROM:+0100
TZOFFSETTO:+0200
TZNAME:CEST
DTSTART:20240331T010000
END:DAYLIGHT
BEGIN:STANDARD
TZOFFSETFROM:+0200
TZOFFSETTO:+0100
TZNAME:CET
DTSTART:20241027T010000
END:STANDARD
BEGIN:DAYLIGHT
TZOFFSETFROM:+0100
TZOFFSETTO:+0200
TZNAME:CEST
DTSTART:20250330T010000
END:DAYLIGHT
BEGIN:STANDARD
TZOFFSETFROM:+0200
TZOFFSETTO:+0100
TZNAME:CET
DTSTART:20251026T010000
END:STANDARD
BEGIN:DAYLIGHT
TZOFFSETFROM:+0100
TZOFFSETTO:+0200
TZNAME:CEST
DTSTART:20260329T010000
END:DAYLIGHT
BEGIN:STANDARD
TZOFFSETFROM:+0200
TZOFFSETTO:+0100
TZNAME:CET
DTSTART:20261025T010000
END:STANDARD
END:VTIMEZONE
BEGIN:VEVENT
DTSTART;VALUE=DATE:20251010
DTEND;VALUE=DATE:20251011
DTSTAMP:20260422T231903
CREATED:20250904T062712Z
LAST-MODIFIED:20250904T062712Z
UID:10002165-1760054400-1760140799@www.restauratoren.de
SUMMARY:Hildesheimer Tag der Restaurierung
DESCRIPTION:10. Oktober 2025\, 9.00 Uhr\, HAWK\, Hohnsen 2\, Aula\nPräsentation aktueller Abschlussarbeiten und Forschungen\nAusgewählte Vorträge der Absolvent*innen geben Einblicke in aktuelle Fach- und Forschungsgebiete der einzelnen Vertiefungsrichtungen an der HAWK: Gefasste Holzobjekte und Gemälde; Möbel\, Holzobjekte und Materialkombinationen; Schriftgut\, Buch und Grafik; Steinobjekte und Architekturoberfläche sowie die Naturwissenschaften und die Kunst- und Restaurierungsgeschichte. Das Programm wird hier veröffentlicht.
URL:https://www.restauratoren.de/termin/hildesheimer-tag-der-restaurierung-6/
LOCATION:HAWK Hildesheim (Hohnsen)\, Hohnsen 2 (Aula am Hohnsen)\, Hildesheim\, 31134\, Deutschland
CATEGORIES:Externe Veranstaltung,Studium
GEO:52.14302;9.95856
X-APPLE-STRUCTURED-LOCATION;VALUE=URI;X-ADDRESS=HAWK Hildesheim (Hohnsen) Hohnsen 2 (Aula am Hohnsen) Hildesheim 31134 Deutschland;X-APPLE-RADIUS=500;X-TITLE=Hohnsen 2 (Aula am Hohnsen):geo:9.95856,52.14302
END:VEVENT
BEGIN:VEVENT
DTSTART;VALUE=DATE:20251010
DTEND;VALUE=DATE:20251012
DTSTAMP:20260422T231903
CREATED:20250910T152627Z
LAST-MODIFIED:20250910T152839Z
UID:10002167-1760054400-1760227199@www.restauratoren.de
SUMMARY:Tagung mit Exkursion: Spätgotische Retabelkunst in Norddeutschland
DESCRIPTION:Das Brandenburgische Landesamt für Denkmalpflege möchte auf eine interessante und länderübergreifende Fachtagung mit Exkursion aufmerksam machen\, die vom 10.-11. Oktober 2025 im Ev. Klosterstift Marienfließ in Stepenitz (Landkreis Prignitz) stattfindet. Die Tagung beschäftigt sich mit der spätgotischen Retabelkunst in Norddeutschland. Insbesondere geht es in diesem Jahr um den Schwerpunkt: Farbfassungen.\n\n\n\nAnmeldungen bitte bis zum 6. Oktober 2025 unter:\ndenkmalschutz@lkprignitz.de oder unter 03876-713244 (Frau Fausack)\n\n\nDie Teilnahmegebühr beträgt:\n40\,- € pro Person\n20\,- € für Studierende & Auszubildene/Schüler (ermäßigt)\n\n\n\n\n\nVeranstalter:\nLandkreis Prignitz (SB Denkmalschutz)\, Brandenburgisches Landesamt für Denkmalpflege und Archäologisches Landesmuseum (BLDAM)\, Landesamt für Kultur und Denkmalpflege Mecklenburg-Vorpommern (LAKD) und Evangelisch-Lutherische Kirche in Norddeutschland.\n\n\n\nWeitere Informationen finden Sie auf unserer Website.
URL:https://www.restauratoren.de/termin/tagung-mit-exkursion-spaetgotische-retabelkunst-in-norddeutschland/
CATEGORIES:Externe Veranstaltung
END:VEVENT
END:VCALENDAR