BEGIN:VCALENDAR
VERSION:2.0
PRODID:-//Verband der Restauratoren VDR - ECPv6.15.15//NONSGML v1.0//EN
CALSCALE:GREGORIAN
METHOD:PUBLISH
X-WR-CALNAME:Verband der Restauratoren VDR
X-ORIGINAL-URL:https://www.restauratoren.de
X-WR-CALDESC:Veranstaltungen für Verband der Restauratoren VDR
REFRESH-INTERVAL;VALUE=DURATION:PT1H
X-Robots-Tag:noindex
X-PUBLISHED-TTL:PT1H
BEGIN:VTIMEZONE
TZID:Europe/Paris
BEGIN:DAYLIGHT
TZOFFSETFROM:+0100
TZOFFSETTO:+0200
TZNAME:CEST
DTSTART:20240331T010000
END:DAYLIGHT
BEGIN:STANDARD
TZOFFSETFROM:+0200
TZOFFSETTO:+0100
TZNAME:CET
DTSTART:20241027T010000
END:STANDARD
BEGIN:DAYLIGHT
TZOFFSETFROM:+0100
TZOFFSETTO:+0200
TZNAME:CEST
DTSTART:20250330T010000
END:DAYLIGHT
BEGIN:STANDARD
TZOFFSETFROM:+0200
TZOFFSETTO:+0100
TZNAME:CET
DTSTART:20251026T010000
END:STANDARD
BEGIN:DAYLIGHT
TZOFFSETFROM:+0100
TZOFFSETTO:+0200
TZNAME:CEST
DTSTART:20260329T010000
END:DAYLIGHT
BEGIN:STANDARD
TZOFFSETFROM:+0200
TZOFFSETTO:+0100
TZNAME:CET
DTSTART:20261025T010000
END:STANDARD
END:VTIMEZONE
BEGIN:VEVENT
DTSTART;VALUE=DATE:20251014
DTEND;VALUE=DATE:20251018
DTSTAMP:20260423T112409
CREATED:20250519T092714Z
LAST-MODIFIED:20250519T092714Z
UID:10002117-1760400000-1760745599@www.restauratoren.de
SUMMARY:Conference "Big Stuff 2025"
DESCRIPTION:Vom 14.-17.10.2025 wird die internationale Konferenz Big Stuff 2025 in Gent/Belgien stattfinden. Die Veranstaltung ist ein Treffen von Museumsfachleuten\, Wissenschaftlern\, Beratern\, Freiwilligen und privaten Eigentümern aus einer globalen Community\, die sich der Erhaltung und Präsentation des technologischen und industriellen Erbes verschrieben hat. Das Konferenzthema 2025 konzentriert sich auf die symbiotische Beziehung zwischen den Fähigkeiten der Bearbeiter/Vermittler und den zu erhaltenden Maschinen. Das industrielle Erbe umfasst also nicht nur die Großanlagen und historische Maschinen\, sondern auch die Menschen\, die Fähigkeiten und das Wissen\, die für den Betrieb\, die Wartung und die Präsentation dieses mechanischen Erbes erforderlich sind. Wenn die Generationen von Arbeitern und Freiwilligen\, die gelernt haben\, diese Maschinen zu bedienen\, zu kalibrieren und zu reparieren\, in den Ruhestand gehen\, besteht die Gefahr\, dass ihr unschätzbares Fachwissen verloren geht. \nEin hybrider Asien-Pazifik-Hub wird zu denselben Terminen in Perth\, Australien\, stattfinden und sowohl persönliche Teilnahme als auch über eine digitale Verbindungen mit Gent die Gelegenheit bieten\, Präsentationen\, Diskussionen und Ideen auszutauschen. Dieser einzigartige Konferenzansatz soll das Engagement zwischen den Fans von Kulturerbe-Maschinen der südlichen und der nördlichen Hemisphäre fördern und eine verstärkte und verantwortungsbewusste persönliche Teilnahme mit geringeren Reisekosten und geringerem CO2-Ausstoß ermöglichen. \nDetails zur Tagung und zum Programm sowie die Möglichkeit zur Anmeldung (in Präsenz oder online) und die Buchung von Unterkünften in Gent.
URL:https://www.restauratoren.de/termin/conference-big-stuff-2025/
CATEGORIES:Externe Veranstaltung
END:VEVENT
BEGIN:VEVENT
DTSTART;VALUE=DATE:20251016
DTEND;VALUE=DATE:20251018
DTSTAMP:20260423T112409
CREATED:20250602T111619Z
LAST-MODIFIED:20250610T072417Z
UID:10002120-1760572800-1760745599@www.restauratoren.de
SUMMARY:Exkursion der Fachgruppe Industrielles Kulturgut
DESCRIPTION:Die Fachgruppe Industrielles Kulturgut/Kulturgut der Moderne plant am 16. und 17.10.2025 eine Exkursion nach Eisenhüttenstadt. \n\nProgrammablauf in Eisenhüttenstadt\nDonnerstag 16.10.2025 \n10:00                           Treffpunkt am Museum Utopie und Alltag \n10:30 – 12:30             Geführte Stadtführung durch den Museumskurator \n12:30 – 13:00             Mittagspause – Fahrt zum Gaswerk\, Fährstraße (PKW ca. 5 Minuten) \n13:00 – 15:00             Führung Gaswerk \n15:00 – 17:00             Optional private Besichtigung: Zwillingsschachtschleuse oder NS Kraftwerk Vogelsang \n18:30                           Abendessen im Restaurant „Aktivist“ \n  \nFreitag\, 17.10.2025 \n08:00                           Führung im Stahlwerk Eisenhüttenstadt (mit Hochofen\, Konverter Warmwalzwerk\, Kaltwalzwerk) \n12:00 – 13:00             Mittagspause \n13:00 – 17:00             Führung im Stahlwerk \n17:00                            Ende der Veranstaltung \n  \nWir bilden vor Ort Fahrgemeinschaften mit Autos. \nEs entstehen keine Kosten. \nDie Teilnehmendenzahl im Stahlwerk und im Gaswerk beschränkt sich auf 20 Personen. \nDie Anmeldung erfolgt per pdf-Formular\, das bitte bis zum 06.07.2025 ausgefüllt und an die Mailadresse industrielles-kulturgut@vdr.restauratoren.de geschickt werden soll. \nBildnachweis: Nachtansicht in Eisenhüttenstadt © Louise Warnow)
URL:https://www.restauratoren.de/termin/exkursion-der-fachgruppe-industrielles-kulturgut/
CATEGORIES:Fachgruppe Industrielles Kulturgut/Kulturgut der Moderne,VDR-Veranstaltung
ATTACH;FMTTYPE=image/jpeg:https://www.restauratoren.de/wp-content/uploads/2025/06/Titelbild_Huette_Louise_Warnow.jpg
END:VEVENT
BEGIN:VEVENT
DTSTART;TZID=Europe/Paris:20251017T130000
DTEND;TZID=Europe/Paris:20251017T173000
DTSTAMP:20260423T112409
CREATED:20250620T080111Z
LAST-MODIFIED:20250709T071835Z
UID:10002132-1760706000-1760722200@www.restauratoren.de
SUMMARY:Auftaktveranstaltung denkmalpflege KONKRET
DESCRIPTION:Die baden-württembergische Initiative „denkmalnetzBW“ plant für Freitag\, den 17.10.2025 die Auftaktveranstaltung der neuen Reihe „denkmalpflegeKONKRET“ in Rottweil. \nRottweil ist die älteste Stadt Baden-Württembergs und seit Jahrzehnten ein Hotspot der Denkmalpﬂege. Auch aktuell gibt es spannende Projekte aus unterschiedlichen Bereichen. Besichtigt werden vier Baustellenprojekte mit abschließender Diskussionsrunde im ehemaligen Kapuzinerkloster. \nWeitere Informationen zum Programm und Anmeldung
URL:https://www.restauratoren.de/termin/auftaktveranstaltung-denkmalpflege-konkret/
CATEGORIES:Externe Veranstaltung
END:VEVENT
END:VCALENDAR