BEGIN:VCALENDAR
VERSION:2.0
PRODID:-//Verband der Restauratoren VDR - ECPv6.15.15//NONSGML v1.0//EN
CALSCALE:GREGORIAN
METHOD:PUBLISH
X-WR-CALNAME:Verband der Restauratoren VDR
X-ORIGINAL-URL:https://www.restauratoren.de
X-WR-CALDESC:Veranstaltungen für Verband der Restauratoren VDR
REFRESH-INTERVAL;VALUE=DURATION:PT1H
X-Robots-Tag:noindex
X-PUBLISHED-TTL:PT1H
BEGIN:VTIMEZONE
TZID:Europe/Paris
BEGIN:DAYLIGHT
TZOFFSETFROM:+0100
TZOFFSETTO:+0200
TZNAME:CEST
DTSTART:20240331T010000
END:DAYLIGHT
BEGIN:STANDARD
TZOFFSETFROM:+0200
TZOFFSETTO:+0100
TZNAME:CET
DTSTART:20241027T010000
END:STANDARD
BEGIN:DAYLIGHT
TZOFFSETFROM:+0100
TZOFFSETTO:+0200
TZNAME:CEST
DTSTART:20250330T010000
END:DAYLIGHT
BEGIN:STANDARD
TZOFFSETFROM:+0200
TZOFFSETTO:+0100
TZNAME:CET
DTSTART:20251026T010000
END:STANDARD
BEGIN:DAYLIGHT
TZOFFSETFROM:+0100
TZOFFSETTO:+0200
TZNAME:CEST
DTSTART:20260329T010000
END:DAYLIGHT
BEGIN:STANDARD
TZOFFSETFROM:+0200
TZOFFSETTO:+0100
TZNAME:CET
DTSTART:20261025T010000
END:STANDARD
END:VTIMEZONE
BEGIN:VEVENT
DTSTART;VALUE=DATE:20251030
DTEND;VALUE=DATE:20251101
DTSTAMP:20260422T180937
CREATED:20250905T093134Z
LAST-MODIFIED:20250905T093134Z
UID:10002166-1761782400-1761955199@www.restauratoren.de
SUMMARY:Hybrid-Tagung: "Entschichten und Anstrichreduzierung"
DESCRIPTION:Herbsttagung Baucharchiv Thierhaupten (hybrid): Entschichten und Anstrichreduzierung\n 30. und 31.10.2025\, ab 10:15 Uhr  \nVerwitterte Baustoffe\, nicht tragfähige Altanstriche oder dicken Anstrichpakete\, die historische Details verdecken\, müssen regelmäßig vor einem Neuanstrich abgenommen oder ausgedünnt werden. \nBei der Anwendung ungeeigneter Methoden werden originale Oberflächen geschädigt\, Bearbeitungsspuren ausgelöscht und im schlechtesten Fall auch langlebige Neubeschichtungen erschwert. Ein fundiertes Wissen über verschiedene Methoden und die Auswahl des geeigneten Verfahrens sind entscheidend für den Erfolg. Über zwei Tage werden Methoden und Projekte auf den Untergründen Stein\, Putz\, Holz und Metall vorgestellt und bei Vorführungen demonstriert. \nDie Veranstaltung findet hybrid statt und wird online übertragen. Das aktuelle Programm können Sie hier herunterladen. \nDatum: 30. und 31. Oktober 2025\nTagungsleitung: PD Dr. phil. habil. Thomas Wenderoth\, Susanne Nitschel M.A.\nVeranstaltungsort: Fortbildungs- und Beratungszentrum – Bauarchiv\, Augsburger Straße 22\, 86672 Thierhaupten\nAnmeldung/Kontakt: Um Anmeldung über das Buchungsformular wird gebeten bis zum 16. Oktober 2025: https://eveeno.com/entschichten (QR-Code siehe oben)\nTagungsgebühr: Die Tagungsgebühren inkl. Verpflegung betragen 170.- € (ermäßigt 130.- €)\, die Online-Teilnahme 110.-/ermäßigt 55.-
URL:https://www.restauratoren.de/termin/hybrid-tagung-entschichten-und-anstrichreduzierung/
CATEGORIES:Externe Veranstaltung
END:VEVENT
BEGIN:VEVENT
DTSTART;VALUE=DATE:20251031
DTEND;VALUE=DATE:20251101
DTSTAMP:20260422T180937
CREATED:20250604T152234Z
LAST-MODIFIED:20250604T152403Z
UID:10002123-1761868800-1761955199@www.restauratoren.de
SUMMARY:Symposium: Future for Polychromy
DESCRIPTION:Das PoCo-Projekt (Polychromie-Konservierung) (1. Juli 2024 – 30. Juni 2027) konzentriert sich auf die Ausbildung einer neuen Generation von Spezialisten für die Konservierung polychromer Objekte in den Niederlanden; Polychromie Conservering – PoCo :: SRAL. \nAls Halbzeitveranstaltung des Projekts PoCo freuen wir uns\, ein eintägiges Symposium mit einer repräsentativen Auswahl internationaler Referent*innen ankündigen zu können. Sie werden über den aktuellen Stand der Polychromie-Forschung in Europa sprechen. Auch wird das PoCo-Projekt von den Teilnehmenden vorgestellt. \nIt is our pleasure to invite you to our symposium:\nFuture for Polychromy | Collaborative projects in the field\non the 31th of October in Bonnefanten\, Maastricht\, the Netherlands.\nOrganized by SRAL – the conservation institute. \nThis symposium is the midterm meeting of the Dutch PoCo Project at SRAL (2024-2027). A representative selection of international speakers will talk about state-of-the-art research on polychromy in Europe and we will present the PoCo project. \nBesides the lectures there will be time to meet colleagues from different polychromy-projects and to have a look at actual examples of conservation (research).\nWe hope to welcome you; please find the preliminary programme here. \nParticipation costs are € 50\, – including lunch and drinks (reduced fee for students € 35\, -).\nIf you want us to keep you posted on when the registration opens\, please send an email with your name and organization to info(at)sral.nl.\nWe hope to see you in October!
URL:https://www.restauratoren.de/termin/symposium-future-for-polychromy/
CATEGORIES:Externe Veranstaltung
END:VEVENT
END:VCALENDAR