BEGIN:VCALENDAR
VERSION:2.0
PRODID:-//Verband der Restauratoren VDR - ECPv6.15.15//NONSGML v1.0//EN
CALSCALE:GREGORIAN
METHOD:PUBLISH
X-WR-CALNAME:Verband der Restauratoren VDR
X-ORIGINAL-URL:https://www.restauratoren.de
X-WR-CALDESC:Veranstaltungen für Verband der Restauratoren VDR
REFRESH-INTERVAL;VALUE=DURATION:PT1H
X-Robots-Tag:noindex
X-PUBLISHED-TTL:PT1H
BEGIN:VTIMEZONE
TZID:Europe/Paris
BEGIN:DAYLIGHT
TZOFFSETFROM:+0100
TZOFFSETTO:+0200
TZNAME:CEST
DTSTART:20240331T010000
END:DAYLIGHT
BEGIN:STANDARD
TZOFFSETFROM:+0200
TZOFFSETTO:+0100
TZNAME:CET
DTSTART:20241027T010000
END:STANDARD
BEGIN:DAYLIGHT
TZOFFSETFROM:+0100
TZOFFSETTO:+0200
TZNAME:CEST
DTSTART:20250330T010000
END:DAYLIGHT
BEGIN:STANDARD
TZOFFSETFROM:+0200
TZOFFSETTO:+0100
TZNAME:CET
DTSTART:20251026T010000
END:STANDARD
BEGIN:DAYLIGHT
TZOFFSETFROM:+0100
TZOFFSETTO:+0200
TZNAME:CEST
DTSTART:20260329T010000
END:DAYLIGHT
BEGIN:STANDARD
TZOFFSETFROM:+0200
TZOFFSETTO:+0100
TZNAME:CET
DTSTART:20261025T010000
END:STANDARD
END:VTIMEZONE
BEGIN:VEVENT
DTSTART;VALUE=DATE:20251105
DTEND;VALUE=DATE:20251108
DTSTAMP:20260423T161108
CREATED:20241217T174944Z
LAST-MODIFIED:20251031T204031Z
UID:10002029-1762300800-1762559999@www.restauratoren.de
SUMMARY:HYBRID: Fachtagung "Analysen für die Praxis" – Holzobjekte im Fokus
DESCRIPTION:Hinweis zur Anmeldung\nDie Plätze für eine Teilnahme vor Ort (Präsenz) sind bereits vollständig ausgebucht – es besteht eine Warteliste. Bei Interesse melden Sie sich unter veranstaltungen[at]restauratoren.de.\nAlternativ können Sie sich für die Online-Teilnahme anmelden.\nVielen Dank für Ihr Interesse!\n	Die Fachgruppe Möbel und Holzobjekte im VDR lädt herzlich vom 05.-07.11.2025 zur nächsten Fachtagung „Analysen für die Praxis – Untersuchungsmethoden für Holzobjekte in der Restaurierungswissenschaft“ ein. Unterstützt durch die HAWK Hildesheim\, erwartet Sie dort ein spannendes Programm voller innovativer Einblicke und praxisnaher Anwendungen! Seien Sie vor Ort oder Online dabei. \n \nDas erwartet Sie: \nIm Fokus der Hybrid-Tagung stehen effiziente und aussagekräftige Analysemethoden im Fachgebiet Möbel und Holzobjekte. \nDie Vorträge beleuchten vor allem den Einfluss von Analyseergebnissen auf  Restaurierungskonzepte in praktischer Anwendung und ermöglichen wertvolle Einblicke in den Nutzen traditioneller sowie innovativer Untersuchungstechniken. \nVon augenscheinlichen Befunden bis hin zu anspruchsvoller Laboranalytik soll das ganze Spektrum von archäometrischer Grundlagenforschung bis zur unmittelbaren Vorbereitung von Restaurierungen betrachtet werden. Besonderes Augenmerk gilt der spannenden Entwicklung bei den neuen zerstörungsfreien Methoden. \nHighlight vor Ort: \nNeben dem Fachprogramm bietet die Tagung reichlich Gelegenheit zum Netzwerken\, Austauschen und Wiedersehen sowie zum Feiern. Die Auswahl ist groß: Exkursion\, Get-Together\, Kneipenabend\, Führung an der HAWK\, Bunter Abend sowie die nächste Fachgruppensitzung. \nDoppelt lohnt sich die Reise! \nDirekt im Anschluss an die Fachtagung\, am 8. November 2025\, findet am selben Ort die Mitgliederversammlung des VDR statt. Nutzen Sie die Gelegenheit\, an beiden Veranstaltungen teilzunehmen! \nWir freuen uns auf Sie in Hildesheim! \n	Programm \nDas Programm finden Sie hier als PDF. \n	Tagungsteam \nSprechgremium der VDR Fachgruppe Möbel und Holzobjekte\nEberhard Roller\, Astrid Beling\, Daniela Bruder\nMitglieder der VDR Fachgruppe Möbel und Holzobjekte\nDr. Ralf Buchholz\, Birgit Engel-Bangen\, Prof. Dr. Angelika Rauch\, Prof. Dr. Julia Schultz\, Marisa Zengin\n	Partner \nDie Veranstaltung wird vom VDR mit freundlicher Unterstützung der HAWK – Hochschule für Angewandte Wissenschaft und Kunst\, Fachhochschule Hildesheim\, Holzminden\, Göttingen – Fachbereich Konservierung und Restaurierung ausgerichtet. \n				\n				\n				\n	Sponsoring \nWir danken herzlich unseren Sponsoren für die finanzielle Unterstützung der Fachtagung sowie für die Beilagen. Die Firmen Consult Victoria – IPM für Museen\, fokus GmbH Leipzig\, Paz Laboratorien für Archäometrie\, PerkinElmer GmbH sowie Stephan Biebl – Ingenieurbüro für Holzschutz sind während der Tagung mit einem Infostand vertreten. \n				\n				\n				\n				\n				\n				\n				\n				\n				\n				\n				\n				\n				\n				\n				\n				\n				\n				\n	Schlafbörse \nTobias Depreux\, Restaurierungs-Student an der HAWK\, koordiniert die Schlafbörse und hilft gern bei der Vermittlung.\nMelde dich einfach bei ihm – er versucht\, für alle eine Unterkunft zu finden.Bitte beachte: Die Plätze sind begrenzt und werden nach dem Prinzip First come\, first served vergeben.\n	Unterkunft \nWir haben Zimmerkontingente in drei Hotels für den Zeitraum vom 04.-08.11.2025 reserviert. Die Zimmer können unter dem Stichwort „VDR Tagung“ abgerufen werden. Bitte prüfen Sie auch weitere Angebote in Hildesheim\, die für Einzelbuchungen kostengünstige Alternativen bieten. In der PDF finden Sie weitere Hotels\, bei denen kein Kontingent besteht. \n	M&A Cityhotel Hildesheim\nHindenburgpl. 6\n31134 Hildesheim\nhttp://www.ma-cityhotel.de/\n65\,00€ Einzelzimmer\n12\,00€ Frühstück\nAbrufbar bis 22.10.2025\n	Hotel Bürgermeisterkapelle\nRathausstr. 8\n31134 Hildesheim\nhttp://www.hotelbuergermeisterkapelle.de/\n65\,00 € Einzelzimmer\ninkl. Frühstück\nAbrufbar bis 31.07.2025\n	Hey Lou Hotel Hildesheim\nZingel 26\n31134 Hildesheim\nhttps://hil.heylouhotels.com/\n108\,00 € Zimmer\n14\,00 € Frühstück\nAbrufbar bis 09.09.2025\n	Anmeldung und Preise \nAnmeldeschluss: 26. Oktober 2025 \nDie Teilnehmendenzahl ist auf max. 142 Personen (Präsenz) begrenzt / online ohne Limit.\n(insgesamt vor Ort mit Referent:innen\, Gästen und Organisator:innen 200 Personen)\n\nWichtige Hinweise zur Anmeldung: Mit Absenden des Online-Formulars ist Ihre Anmeldung verbindlich – unabhängig vom Zahlungseingang.\nSie erhalten eine automatische Bestätigung per E-Mail mit der Zahlungsaufforderung\, Ihren Anmeldedaten und weiteren Infos. Bitte prüfen Sie auch Ihren Spam-Ordner. Falls keine Bestätigung innerhalb von 24 Stunden eintrifft\, kontaktieren Sie uns unter veranstaltungen[at]restauratoren.de.\n\nDie Präsenzplätze vor Ort sind bereits ausgebucht! Eine Online-Teilnahme ist weiterhin möglich.\n	PRÄSENZ: Early Bird Ticket >> bis 08.10.2025 \n130 € VDR-Mitglied*\n130 € Mitglied* (ÖRV\, SKR oder VRKS-ARCA)\n165 € Nicht-Mitglied\n45 € VDR-Mitglied in Ausbildung**\n45 € Mitglied in Ausbildung** (ÖRV\, SKR oder VRKS-ARCA)\n80 € Nicht-Mitglied in Ausbildung**\n	PRÄSENZ: Ticket >> 09. bis 26.10.2025 \n165 € VDR-Mitglied*\n165 € Mitglied* (ÖRV\, SKR oder VRKS-ARCA)\n200 € Nicht-Mitglied\n75 € VDR-Mitglied in Ausbildung**\n75 € Mitglied in Ausbildung** (ÖRV\, SKR oder VRKS-ARCA)\n100 € Nicht-Mitglied in Ausbildung**\n	ONLINE: Early Bird Ticket >> bis 08.10.2025 \n165 € VDR-Mitglied*\n165 € Mitglied* (ÖRV\, SKR oder VRKS-ARCA)\n205 € Nicht-Mitglied\n60 € VDR-Mitglied in Ausbildung**\n60 € Mitglied in Ausbildung** (ÖRV\, SKR oder VRKS-ARCA)\n100 € Nicht-Mitglied in Ausbildung**\n	ONLINE: Ticket >> 09. bis 26.10.2025 \n205 € VDR-Mitglied*\n205 € Mitglied* (ÖRV\, SKR oder VRKS-ARCA)\n245 € Nicht-Mitglied\n100 € VDR-Mitglied in Ausbildung**\n100 € Mitglied in Ausbildung** (ÖRV\, SKR oder VRKS-ARCA)\n140 € Nicht-Mitglied in Ausbildung**\n		Nutzen Sie das Angebot und nehmen zum günstigeren Mitgliedertarif teil!\n			\n							Tagung-Special\n					\n	>> Ticket „Bunter Abend“ hier buchen“>\n				>>> Ticket „Bunter Abend“ hier buchen\n			\n	* Korrespondierende Mitglieder und Fördermitglieder können durch jeweils 1 Person auf Veranstaltungen vertreten werden.\n** Praktikant:innen\, Studierende\n \nHinweise zur Verpflegung und zum Rahmenprogramm (Präsenz): \nDie Verpflegung während der Kaffee- und Mittagspausen ist in der Veranstaltungsgebühr enthalten. \nAUSGEBUCHT: Exkursion Schloss Marienburg\n10\,00 € (inkl. Bustransfer)\nOptionales Angebot – begrenzte Teilnehmendenzahl (max. 50 Personen).\nBunter Abend\n25\,00 € / 10\,00 € ermäßigt (für Praktikant:innen und Studierende)\nSie können den Bunten Abend buchen\, auch wenn Sie nur Online an der Tagung teilnehmen. Nutzen Sie hierfür den Ticket-Button zum „Bunten Abend“ weiter unten. \nEin geselliger Abend mit Buffet und Musik (DJ) – zum Austauschen\, Feiern und Vernetzen.\nGetränke sind nicht im Preis enthalten (Selbstzahler:innen). Eine verbindliche Anmeldung ist erforderlich. Die Teilnehmendenzahl ist auf max. 200 Personen begrenzt.\nNähere Infos siehe weiter oben im Progamm. \n	Bildnachweis \nTitelbild: Querschliff. © akanthus Restaurierungen GmbH. Foto: Jessica Löwe.
URL:https://www.restauratoren.de/termin/tagung-analysen-fuer-die-praxis-untersuchungsmethoden-fuer-holzobjekte-in-der-restaurierungswissenschaft-2025/
LOCATION:HAWK Hildesheim (Hohnsen)\, Hohnsen 2 (Aula am Hohnsen)\, Hildesheim\, 31134\, Deutschland
CATEGORIES:FG Möbel und Holzobjekte,Save the Date,VDR-Veranstaltung,VDR-Weiterbildung
ATTACH;FMTTYPE=image/png:https://www.restauratoren.de/wp-content/uploads/2024/08/Titel_Holzanalyse_Tagung_2025_Foto_Eberhard_Roller_akanthusRestaurierungenGmbH.png
ORGANIZER;CN="VDR":MAILTO:veranstaltungen@restauratoren.de
GEO:52.14302;9.95856
X-APPLE-STRUCTURED-LOCATION;VALUE=URI;X-ADDRESS=HAWK Hildesheim (Hohnsen) Hohnsen 2 (Aula am Hohnsen) Hildesheim 31134 Deutschland;X-APPLE-RADIUS=500;X-TITLE=Hohnsen 2 (Aula am Hohnsen):geo:9.95856,52.14302
END:VEVENT
BEGIN:VEVENT
DTSTART;VALUE=DATE:20251105
DTEND;VALUE=DATE:20251108
DTSTAMP:20260423T161108
CREATED:20250205T104343Z
LAST-MODIFIED:20250205T104343Z
UID:10002051-1762300800-1762559999@www.restauratoren.de
SUMMARY:Tagung "Future Talks": From failure to success. Innovative case studies in the conservation of the modern
DESCRIPTION:Die Neue Sammlung – The Design Museum is pleased to announce its ninth edition of the FUTURE TALKS conference series from November 5th to November 7th\, 2025: Call for papers (PDF) \nSubmission: The deadline for submission of abstracts is February 28\, 2025\nLocation: Pinakothek der Moderne\, Munich\, Germany \n16 years\, eight conferences and a good 230 lectures after the first FUTURE TALKS conference in 2009\, we would like to dedicate the FUTURE TALKS 025 conference to an aspect that is directly linked to the evolution of human culture: Innovation through mistakes.\nIn our culture\, especially in the working environment of conservators and conservation scientists\, mistakes are often associated with professional failure. This is understandable\, as in the worst case this can lead to the loss of irretrievable cultural assets. What is crucial in this context\, however\, is how to deal with failure. \nFor further Information
URL:https://www.restauratoren.de/termin/tagung-future-talks-from-failure-to-success-innovative-case-studies-in-the-conservation-of-the-modern/
CATEGORIES:Call for Papers,Externe Veranstaltung
END:VEVENT
BEGIN:VEVENT
DTSTART;VALUE=DATE:20251107
DTEND;VALUE=DATE:20251108
DTSTAMP:20260423T161108
CREATED:20250522T062555Z
LAST-MODIFIED:20250522T062714Z
UID:10002119-1762473600-1762559999@www.restauratoren.de
SUMMARY:Tag der Jungen Freien Berufe
DESCRIPTION:Am 7. November 2025 lädt das BFB-Gesprächsforum „Junge Freie Berufe“ zum „Tag der Jungen Freien Berufe“ nach Berlin-Mitte ein. Einlass ist ab 13 Uhr\, ab 13:30 Uhr erwartet die Teilnehmenden ein spannendes Programm mit inspirierenden persönlichen Geschichten\, Impulsen für berufspolitisches Engagement sowie praxisnahen Einblicken in die Themen Gründung und Nachfolge. Darüber hinaus werden Strategien zur Vereinbarkeit von Familie und Beruf besprochen und politische Kernforderungen für eine starke Zukunft der Freien Berufe diskutiert. \nAb etwa 17 Uhr gibt es dann reichlich Gelegenheit zu Austausch und Networking. So lernen gerade junge Freiberuflerinnen und Freiberufler einander kennen\, knüpfen wertvolle Kontakte und lassen sich inspirieren. \nDie Teilnahme an der Veranstaltung ist kostenfrei. \nDas detaillierte Programm ist derzeit noch in Arbeit und auch Informationen zum Veranstaltungsort folgen noch. \nJe nach Interessenlage wird zusätzlich ein Abendprogramm am 7. November 2025 und/oder ein Tagesprogramm\, beispielsweise ein Stadtrundgang o. Ä.\, am 8. November 2025 auf Selbstzahlerbasis angeboten. \nInteressierte melden sich bitte über diesen Link https://www.freie-berufe.de/14062-2/ an. Wir empfehlen\, sich zeitnah anzumelden\, da die Plätze limitiert sind. \nWir freuen uns auf zahlreiche Teilnahme und informieren dann zu gegebener Zeit mit weiteren Details.
URL:https://www.restauratoren.de/termin/tag-der-jungen-freien-berufe/
CATEGORIES:IG Selbstständige/Freiberufler
END:VEVENT
BEGIN:VEVENT
DTSTART;VALUE=DATE:20251107
DTEND;VALUE=DATE:20251108
DTSTAMP:20260423T161108
CREATED:20251016T092316Z
LAST-MODIFIED:20251016T092316Z
UID:10002187-1762473600-1762559999@www.restauratoren.de
SUMMARY:Studientag: Barocke illusionistische Fassadengestaltung
DESCRIPTION:Einladung zum Studientag am 7. November 2025 zum 90. Geburtstag von Siegfried Schnall im Schloss Weesenstein:\nBarocke illusionistische Fassadengestaltungen in Sachsen mit dem Schwerpunkt auf Schloss Weesenstein\n  \nOrt: Schloss Weesenstein\, Konzertsaal\nVeranstalter: Schloss Weesenstein in Kooperation mit dem Landesamt für Denkmalpflege Sachsen \nProgramm:\nAb 9:30 Uhr Morgenkaffee \n10:00 Uhr Begrüßung\nDr. Andrea Dietrich\, Leiterin Schloss Weesenstein \nGrußwort\nProf. Gerhard Glaser\, Sächsischer Landeskonservator i. R. \nGrußwort\nStefan Reuther\, Leiter des Referats Restaurierung im LfD \n10:15 Uhr\nBerufliche Biografie von Siegfried Schnall\nDr. Christine Klecker\, Historikerin \nDie Plansammlung im LfD mit dem Schwerpunkt auf deren barocken Plänen\nMartin Schuster\, Leiter der Plansammlung im LfD Sachsen \nDie restauratorischen Untersuchungen an den Fassaden im ersten Schlosshof von Schloss Weesenstein und die naturwissenschaftlichen Auswertungen zu den Befunden\nMarkus Schulz\, Restaurator \n12: 00 Uhr Mittagsimbiss \n13:00 Uhr\nSächsische Beispiele illusionistischer Fassadenmalereien für den Kirchen-\, Schloss- und Bürgerbau\nTorsten Nimoth\, Restaurator im LfD Sachsen i. R. \nDie Fassadenmalereien auf der Königstraße in Dresden\nEric Stenzel\, Restaurator \nDie bemalten Spanschachteln von Siegfried Schnall\nDr. Birgit Finger\, Kustodin im Schloss Weesenstein \n14.00 Uhr\nGemeinsamer Rundgang mit Herrn Siegfried Schnall zu den Fassaden und Wandfassungen im Schloss Weesenstein \nAnmeldungen bitte bis zum 3. November 2025 an Tel.: 035027 626 26 oder Email: birgit.finger(at)schloesserland-sachsen.de
URL:https://www.restauratoren.de/termin/studientag-barocke-illusionistische-fassadengestaltung/
CATEGORIES:Externe Veranstaltung
END:VEVENT
END:VCALENDAR