BEGIN:VCALENDAR
VERSION:2.0
PRODID:-//Verband der Restauratoren VDR - ECPv6.15.15//NONSGML v1.0//EN
CALSCALE:GREGORIAN
METHOD:PUBLISH
X-ORIGINAL-URL:https://www.restauratoren.de
X-WR-CALDESC:Veranstaltungen für Verband der Restauratoren VDR
REFRESH-INTERVAL;VALUE=DURATION:PT1H
X-Robots-Tag:noindex
X-PUBLISHED-TTL:PT1H
BEGIN:VTIMEZONE
TZID:Europe/Paris
BEGIN:DAYLIGHT
TZOFFSETFROM:+0100
TZOFFSETTO:+0200
TZNAME:CEST
DTSTART:20240331T010000
END:DAYLIGHT
BEGIN:STANDARD
TZOFFSETFROM:+0200
TZOFFSETTO:+0100
TZNAME:CET
DTSTART:20241027T010000
END:STANDARD
BEGIN:DAYLIGHT
TZOFFSETFROM:+0100
TZOFFSETTO:+0200
TZNAME:CEST
DTSTART:20250330T010000
END:DAYLIGHT
BEGIN:STANDARD
TZOFFSETFROM:+0200
TZOFFSETTO:+0100
TZNAME:CET
DTSTART:20251026T010000
END:STANDARD
BEGIN:DAYLIGHT
TZOFFSETFROM:+0100
TZOFFSETTO:+0200
TZNAME:CEST
DTSTART:20260329T010000
END:DAYLIGHT
BEGIN:STANDARD
TZOFFSETFROM:+0200
TZOFFSETTO:+0100
TZNAME:CET
DTSTART:20261025T010000
END:STANDARD
END:VTIMEZONE
BEGIN:VEVENT
DTSTART;VALUE=DATE:20251112
DTEND;VALUE=DATE:20251115
DTSTAMP:20260425T180554
CREATED:20250922T101850Z
LAST-MODIFIED:20250922T101850Z
UID:10002176-1762905600-1763164799@www.restauratoren.de
SUMMARY:Tagung des deutschen Schlösservereins – Kulturerbe im Wandel
DESCRIPTION:Vom 12. bis 14. November 2025 lädt der Verein „Schlösser und Gärten in Deutschland e. V.“ (SGD) zu seiner Jahrestagung ins Humboldt Forum in Berlin ein. Unter dem Leitmotiv „Kulturerbe im Wandel“ werden aktuelle gesellschaftliche Herausforderungen wie Digitalisierung\, Klimakrise\, Migration und gesellschaftliche Fragmentierung in den Blick genommen. Vertreterinnen und Vertreter aus Politik\, Kultur\, Wissenschaft und Praxis diskutieren\, wie Schlösser\, Burgen\, Klöster\, Museen und historische Gärten auch in Zukunft für die Gesellschaft attraktiv und bedeutsam bleiben können. \nIm Humboldt Forum\, selbst ein Symbol des kulturellen Dialogs\, aber auch des Konflikts\, stehen Fachvorträge\, Gesprächsrunden und moderierte Panels auf dem Programm. Das Panel „Junges Publikum – neues Interesse“ diskutiert Strategien für digitale Teilhabe\, Social Media und innovative Formate der Kulturvermittlung. Die Beispiele reichen dabei von Mitmachausstellungen im Jungen Schloss in Stuttgart über die Digitalisierung und Automatisierung bei den Staatlichen Schlössern Sachsens bis hin zu neuen Strategien mit Social Media und Künstlicher Intelligenz. Hier zeigt sich großes Potenzial\, denn „junge Menschen suchen heute andere Zugänge zu Kultur. Digitale Formate sind keine Konkurrenz\, sondern eine Chance für eine neue\, partizipative Besucherbindung“\, so Dr. Stefan Körner\, Vorstandsmitglied der SGD\, Kunsthistoriker und Vorstand der Stiftung Fürst-Pückler-Museum Park und Schloss Branitz. \nWeitere Informationen\, Programm und Anmeldung
URL:https://www.restauratoren.de/termin/tagung-des-deutschen-schloesservereins-kulturerbe-im-wandel/
CATEGORIES:Externe Veranstaltung
END:VEVENT
BEGIN:VEVENT
DTSTART;VALUE=DATE:20251113
DTEND;VALUE=DATE:20251114
DTSTAMP:20260425T180554
CREATED:20250912T130511Z
LAST-MODIFIED:20250912T130511Z
UID:10002168-1762992000-1763078399@www.restauratoren.de
SUMMARY:Lights On! Sustaining Light-Based Art.
DESCRIPTION:Symposium at Hamburger Bahnhof- Naonalgalerie der Gegenwart in Berlin\nOn November 13\, 2026\, the Hamburger Bahnhof – Nationalgalerie der Gegenwart will host a one-day symposium dedicated to the preservation of light-based artworks. \nStarting point for this symposium is Dan Flavin’s iconic light installation Untitled (1996)\, with its blue and green fluorescent lamps spanning both the main façade and the interior of Hamburger Bahnhof. Created on the occasion of the museum’s opening in 1996\, this site-specific work has become a landmark in Berlin. Flavin’s artistic practice relied almost exclusively on commercially available fluorescent lamps\, which have since become\nobsolete due to market shi2s and evolving regulations in both Europe and the U.S. However\, the availability of compatible materials is crucial for the preservation and ongoing presentation of works like Flavin’s.\nThe long-term care of light-based art presents unique challenges related to sustainability\, technological change\, and obsolescence\, all of which may impact the integrity of an artwork and the ar tist’s intent. In response to these challenges\, this symposium will examine current strategies and future perspectives on the conservation of light-based works. \nOrganisation: Andrea Sartorius · Carolin Bohlmann · Eva Rieß
URL:https://www.restauratoren.de/termin/lights-on-sustaining-light-based-art/
LOCATION:Hamburger Bahnhof – Museum für Gegenwart\, Invalidenstraße 50-51\, Berlin\, 10557
GEO:52.5281834;13.3714932
X-APPLE-STRUCTURED-LOCATION;VALUE=URI;X-ADDRESS=Hamburger Bahnhof – Museum für Gegenwart Invalidenstraße 50-51 Berlin 10557;X-APPLE-RADIUS=500;X-TITLE=Invalidenstraße 50-51:geo:13.3714932,52.5281834
END:VEVENT
BEGIN:VEVENT
DTSTART;TZID=Europe/Paris:20251113T150000
DTEND;TZID=Europe/Paris:20251113T163000
DTSTAMP:20260425T180554
CREATED:20250212T202359Z
LAST-MODIFIED:20250928T074446Z
UID:10002068-1763046000-1763051400@www.restauratoren.de
SUMMARY:Restaurierung und Verpackung von großformatigen Vorlagenkartons zu Teppichentwürfen Johannes Ittens
DESCRIPTION:+++ VDR Kooperation Weiterbildungsreihe Bestandserhaltung +++ \nRestaurierung und Verpackung von großformatigen Vorlagenkartons zu Teppichentwürfen Johannes Ittens \n13.11.2025 – 15:00 bis 16:30 Uhr – kostenfreies Zoom-Meeting \nReferentin: Louise Schaufel\, Papierrestauratorin M.A.\, Germanisches Nationalmuseum Nürnberg \nWeitere Informationen \n 
URL:https://www.restauratoren.de/termin/restaurierung-und-verpackung-von-grossformatigen-vorlagenkartons-zu-teppichentwuerfen-johannes-ittens/
CATEGORIES:Externe Veranstaltung,VDR-Partnerveranstaltung
END:VEVENT
END:VCALENDAR