BEGIN:VCALENDAR
VERSION:2.0
PRODID:-//Verband der Restauratoren VDR - ECPv6.15.15//NONSGML v1.0//EN
CALSCALE:GREGORIAN
METHOD:PUBLISH
X-WR-CALNAME:Verband der Restauratoren VDR
X-ORIGINAL-URL:https://www.restauratoren.de
X-WR-CALDESC:Veranstaltungen für Verband der Restauratoren VDR
REFRESH-INTERVAL;VALUE=DURATION:PT1H
X-Robots-Tag:noindex
X-PUBLISHED-TTL:PT1H
BEGIN:VTIMEZONE
TZID:Europe/Paris
BEGIN:DAYLIGHT
TZOFFSETFROM:+0100
TZOFFSETTO:+0200
TZNAME:CEST
DTSTART:20240331T010000
END:DAYLIGHT
BEGIN:STANDARD
TZOFFSETFROM:+0200
TZOFFSETTO:+0100
TZNAME:CET
DTSTART:20241027T010000
END:STANDARD
BEGIN:DAYLIGHT
TZOFFSETFROM:+0100
TZOFFSETTO:+0200
TZNAME:CEST
DTSTART:20250330T010000
END:DAYLIGHT
BEGIN:STANDARD
TZOFFSETFROM:+0200
TZOFFSETTO:+0100
TZNAME:CET
DTSTART:20251026T010000
END:STANDARD
BEGIN:DAYLIGHT
TZOFFSETFROM:+0100
TZOFFSETTO:+0200
TZNAME:CEST
DTSTART:20260329T010000
END:DAYLIGHT
BEGIN:STANDARD
TZOFFSETFROM:+0200
TZOFFSETTO:+0100
TZNAME:CET
DTSTART:20261025T010000
END:STANDARD
END:VTIMEZONE
BEGIN:VEVENT
DTSTART;VALUE=DATE:20251112
DTEND;VALUE=DATE:20251115
DTSTAMP:20260424T125009
CREATED:20250922T101850Z
LAST-MODIFIED:20250922T101850Z
UID:10002176-1762905600-1763164799@www.restauratoren.de
SUMMARY:Tagung des deutschen Schlösservereins – Kulturerbe im Wandel
DESCRIPTION:Vom 12. bis 14. November 2025 lädt der Verein „Schlösser und Gärten in Deutschland e. V.“ (SGD) zu seiner Jahrestagung ins Humboldt Forum in Berlin ein. Unter dem Leitmotiv „Kulturerbe im Wandel“ werden aktuelle gesellschaftliche Herausforderungen wie Digitalisierung\, Klimakrise\, Migration und gesellschaftliche Fragmentierung in den Blick genommen. Vertreterinnen und Vertreter aus Politik\, Kultur\, Wissenschaft und Praxis diskutieren\, wie Schlösser\, Burgen\, Klöster\, Museen und historische Gärten auch in Zukunft für die Gesellschaft attraktiv und bedeutsam bleiben können. \nIm Humboldt Forum\, selbst ein Symbol des kulturellen Dialogs\, aber auch des Konflikts\, stehen Fachvorträge\, Gesprächsrunden und moderierte Panels auf dem Programm. Das Panel „Junges Publikum – neues Interesse“ diskutiert Strategien für digitale Teilhabe\, Social Media und innovative Formate der Kulturvermittlung. Die Beispiele reichen dabei von Mitmachausstellungen im Jungen Schloss in Stuttgart über die Digitalisierung und Automatisierung bei den Staatlichen Schlössern Sachsens bis hin zu neuen Strategien mit Social Media und Künstlicher Intelligenz. Hier zeigt sich großes Potenzial\, denn „junge Menschen suchen heute andere Zugänge zu Kultur. Digitale Formate sind keine Konkurrenz\, sondern eine Chance für eine neue\, partizipative Besucherbindung“\, so Dr. Stefan Körner\, Vorstandsmitglied der SGD\, Kunsthistoriker und Vorstand der Stiftung Fürst-Pückler-Museum Park und Schloss Branitz. \nWeitere Informationen\, Programm und Anmeldung
URL:https://www.restauratoren.de/termin/tagung-des-deutschen-schloesservereins-kulturerbe-im-wandel/
CATEGORIES:Externe Veranstaltung
END:VEVENT
BEGIN:VEVENT
DTSTART;VALUE=DATE:20251114
DTEND;VALUE=DATE:20251115
DTSTAMP:20260424T125009
CREATED:20250731T112800Z
LAST-MODIFIED:20250731T112800Z
UID:10002154-1763078400-1763164799@www.restauratoren.de
SUMMARY:Historisches Isolierglas in der Denkmalpflege
DESCRIPTION:Arbeitsgespräch am 14.11.2025\nin Esslingen am Neckar \nDie nun rund 100-jährige Geschichte der Isolierverglasung in Deutschland ist von Innovationen geprägt\, die bis heute andauern. Mittlerweile weisen zahlreiche denkmalgeschützte Bauwerke bauzeitliche Isolierverglasungen auf\, die seitens der Denkmalpflege als erhaltenswert eingeordnet werden. Die Erhaltung von historischen Isolierverglasungen bzw. die Frage nach deren Erhaltungsfähigkeit stellt die Denkmalpflege jedoch immer wieder vor neue Herausforderungen. So werden die historischen Verglasungen oftmals den gehobenen Ansprüchen einer modernen Isolierverglasung nicht gerecht. Gerade bauphysikalische Defizite werden meist als Gründe für eine Glaserneuerung aufgeführt. \nNeben denkmalpflegerischen Aspekten wären auch im Hinblick auf Fragen zum nachhaltigen Bauen zumindest die Erhaltungsmöglichkeiten einer Verglasung bzw. die damit verbundenen Risiken zu diskutieren. Welche ästhetischen und substanziellen Veränderungen sind mit dem Einsatz historisierter Verglasungen an einem Baudenkmal verbunden? Diese und weitere\, mit dem Erhalt historischer Isolierverglasungen verknüpfte Fragestellungen stehen im Mittelpunkt des Arbeitsgesprächs. \nDie Veranstaltung richtet sich an Denkmaleigentümer\, Architekten\, Restauratoren\, Ingenieure und an die Vertreter der Denkmalbehörden. \nWeitere Informationen und Anmeldung\nAnmeldung bis 06.11.2025
URL:https://www.restauratoren.de/termin/historisches-isolierglas-in-der-denkmalpflege/
CATEGORIES:Externe Veranstaltung
END:VEVENT
BEGIN:VEVENT
DTSTART;VALUE=DATE:20251114
DTEND;VALUE=DATE:20251116
DTSTAMP:20260424T125009
CREATED:20250918T080232Z
LAST-MODIFIED:20250918T080232Z
UID:10002174-1763078400-1763251199@www.restauratoren.de
SUMMARY:Jubiläumstagung "40 Jahre ÖRV – Ein Berufsbild im Wandel"
DESCRIPTION:Große Jubiläumstagung „40 Jahre ÖRV – Ein Berufsbild im Wandel“\n28. Tagung des Berufsverbandes der Österreichischen Restauratoren und Restauratorinnen\nin Kooperation mit dem Wien Museum\n14.11- 15.11.2025 / Wien Museum \n1985 wurde der „Berufsverband der Österreichischen Restauratoren und Restauratorinnen“ (bis 2021 „Österreichischer Restauratorenverband“) gegründet. Vier Jahrzehnte später bietet sich die Gelegenheit Bilanz zu ziehen\, Entwicklungen zu reflektieren\, Perspektiven für die Zukunft zu skizzieren und gemeinsam zu feiern! \nEntsprechend beleuchtet die 28. ÖRV-Tagung\, die in Kooperation mit dem Wien Museum stattfindet\, in einer Art Standortbestimmung mit breit gefächerten Fachvorträgen die Entwicklung des Berufsbildes von der Vergangenheit bis in die Zukunft. Internationale und österreichische Expert:innen präsentieren historische Rückblicke\, Fallstudien aus Museen und denkmalpflegerischer Praxis sowie aktuelle Projekte zu Nachhaltigkeit\, Digitalisierung und Green Skills. Diskutiert werden zudem neue Ansätze in Lehre und Forschung und die Herausforderungen durch Klimawandel und gesellschaftliche Veränderungen. \nDie Tagung bietet damit einen umfassenden Einblick in die Professionalisierung\, die Chancen und die Perspektiven der Restaurierung in Österreich. \nErgänzt wird das Programm durch ein moderiertes Podiumsgespräch zur Gründung\, Geschichte und Zukunft des Berufsverbandes\, die feierliche Aufnahme verdienter Mitglieder als Ehrenmitglieder\, einen Fotowettbewerb sowie einen Festabend mit Live-Musik. \nWir freuen uns besonders\, zum Abschluss mitteilen zu können\, dass Bundespräsident Alexander Van der Bellen den Ehrenschutz für unsere Jubiläumstagung „40 Jahre ÖRV – Ein Berufsbild im Wandel“   übernommen hat. Wir verstehen diese Zusage nicht nur als Zeichen besonderer Wertschätzung\, sondern auch als Würdigung des Engagements\, das Restauratorinnen und Restauratoren in Österreich seit Jahrzehnten für den Erhalt des kulturellen Erbes leisten. Wir danken für dieses wichtige gesellschaftliche Signal der Anerkennung unseres Berufsbildes. \nInformationen zu Programm\, Anmeldung und dem Fotowettbewerb findet ihr im Anhang und unter folgenden Links:: \nGroße Jubiläumstagung „40 Jahre ÖRV – Ein Berufsbild im Wandel“ \nFotowettbewerb „Ein Beruf im Bild“ – 40 Jahre ÖRV – Ein Berufsbild sichtbar machen \nAnmeldung unter: Große Jubiläumstagung „40 Jahre ÖRV – Ein Berufsbild im Wandel“ – Individual Registration
URL:https://www.restauratoren.de/termin/jubilaeumstagung-40-jahre-oerv-ein-berufsbild-im-wandel/
CATEGORIES:Externe Veranstaltung
END:VEVENT
END:VCALENDAR