BEGIN:VCALENDAR
VERSION:2.0
PRODID:-//Verband der Restauratoren VDR - ECPv6.15.15//NONSGML v1.0//EN
CALSCALE:GREGORIAN
METHOD:PUBLISH
X-WR-CALNAME:Verband der Restauratoren VDR
X-ORIGINAL-URL:https://www.restauratoren.de
X-WR-CALDESC:Veranstaltungen für Verband der Restauratoren VDR
REFRESH-INTERVAL;VALUE=DURATION:PT1H
X-Robots-Tag:noindex
X-PUBLISHED-TTL:PT1H
BEGIN:VTIMEZONE
TZID:Europe/Paris
BEGIN:DAYLIGHT
TZOFFSETFROM:+0100
TZOFFSETTO:+0200
TZNAME:CEST
DTSTART:20240331T010000
END:DAYLIGHT
BEGIN:STANDARD
TZOFFSETFROM:+0200
TZOFFSETTO:+0100
TZNAME:CET
DTSTART:20241027T010000
END:STANDARD
BEGIN:DAYLIGHT
TZOFFSETFROM:+0100
TZOFFSETTO:+0200
TZNAME:CEST
DTSTART:20250330T010000
END:DAYLIGHT
BEGIN:STANDARD
TZOFFSETFROM:+0200
TZOFFSETTO:+0100
TZNAME:CET
DTSTART:20251026T010000
END:STANDARD
BEGIN:DAYLIGHT
TZOFFSETFROM:+0100
TZOFFSETTO:+0200
TZNAME:CEST
DTSTART:20260329T010000
END:DAYLIGHT
BEGIN:STANDARD
TZOFFSETFROM:+0200
TZOFFSETTO:+0100
TZNAME:CET
DTSTART:20261025T010000
END:STANDARD
END:VTIMEZONE
BEGIN:VEVENT
DTSTART;VALUE=DATE:20251117
DTEND;VALUE=DATE:20251118
DTSTAMP:20260423T012816
CREATED:20250628T085725Z
LAST-MODIFIED:20250628T085725Z
UID:10002133-1763337600-1763423999@www.restauratoren.de
SUMMARY:Kunstsachverständigentag
DESCRIPTION:Der Berufsverband der Kunstsachverständigen (BVK) und der Bundesverband der Sachverständigen (BVS) freut sich\, Sie zu unserem Kunstsachverständigentag 2025 einzuladen: \n\nam 17. November 2025 \nim Hamburger Bahnhof\, Restaurant Suits in Berlin \n   \nDieses Branchentreffen dient zur Fort- und Weiterbildung und zum Ausbau Ihres Netzwerks. Es richtet sich an Kunstinteressierte\, Fachkolleginnen und Fachkollegen sowie an Spezialisten aus allen Bereichen rund um die Kunst. \n\nWeitere Informationen zum Programm und zur Anmeldung finden Sie hier.
URL:https://www.restauratoren.de/termin/kunstsachverstaendigentag/
CATEGORIES:Externe Veranstaltung
END:VEVENT
END:VCALENDAR