BEGIN:VCALENDAR
VERSION:2.0
PRODID:-//Verband der Restauratoren VDR - ECPv6.15.15//NONSGML v1.0//EN
CALSCALE:GREGORIAN
METHOD:PUBLISH
X-WR-CALNAME:Verband der Restauratoren VDR
X-ORIGINAL-URL:https://www.restauratoren.de
X-WR-CALDESC:Veranstaltungen für Verband der Restauratoren VDR
REFRESH-INTERVAL;VALUE=DURATION:PT1H
X-Robots-Tag:noindex
X-PUBLISHED-TTL:PT1H
BEGIN:VTIMEZONE
TZID:Europe/Paris
BEGIN:DAYLIGHT
TZOFFSETFROM:+0100
TZOFFSETTO:+0200
TZNAME:CEST
DTSTART:20240331T010000
END:DAYLIGHT
BEGIN:STANDARD
TZOFFSETFROM:+0200
TZOFFSETTO:+0100
TZNAME:CET
DTSTART:20241027T010000
END:STANDARD
BEGIN:DAYLIGHT
TZOFFSETFROM:+0100
TZOFFSETTO:+0200
TZNAME:CEST
DTSTART:20250330T010000
END:DAYLIGHT
BEGIN:STANDARD
TZOFFSETFROM:+0200
TZOFFSETTO:+0100
TZNAME:CET
DTSTART:20251026T010000
END:STANDARD
BEGIN:DAYLIGHT
TZOFFSETFROM:+0100
TZOFFSETTO:+0200
TZNAME:CEST
DTSTART:20260329T010000
END:DAYLIGHT
BEGIN:STANDARD
TZOFFSETFROM:+0200
TZOFFSETTO:+0100
TZNAME:CET
DTSTART:20261025T010000
END:STANDARD
END:VTIMEZONE
BEGIN:VEVENT
DTSTART;VALUE=DATE:20251202
DTEND;VALUE=DATE:20251206
DTSTAMP:20260422T040205
CREATED:20251101T095326Z
LAST-MODIFIED:20251101T095326Z
UID:10002194-1764633600-1764979199@www.restauratoren.de
SUMMARY:Online Conference "Focus on Conservation – Routes to Resilience"
DESCRIPTION:FOCUS ON CONSERVATION 2025 – ROUTES TO RESILIENCE\nDECEMBER 2–5\, 2025\, ONLINE CONFERENCE\,\nFREE PARTICIPATION\, REGISTRATION REQUIRED \nMuseums\, as stewards of cultural heritage\, face increasing challenges in safeguarding their collections. Changes in our physical\, societal\, and economic environments all pose risks to the preservation and conservation of cultural objects and the institutions that care for them. Continuing the „Focus on Conservation“ conference series\, this online event will explore how cultural heritage professionals and institutions can build resilience in the face of these pressures. The 2025 convening will centre on strategies and approaches that support the long-term sustainability of collections\, conservation practices\, and institutions themselves. \nThis international event will explore how cultural heritage institutions can strengthen their resilience in the face of current and future challenges-including climate change\, shifting societal expectations\, and financial uncertainty.Structured around four key themes:\nResilient Collections & Spaces\nResilient Conservation Practice\nResilient Resources & Finances\nResilient Futures for Conservation \nThe conference will bring together global voices to share strategies\, case studies\, and insights that support sustainable conservation.\nThe event is free to attend\, and open to all conservation professionals\, heritage workers\, researchers\, and students.\nMore information on the programme and registration will follow soon. \nLink to Flyer
URL:https://www.restauratoren.de/termin/online-conference-focus-on-conservation-routes-to-resilience/
CATEGORIES:Externe Veranstaltung
END:VEVENT
BEGIN:VEVENT
DTSTART;TZID=Europe/Paris:20251202T171500
DTEND;TZID=Europe/Paris:20251202T183000
DTSTAMP:20260422T040205
CREATED:20251105T082552Z
LAST-MODIFIED:20251105T082552Z
UID:10002205-1764695700-1764700200@www.restauratoren.de
SUMMARY:Methodologie des Verstehens in der Restaurierung
DESCRIPTION:In der Online-Ringvorlesung „DenkRaum Restaurierung ORDNUNG SCHAFFEN“ der Hochschule für Bildende Künste Dresden spricht am 02.12.2025 um 17:15 Uhr Sigrid Eyb-Green\, Akademie der bildenden Künste Wien zum Thema „Ordnung durch Erkenntnis. Eine Methodologie des Verstehens in der Restaurierung“. \nWeitere Infos\, Programm und Anmeldung
URL:https://www.restauratoren.de/termin/methodologie-des-verstehens-in-der-restaurierung/
CATEGORIES:Externe Veranstaltung
END:VEVENT
BEGIN:VEVENT
DTSTART;TZID=Europe/Paris:20251202T173000
DTEND;TZID=Europe/Paris:20251202T190000
DTSTAMP:20260422T040205
CREATED:20251101T100721Z
LAST-MODIFIED:20251101T100721Z
UID:10002196-1764696600-1764702000@www.restauratoren.de
SUMMARY:Zedernholz – Zeder oder Wacholder?
DESCRIPTION:Vortrag am 02.12.2025\, 17:30 Uhr\nDr. Jörg Weber\, Zedernholz – Zeder oder Wacholder? Aspekte zur Namensgebung und Geschichte des Holzes sowie seine Verwendung an friderizianischen Innenausstattungen in Potsdamer und Berliner Schlössern\n\nGastvorträge der Konservierung und Restaurierung im Wintersemester 2025/26 \n\n\nFachbereich STADT | BAU | KULTUR\n\n\n\nIm laufenden Wintersemester finden regelmäßig Gastvorträge statt\, organisiert vom Studiengang Konservierung und Restaurierung \n\n\nMit spannenden und informativen Vorträgen aus der Theorie und Praxis der Restaurierung läuten wir wieder die Gastvortragsreihe fürs Wintersemester 2025/26 ein. Sie finden jeweils an ausgewählten Dienstagabenden als Hybrid-Veranstaltungen um 17:30 Uhr im Haus D\, Raum 011 statt. \nDie Vorträge mit den anschließenden Diskussionen sind eine einmalige Gelegenheit\, Expert*innen aus der Konservierung und Restaurierung kennenzulernen und aus erster Hand etwas über ihre Themen und Projekte zu erfahren. \nSie können an den Vorträgen auch online via Zoom teilnehmen. \nEinwahldaten für die Teilnahme via Zoom: \n\n\nZoom-Link \n\n\nMeeting ID: 621 8957 7868 Passcode: 85929925
URL:https://www.restauratoren.de/termin/zedernholz-zeder-oder-wacholder/
CATEGORIES:Externe Veranstaltung
END:VEVENT
BEGIN:VEVENT
DTSTART;TZID=Europe/Paris:20251202T183000
DTEND;TZID=Europe/Paris:20251202T193000
DTSTAMP:20260422T040205
CREATED:20251101T103245Z
LAST-MODIFIED:20251101T103245Z
UID:10002200-1764700200-1764703800@www.restauratoren.de
SUMMARY:Treffen der Fachgruppe Kunsthandwerkliche Objekte
DESCRIPTION:Die Sprecherinnen der VDR-Fachgruppe Kunsthandwerkliche Objekte laden zum Online-Treffen mit Neuwahl des Sprecher:innengremiums für den 02.12.2025 ab 18:30 Uhr ein. \nMeeting der FG Kunsthandwerkliche Objekte mit Neuwahlen\n02.12.2025\, 18:30–20:00 Uhr (Europe/Amsterdam) \nNehmen Sie an meinem Meeting per Computer\, Tablet oder Smartphone teil.\nhttps://meet.goto.com/786091061 \nSie können sich auch über ein Telefon einwählen.\nZugangscode: 786-091-061\nGermany: +49 891 2140 2090 \nInstallieren Sie jetzt die App\, damit Sie für Ihr erstes Meeting bereit sind:\nhttps://meet.goto.com/install \n 
URL:https://www.restauratoren.de/termin/treffen-der-fachgruppe-kunsthandwerkliche-objekte-2/
CATEGORIES:FG Kunsthandwerkliche Objekte,VDR-Veranstaltung
ATTACH;FMTTYPE=image/jpeg:https://www.restauratoren.de/wp-content/uploads/2017/02/Kunsthandwerk.jpg
END:VEVENT
END:VCALENDAR