BEGIN:VCALENDAR
VERSION:2.0
PRODID:-//Verband der Restauratoren VDR - ECPv6.15.15//NONSGML v1.0//EN
CALSCALE:GREGORIAN
METHOD:PUBLISH
X-ORIGINAL-URL:https://www.restauratoren.de
X-WR-CALDESC:Veranstaltungen für Verband der Restauratoren VDR
REFRESH-INTERVAL;VALUE=DURATION:PT1H
X-Robots-Tag:noindex
X-PUBLISHED-TTL:PT1H
BEGIN:VTIMEZONE
TZID:Europe/Paris
BEGIN:DAYLIGHT
TZOFFSETFROM:+0100
TZOFFSETTO:+0200
TZNAME:CEST
DTSTART:20250330T010000
END:DAYLIGHT
BEGIN:STANDARD
TZOFFSETFROM:+0200
TZOFFSETTO:+0100
TZNAME:CET
DTSTART:20251026T010000
END:STANDARD
BEGIN:DAYLIGHT
TZOFFSETFROM:+0100
TZOFFSETTO:+0200
TZNAME:CEST
DTSTART:20260329T010000
END:DAYLIGHT
BEGIN:STANDARD
TZOFFSETFROM:+0200
TZOFFSETTO:+0100
TZNAME:CET
DTSTART:20261025T010000
END:STANDARD
BEGIN:DAYLIGHT
TZOFFSETFROM:+0100
TZOFFSETTO:+0200
TZNAME:CEST
DTSTART:20270328T010000
END:DAYLIGHT
BEGIN:STANDARD
TZOFFSETFROM:+0200
TZOFFSETTO:+0100
TZNAME:CET
DTSTART:20271031T010000
END:STANDARD
END:VTIMEZONE
BEGIN:VEVENT
DTSTART;TZID=Europe/Paris:20260120T173000
DTEND;TZID=Europe/Paris:20260120T183000
DTSTAMP:20260425T143053
CREATED:20260115T165724Z
LAST-MODIFIED:20260115T165724Z
UID:10002224-1768930200-1768933800@www.restauratoren.de
SUMMARY:Vortrag „Repair\, Color\, Research“
DESCRIPTION:Der Studiengang Konservierung und Restaurierung der FH Potsdam lädt zum Gastvortrag am 20.01.2026 um 17:30 Uhr mit Dr. Birgit Schlieps im Hörsaal D011 zum Thema „Repair\, Color\, Research“ ein. \nIn ihrem Vortrag „Repair\, Color\, Research“ beschäftigt sie sich mit dem Verhältnis von Farbe\, Raum und Erhaltung als Strategien eines gesellschaftlichen Bewusstseins des Bewahrens. Im Zentrum stehen dabei Begriffe und Praktiken wie Wiederaneignung\, architektonische Taxidermie\, Reparatur (als gesellschaftlicher Prozess)\, Sorgearbeit\, situative Installation u. a. Als Bezugs- und Anschauungsbeispiele dienen unter anderem Bauten der Moderne (Bruno Taut in Dahlewitz\, Konstantin Melnikov in Moskau\, Polychromie bei Le Corbusier\, das Museum für Kunst und Gewerbe Hamburg)\, historische Farbpaletten\, konservierte Farbproben sowie die Ausstellung The Great Repair und eigene Arbeiten von Dr. Birgit Schlieps. \nDer Vortrag wird auch via Zoom übertragen\, unter dem folgenden Link: \nhttps://fh-potsdam.zoom-x.de/j/68321935738 \nMeeting ID: 621 8957 7868 \nPasscode: 85929925
URL:https://www.restauratoren.de/termin/vortrag-repair-color-research/
CATEGORIES:Externe Veranstaltung
END:VEVENT
END:VCALENDAR