BEGIN:VCALENDAR
VERSION:2.0
PRODID:-//Verband der Restauratoren VDR - ECPv6.15.15//NONSGML v1.0//EN
CALSCALE:GREGORIAN
METHOD:PUBLISH
X-WR-CALNAME:Verband der Restauratoren VDR
X-ORIGINAL-URL:https://www.restauratoren.de
X-WR-CALDESC:Veranstaltungen für Verband der Restauratoren VDR
REFRESH-INTERVAL;VALUE=DURATION:PT1H
X-Robots-Tag:noindex
X-PUBLISHED-TTL:PT1H
BEGIN:VTIMEZONE
TZID:Europe/Paris
BEGIN:DAYLIGHT
TZOFFSETFROM:+0100
TZOFFSETTO:+0200
TZNAME:CEST
DTSTART:20250330T010000
END:DAYLIGHT
BEGIN:STANDARD
TZOFFSETFROM:+0200
TZOFFSETTO:+0100
TZNAME:CET
DTSTART:20251026T010000
END:STANDARD
BEGIN:DAYLIGHT
TZOFFSETFROM:+0100
TZOFFSETTO:+0200
TZNAME:CEST
DTSTART:20260329T010000
END:DAYLIGHT
BEGIN:STANDARD
TZOFFSETFROM:+0200
TZOFFSETTO:+0100
TZNAME:CET
DTSTART:20261025T010000
END:STANDARD
BEGIN:DAYLIGHT
TZOFFSETFROM:+0100
TZOFFSETTO:+0200
TZNAME:CEST
DTSTART:20270328T010000
END:DAYLIGHT
BEGIN:STANDARD
TZOFFSETFROM:+0200
TZOFFSETTO:+0100
TZNAME:CET
DTSTART:20271031T010000
END:STANDARD
END:VTIMEZONE
BEGIN:VEVENT
DTSTART;VALUE=DATE:20260129
DTEND;VALUE=DATE:20260131
DTSTAMP:20260423T012823
CREATED:20251009T105046Z
LAST-MODIFIED:20251009T105046Z
UID:10002183-1769644800-1769817599@www.restauratoren.de
SUMMARY:Tagung "Glas ist Kulturerbe – Vom Wert handgefertigter Flachgläser"
DESCRIPTION:„Glas ist Kulturerbe – Vom Wert handgefertigter Flachgläser und deren Bedeutung in Gegenwart und Zukunft“\n  \nAnlass der Tagung ist die Eintragung der handwerklichen Flachglasfertigung in die Liste des Immateriellen Kulturerbes der UNESCO. Die Tagung rückt den Wert von Glas für die Gesellschaft und das gebaute Erbe in den Mittelpunkt. Besonderer Fokus liegt dabei auf mundgeblasenen und handgegossenen Flachgläsern sowie deren Bedeutung für die Denkmalpflege\, Architektur und Kulturerhaltung – gestern\, heute und morgen. \nDatum: 29. und 30. Januar 2026\nOrt: Glashütte Lamberts in Waldsassen \n\nDas erwartet Sie: \n\nFachvorträge von 16 Referentinnen und Referenten aus dem In- und Ausland\nThemen: Tradition und Innovation in der Glasherstellung\, technische Sonderlösungen\, Lichtschutz\, Restaurierungspraxis\, Umgang mit großen Schadensereignissen u.v.m.\nPraktische Beispiele aus nationalen und internationalen Denkmalpflegeprojekten\nAbendliches Get-Together in der historischen Ofenhalle mit Abendessen und persönlichem Austausch\nSonderführungen durch die Produktion handgefertigter Flachgläser\n\nDas Tagungsprogramm finden Sie unter folgendem Link: https://lamberts.de/seminare\n \nVeranstalter: Glashuette Lamberts Waldsassen GmbH
URL:https://www.restauratoren.de/termin/tagung-glas-ist-kulturerbe-vom-wert-handgefertigter-flachglaeser/
CATEGORIES:Externe Veranstaltung
END:VEVENT
END:VCALENDAR