BEGIN:VCALENDAR
VERSION:2.0
PRODID:-//Verband der Restauratoren VDR - ECPv6.15.15//NONSGML v1.0//EN
CALSCALE:GREGORIAN
METHOD:PUBLISH
X-WR-CALNAME:Verband der Restauratoren VDR
X-ORIGINAL-URL:https://www.restauratoren.de
X-WR-CALDESC:Veranstaltungen für Verband der Restauratoren VDR
REFRESH-INTERVAL;VALUE=DURATION:PT1H
X-Robots-Tag:noindex
X-PUBLISHED-TTL:PT1H
BEGIN:VTIMEZONE
TZID:Europe/Paris
BEGIN:DAYLIGHT
TZOFFSETFROM:+0100
TZOFFSETTO:+0200
TZNAME:CEST
DTSTART:20250330T010000
END:DAYLIGHT
BEGIN:STANDARD
TZOFFSETFROM:+0200
TZOFFSETTO:+0100
TZNAME:CET
DTSTART:20251026T010000
END:STANDARD
BEGIN:DAYLIGHT
TZOFFSETFROM:+0100
TZOFFSETTO:+0200
TZNAME:CEST
DTSTART:20260329T010000
END:DAYLIGHT
BEGIN:STANDARD
TZOFFSETFROM:+0200
TZOFFSETTO:+0100
TZNAME:CET
DTSTART:20261025T010000
END:STANDARD
BEGIN:DAYLIGHT
TZOFFSETFROM:+0100
TZOFFSETTO:+0200
TZNAME:CEST
DTSTART:20270328T010000
END:DAYLIGHT
BEGIN:STANDARD
TZOFFSETFROM:+0200
TZOFFSETTO:+0100
TZNAME:CET
DTSTART:20271031T010000
END:STANDARD
END:VTIMEZONE
BEGIN:VEVENT
DTSTART;TZID=Europe/Paris:20260218T160000
DTEND;TZID=Europe/Paris:20260218T170000
DTSTAMP:20260425T053958
CREATED:20260216T084623Z
LAST-MODIFIED:20260216T085720Z
UID:10002252-1771430400-1771434000@www.restauratoren.de
SUMMARY:Umgang mit Kulturgütern in sicherheitspolitischer Gefahrenlage
DESCRIPTION:Der Arbeitskreis Konservierung/Restaurierung im Deutschen Museumsbund hat am 18.02.2026 um 16 Uhr im DMB-Treff den Restaurator Alexander Gatzsche\, der auch Sonderbeauftragter für Militärischen Kulturgutschutz der Deutschen Gesellschaft für Kulturgutschutz e.V. ist\, mit einem wichtigen Thema zu Gast. \nDie aktuelle sicherheitspolitische Gefahrenlage erfordert es unter anderem\, dass sich Kultureinrichtungen wieder mit dem Thema des Umgangs mit ihren Kulturgütern im Zuge eines sich möglicher Weise ausbreitenden bewaffneten Konfliktes widmen müssen. Pläne und Strukturen die seit dem Kalten Krieg eigentlich schon für veraltet galten\, werden wieder herausgeholt und es wird versucht sich aktuellen Bedrohungen und damit einhergehenden Risikoanalysen zu stellen. \nDer Vortrag geht dabei insbesondere auf rechtliche Grundlagen\, zu erwartende Herausforderungen an Personal\, Logistik und Ressourcen im Zuge eines bewaffneten Konfliktes ein\, und detailliert mögliche Herangehensweisen für Museen\, Bibliotheken und Archive. \nEinwahl über Teams: https://teams.microsoft.com/meet/33249888209713?p=9UumbmkfdyoxpHPICe
URL:https://www.restauratoren.de/termin/umgang-mit-kulturguetern-in-sicherheitspolitischer-gefahrenlage/
CATEGORIES:Externe Veranstaltung
END:VEVENT
END:VCALENDAR