BEGIN:VCALENDAR
VERSION:2.0
PRODID:-//Verband der Restauratoren VDR - ECPv6.15.15//NONSGML v1.0//EN
CALSCALE:GREGORIAN
METHOD:PUBLISH
X-WR-CALNAME:Verband der Restauratoren VDR
X-ORIGINAL-URL:https://www.restauratoren.de
X-WR-CALDESC:Veranstaltungen für Verband der Restauratoren VDR
REFRESH-INTERVAL;VALUE=DURATION:PT1H
X-Robots-Tag:noindex
X-PUBLISHED-TTL:PT1H
BEGIN:VTIMEZONE
TZID:Europe/Paris
BEGIN:DAYLIGHT
TZOFFSETFROM:+0100
TZOFFSETTO:+0200
TZNAME:CEST
DTSTART:20250330T010000
END:DAYLIGHT
BEGIN:STANDARD
TZOFFSETFROM:+0200
TZOFFSETTO:+0100
TZNAME:CET
DTSTART:20251026T010000
END:STANDARD
BEGIN:DAYLIGHT
TZOFFSETFROM:+0100
TZOFFSETTO:+0200
TZNAME:CEST
DTSTART:20260329T010000
END:DAYLIGHT
BEGIN:STANDARD
TZOFFSETFROM:+0200
TZOFFSETTO:+0100
TZNAME:CET
DTSTART:20261025T010000
END:STANDARD
BEGIN:DAYLIGHT
TZOFFSETFROM:+0100
TZOFFSETTO:+0200
TZNAME:CEST
DTSTART:20270328T010000
END:DAYLIGHT
BEGIN:STANDARD
TZOFFSETFROM:+0200
TZOFFSETTO:+0100
TZNAME:CET
DTSTART:20271031T010000
END:STANDARD
END:VTIMEZONE
BEGIN:VEVENT
DTSTART;VALUE=DATE:20260315
DTEND;VALUE=DATE:20260316
DTSTAMP:20260425T215932
CREATED:20260115T164257Z
LAST-MODIFIED:20260115T164257Z
UID:10002223-1773532800-1773619199@www.restauratoren.de
SUMMARY:Call for Papers: ERC European Registrars Conference 26
DESCRIPTION:„Registrars Deutschland“ ist Gastgeber der European Registrars Conference (ERC) vom 04. bis 06.11.2026 in Berlin. Wir freuen uns 22 Jahre nach der ersten ERC in Deutschland erneut Ausrichter dieser zentralen Fachkonferenz für die Registrars der europäischen und internationalen Verbände zu sein. \nSeit mehr als drei Jahrzehnten sind Registrars in deutschen Museen\, Archiven\, Galerien und Sammlungen tätig. Unser Aufgabenfeld umfasst die Betreuung von Ausstellungen und Sammlungen\, die Organisation des nationalen und internationalen Leihverkehrs sowie die Klärung von Versicherungsfragen\, Facility Reports\, Verpackungs- und Transportanforderungen. Auch das Sammlungs- und Objektmanagement\, die Inventarisierung und die Pflege von Museumsdatenbanken gehören zu unserem Alltag. Darüber hinaus koordinieren wir Ausstellungsauf- und -abbauten\, erstellen und verantworten Budgets und vieles mehr. \nMit „Registrars Deutschland“ haben wir eine Plattform geschaffen\, die den fachlichen Austausch fördert und Standards setzt – national wie international. Wir arbeiten eng mit Kurator:innen\, Restaurator:innen sowie Sammlungs- und Depotleitungen zusammen und haben ein Qualifizierungsprogramm an der HTW Berlin etabliert. Die stetig wachsende Zahl der Registrars unterstreicht die Relevanz unserer Position in der Museumslandschaft: Während in Wolfsburg noch 430 Teilnehmende zusammenkamen\, waren es bei der letzten Konferenz in Rom bereits 900 Fachkolleg:innen. Für Berlin erwarten wir ein ähnlich großes Interesse. \nAbstract submission opens 23rd January 2026\nAbstract submission deadline 15th March 2026 \nFurther information about the conference and call for papers \n 
URL:https://www.restauratoren.de/termin/call-for-papers-erc-european-registrars-conference-26/
CATEGORIES:Call for Papers
END:VEVENT
END:VCALENDAR